BEGIN:VCALENDAR
VERSION:2.0
PRODID:-//Tillamook Area Chamber of Commerce - ECPv6.15.20//NONSGML v1.0//EN
CALSCALE:GREGORIAN
METHOD:PUBLISH
X-ORIGINAL-URL:https://tillamookchamber.org
X-WR-CALDESC:Events for Tillamook Area Chamber of Commerce
REFRESH-INTERVAL;VALUE=DURATION:PT1H
X-Robots-Tag:noindex
X-PUBLISHED-TTL:PT1H
BEGIN:VTIMEZONE
TZID:America/Los_Angeles
BEGIN:DAYLIGHT
TZOFFSETFROM:-0800
TZOFFSETTO:-0700
TZNAME:PDT
DTSTART:20270314T100000
END:DAYLIGHT
BEGIN:STANDARD
TZOFFSETFROM:-0700
TZOFFSETTO:-0800
TZNAME:PST
DTSTART:20271107T090000
END:STANDARD
BEGIN:DAYLIGHT
TZOFFSETFROM:-0800
TZOFFSETTO:-0700
TZNAME:PDT
DTSTART:20280312T100000
END:DAYLIGHT
BEGIN:STANDARD
TZOFFSETFROM:-0700
TZOFFSETTO:-0800
TZNAME:PST
DTSTART:20281105T090000
END:STANDARD
BEGIN:DAYLIGHT
TZOFFSETFROM:-0800
TZOFFSETTO:-0700
TZNAME:PDT
DTSTART:20290311T100000
END:DAYLIGHT
BEGIN:STANDARD
TZOFFSETFROM:-0700
TZOFFSETTO:-0800
TZNAME:PST
DTSTART:20291104T090000
END:STANDARD
END:VTIMEZONE
BEGIN:VEVENT
DTSTART;TZID=America/Los_Angeles:20280406T100000
DTEND;TZID=America/Los_Angeles:20280406T110000
DTSTAMP:20260423T045223
CREATED:20241226T211146Z
LAST-MODIFIED:20241226T211146Z
UID:10017629-1838628000-1838631600@tillamookchamber.org
SUMMARY:Family Storytime at Bay City Library
DESCRIPTION:Bring the whole family down to the Bay City Library for a fun storytime and activity every Thursday at 10am!
URL:https://tillamookchamber.org/event/family-storytime-at-bay-city-library-2/2028-04-06/
LOCATION:Bay City Library\, 5525 B St\, Bay City\, OR
CATEGORIES:Community,Family Fun
ATTACH;FMTTYPE=image/png:https://tillamookchamber.org/wp-content/uploads/2024/12/Bay-City-Storytime1.png
END:VEVENT
BEGIN:VEVENT
DTSTART;TZID=America/Los_Angeles:20280408T140000
DTEND;TZID=America/Los_Angeles:20280408T170000
DTSTAMP:20260423T045223
CREATED:20250306T184553Z
LAST-MODIFIED:20250306T184553Z
UID:10018874-1838815200-1838826000@tillamookchamber.org
SUMMARY:Maker Saturday at the Bay City Library
DESCRIPTION:Join us at the Bay City Branch Library on the 3rd Saturday of the month at 2:00pm and 5:00pm for Maker Saturday! Bring a project you have been working on or come and be inspired by the supplies we have.\n\nDo you have a new model or a LEGO kit you’ve been meaning to work on? Is there a painting or craft you’ve been wanting to start and/or finish? Are you looking for a place to get away for a while to work on your project?\n\nWe can help! Please note\, supplies are limited.
URL:https://tillamookchamber.org/event/maker-saturday-at-the-bay-city-library/2028-04-08/
LOCATION:Bay City Library\, 5525 B St\, Bay City\, OR
CATEGORIES:Community
ATTACH;FMTTYPE=image/png:https://tillamookchamber.org/wp-content/uploads/2025/03/maker_saturdays.png
END:VEVENT
BEGIN:VEVENT
DTSTART;TZID=America/Los_Angeles:20280413T100000
DTEND;TZID=America/Los_Angeles:20280413T110000
DTSTAMP:20260423T045223
CREATED:20241226T211146Z
LAST-MODIFIED:20241226T211146Z
UID:10017630-1839232800-1839236400@tillamookchamber.org
SUMMARY:Family Storytime at Bay City Library
DESCRIPTION:Bring the whole family down to the Bay City Library for a fun storytime and activity every Thursday at 10am!
URL:https://tillamookchamber.org/event/family-storytime-at-bay-city-library-2/2028-04-13/
LOCATION:Bay City Library\, 5525 B St\, Bay City\, OR
CATEGORIES:Community,Family Fun
ATTACH;FMTTYPE=image/png:https://tillamookchamber.org/wp-content/uploads/2024/12/Bay-City-Storytime1.png
END:VEVENT
BEGIN:VEVENT
DTSTART;TZID=America/Los_Angeles:20280415T140000
DTEND;TZID=America/Los_Angeles:20280415T170000
DTSTAMP:20260423T045223
CREATED:20250306T184553Z
LAST-MODIFIED:20250306T184553Z
UID:10018875-1839420000-1839430800@tillamookchamber.org
SUMMARY:Maker Saturday at the Bay City Library
DESCRIPTION:Join us at the Bay City Branch Library on the 3rd Saturday of the month at 2:00pm and 5:00pm for Maker Saturday! Bring a project you have been working on or come and be inspired by the supplies we have.\n\nDo you have a new model or a LEGO kit you’ve been meaning to work on? Is there a painting or craft you’ve been wanting to start and/or finish? Are you looking for a place to get away for a while to work on your project?\n\nWe can help! Please note\, supplies are limited.
URL:https://tillamookchamber.org/event/maker-saturday-at-the-bay-city-library/2028-04-15/
LOCATION:Bay City Library\, 5525 B St\, Bay City\, OR
CATEGORIES:Community
ATTACH;FMTTYPE=image/png:https://tillamookchamber.org/wp-content/uploads/2025/03/maker_saturdays.png
END:VEVENT
BEGIN:VEVENT
DTSTART;TZID=America/Los_Angeles:20280420T100000
DTEND;TZID=America/Los_Angeles:20280420T110000
DTSTAMP:20260423T045223
CREATED:20241226T211146Z
LAST-MODIFIED:20241226T211146Z
UID:10017631-1839837600-1839841200@tillamookchamber.org
SUMMARY:Family Storytime at Bay City Library
DESCRIPTION:Bring the whole family down to the Bay City Library for a fun storytime and activity every Thursday at 10am!
URL:https://tillamookchamber.org/event/family-storytime-at-bay-city-library-2/2028-04-20/
LOCATION:Bay City Library\, 5525 B St\, Bay City\, OR
CATEGORIES:Community,Family Fun
ATTACH;FMTTYPE=image/png:https://tillamookchamber.org/wp-content/uploads/2024/12/Bay-City-Storytime1.png
END:VEVENT
BEGIN:VEVENT
DTSTART;TZID=America/Los_Angeles:20280422T140000
DTEND;TZID=America/Los_Angeles:20280422T170000
DTSTAMP:20260423T045223
CREATED:20250306T184553Z
LAST-MODIFIED:20250306T184553Z
UID:10018876-1840024800-1840035600@tillamookchamber.org
SUMMARY:Maker Saturday at the Bay City Library
DESCRIPTION:Join us at the Bay City Branch Library on the 3rd Saturday of the month at 2:00pm and 5:00pm for Maker Saturday! Bring a project you have been working on or come and be inspired by the supplies we have.\n\nDo you have a new model or a LEGO kit you’ve been meaning to work on? Is there a painting or craft you’ve been wanting to start and/or finish? Are you looking for a place to get away for a while to work on your project?\n\nWe can help! Please note\, supplies are limited.
URL:https://tillamookchamber.org/event/maker-saturday-at-the-bay-city-library/2028-04-22/
LOCATION:Bay City Library\, 5525 B St\, Bay City\, OR
CATEGORIES:Community
ATTACH;FMTTYPE=image/png:https://tillamookchamber.org/wp-content/uploads/2025/03/maker_saturdays.png
END:VEVENT
BEGIN:VEVENT
DTSTART;TZID=America/Los_Angeles:20280427T100000
DTEND;TZID=America/Los_Angeles:20280427T110000
DTSTAMP:20260423T045223
CREATED:20241226T211146Z
LAST-MODIFIED:20241226T211146Z
UID:10017632-1840442400-1840446000@tillamookchamber.org
SUMMARY:Family Storytime at Bay City Library
DESCRIPTION:Bring the whole family down to the Bay City Library for a fun storytime and activity every Thursday at 10am!
URL:https://tillamookchamber.org/event/family-storytime-at-bay-city-library-2/2028-04-27/
LOCATION:Bay City Library\, 5525 B St\, Bay City\, OR
CATEGORIES:Community,Family Fun
ATTACH;FMTTYPE=image/png:https://tillamookchamber.org/wp-content/uploads/2024/12/Bay-City-Storytime1.png
END:VEVENT
BEGIN:VEVENT
DTSTART;TZID=America/Los_Angeles:20280429T140000
DTEND;TZID=America/Los_Angeles:20280429T170000
DTSTAMP:20260423T045223
CREATED:20250306T184553Z
LAST-MODIFIED:20250306T184553Z
UID:10018877-1840629600-1840640400@tillamookchamber.org
SUMMARY:Maker Saturday at the Bay City Library
DESCRIPTION:Join us at the Bay City Branch Library on the 3rd Saturday of the month at 2:00pm and 5:00pm for Maker Saturday! Bring a project you have been working on or come and be inspired by the supplies we have.\n\nDo you have a new model or a LEGO kit you’ve been meaning to work on? Is there a painting or craft you’ve been wanting to start and/or finish? Are you looking for a place to get away for a while to work on your project?\n\nWe can help! Please note\, supplies are limited.
URL:https://tillamookchamber.org/event/maker-saturday-at-the-bay-city-library/2028-04-29/
LOCATION:Bay City Library\, 5525 B St\, Bay City\, OR
CATEGORIES:Community
ATTACH;FMTTYPE=image/png:https://tillamookchamber.org/wp-content/uploads/2025/03/maker_saturdays.png
END:VEVENT
BEGIN:VEVENT
DTSTART;TZID=America/Los_Angeles:20280504T100000
DTEND;TZID=America/Los_Angeles:20280504T110000
DTSTAMP:20260423T045223
CREATED:20241226T211146Z
LAST-MODIFIED:20241226T211146Z
UID:10017633-1841047200-1841050800@tillamookchamber.org
SUMMARY:Family Storytime at Bay City Library
DESCRIPTION:Bring the whole family down to the Bay City Library for a fun storytime and activity every Thursday at 10am!
URL:https://tillamookchamber.org/event/family-storytime-at-bay-city-library-2/2028-05-04/
LOCATION:Bay City Library\, 5525 B St\, Bay City\, OR
CATEGORIES:Community,Family Fun
ATTACH;FMTTYPE=image/png:https://tillamookchamber.org/wp-content/uploads/2024/12/Bay-City-Storytime1.png
END:VEVENT
BEGIN:VEVENT
DTSTART;TZID=America/Los_Angeles:20280506T140000
DTEND;TZID=America/Los_Angeles:20280506T170000
DTSTAMP:20260423T045223
CREATED:20250306T184553Z
LAST-MODIFIED:20250306T184553Z
UID:10018878-1841234400-1841245200@tillamookchamber.org
SUMMARY:Maker Saturday at the Bay City Library
DESCRIPTION:Join us at the Bay City Branch Library on the 3rd Saturday of the month at 2:00pm and 5:00pm for Maker Saturday! Bring a project you have been working on or come and be inspired by the supplies we have.\n\nDo you have a new model or a LEGO kit you’ve been meaning to work on? Is there a painting or craft you’ve been wanting to start and/or finish? Are you looking for a place to get away for a while to work on your project?\n\nWe can help! Please note\, supplies are limited.
URL:https://tillamookchamber.org/event/maker-saturday-at-the-bay-city-library/2028-05-06/
LOCATION:Bay City Library\, 5525 B St\, Bay City\, OR
CATEGORIES:Community
ATTACH;FMTTYPE=image/png:https://tillamookchamber.org/wp-content/uploads/2025/03/maker_saturdays.png
END:VEVENT
BEGIN:VEVENT
DTSTART;TZID=America/Los_Angeles:20280511T100000
DTEND;TZID=America/Los_Angeles:20280511T110000
DTSTAMP:20260423T045223
CREATED:20241226T211146Z
LAST-MODIFIED:20241226T211146Z
UID:10017634-1841652000-1841655600@tillamookchamber.org
SUMMARY:Family Storytime at Bay City Library
DESCRIPTION:Bring the whole family down to the Bay City Library for a fun storytime and activity every Thursday at 10am!
URL:https://tillamookchamber.org/event/family-storytime-at-bay-city-library-2/2028-05-11/
LOCATION:Bay City Library\, 5525 B St\, Bay City\, OR
CATEGORIES:Community,Family Fun
ATTACH;FMTTYPE=image/png:https://tillamookchamber.org/wp-content/uploads/2024/12/Bay-City-Storytime1.png
END:VEVENT
BEGIN:VEVENT
DTSTART;TZID=America/Los_Angeles:20280513T140000
DTEND;TZID=America/Los_Angeles:20280513T170000
DTSTAMP:20260423T045223
CREATED:20250306T184553Z
LAST-MODIFIED:20250306T184553Z
UID:10018879-1841839200-1841850000@tillamookchamber.org
SUMMARY:Maker Saturday at the Bay City Library
DESCRIPTION:Join us at the Bay City Branch Library on the 3rd Saturday of the month at 2:00pm and 5:00pm for Maker Saturday! Bring a project you have been working on or come and be inspired by the supplies we have.\n\nDo you have a new model or a LEGO kit you’ve been meaning to work on? Is there a painting or craft you’ve been wanting to start and/or finish? Are you looking for a place to get away for a while to work on your project?\n\nWe can help! Please note\, supplies are limited.
URL:https://tillamookchamber.org/event/maker-saturday-at-the-bay-city-library/2028-05-13/
LOCATION:Bay City Library\, 5525 B St\, Bay City\, OR
CATEGORIES:Community
ATTACH;FMTTYPE=image/png:https://tillamookchamber.org/wp-content/uploads/2025/03/maker_saturdays.png
END:VEVENT
BEGIN:VEVENT
DTSTART;TZID=America/Los_Angeles:20280518T100000
DTEND;TZID=America/Los_Angeles:20280518T110000
DTSTAMP:20260423T045223
CREATED:20241226T211146Z
LAST-MODIFIED:20241226T211146Z
UID:10017635-1842256800-1842260400@tillamookchamber.org
SUMMARY:Family Storytime at Bay City Library
DESCRIPTION:Bring the whole family down to the Bay City Library for a fun storytime and activity every Thursday at 10am!
URL:https://tillamookchamber.org/event/family-storytime-at-bay-city-library-2/2028-05-18/
LOCATION:Bay City Library\, 5525 B St\, Bay City\, OR
CATEGORIES:Community,Family Fun
ATTACH;FMTTYPE=image/png:https://tillamookchamber.org/wp-content/uploads/2024/12/Bay-City-Storytime1.png
END:VEVENT
BEGIN:VEVENT
DTSTART;TZID=America/Los_Angeles:20280520T140000
DTEND;TZID=America/Los_Angeles:20280520T170000
DTSTAMP:20260423T045223
CREATED:20250306T184553Z
LAST-MODIFIED:20250306T184553Z
UID:10018880-1842444000-1842454800@tillamookchamber.org
SUMMARY:Maker Saturday at the Bay City Library
DESCRIPTION:Join us at the Bay City Branch Library on the 3rd Saturday of the month at 2:00pm and 5:00pm for Maker Saturday! Bring a project you have been working on or come and be inspired by the supplies we have.\n\nDo you have a new model or a LEGO kit you’ve been meaning to work on? Is there a painting or craft you’ve been wanting to start and/or finish? Are you looking for a place to get away for a while to work on your project?\n\nWe can help! Please note\, supplies are limited.
URL:https://tillamookchamber.org/event/maker-saturday-at-the-bay-city-library/2028-05-20/
LOCATION:Bay City Library\, 5525 B St\, Bay City\, OR
CATEGORIES:Community
ATTACH;FMTTYPE=image/png:https://tillamookchamber.org/wp-content/uploads/2025/03/maker_saturdays.png
END:VEVENT
BEGIN:VEVENT
DTSTART;TZID=America/Los_Angeles:20280525T100000
DTEND;TZID=America/Los_Angeles:20280525T110000
DTSTAMP:20260423T045223
CREATED:20241226T211146Z
LAST-MODIFIED:20241226T211146Z
UID:10017636-1842861600-1842865200@tillamookchamber.org
SUMMARY:Family Storytime at Bay City Library
DESCRIPTION:Bring the whole family down to the Bay City Library for a fun storytime and activity every Thursday at 10am!
URL:https://tillamookchamber.org/event/family-storytime-at-bay-city-library-2/2028-05-25/
LOCATION:Bay City Library\, 5525 B St\, Bay City\, OR
CATEGORIES:Community,Family Fun
ATTACH;FMTTYPE=image/png:https://tillamookchamber.org/wp-content/uploads/2024/12/Bay-City-Storytime1.png
END:VEVENT
BEGIN:VEVENT
DTSTART;TZID=America/Los_Angeles:20280527T140000
DTEND;TZID=America/Los_Angeles:20280527T170000
DTSTAMP:20260423T045223
CREATED:20250306T184553Z
LAST-MODIFIED:20250306T184553Z
UID:10018881-1843048800-1843059600@tillamookchamber.org
SUMMARY:Maker Saturday at the Bay City Library
DESCRIPTION:Join us at the Bay City Branch Library on the 3rd Saturday of the month at 2:00pm and 5:00pm for Maker Saturday! Bring a project you have been working on or come and be inspired by the supplies we have.\n\nDo you have a new model or a LEGO kit you’ve been meaning to work on? Is there a painting or craft you’ve been wanting to start and/or finish? Are you looking for a place to get away for a while to work on your project?\n\nWe can help! Please note\, supplies are limited.
URL:https://tillamookchamber.org/event/maker-saturday-at-the-bay-city-library/2028-05-27/
LOCATION:Bay City Library\, 5525 B St\, Bay City\, OR
CATEGORIES:Community
ATTACH;FMTTYPE=image/png:https://tillamookchamber.org/wp-content/uploads/2025/03/maker_saturdays.png
END:VEVENT
BEGIN:VEVENT
DTSTART;TZID=America/Los_Angeles:20280601T100000
DTEND;TZID=America/Los_Angeles:20280601T110000
DTSTAMP:20260423T045223
CREATED:20241226T211146Z
LAST-MODIFIED:20241226T211146Z
UID:10017637-1843466400-1843470000@tillamookchamber.org
SUMMARY:Family Storytime at Bay City Library
DESCRIPTION:Bring the whole family down to the Bay City Library for a fun storytime and activity every Thursday at 10am!
URL:https://tillamookchamber.org/event/family-storytime-at-bay-city-library-2/2028-06-01/
LOCATION:Bay City Library\, 5525 B St\, Bay City\, OR
CATEGORIES:Community,Family Fun
ATTACH;FMTTYPE=image/png:https://tillamookchamber.org/wp-content/uploads/2024/12/Bay-City-Storytime1.png
END:VEVENT
BEGIN:VEVENT
DTSTART;TZID=America/Los_Angeles:20280603T140000
DTEND;TZID=America/Los_Angeles:20280603T170000
DTSTAMP:20260423T045223
CREATED:20250306T184553Z
LAST-MODIFIED:20250306T184553Z
UID:10018882-1843653600-1843664400@tillamookchamber.org
SUMMARY:Maker Saturday at the Bay City Library
DESCRIPTION:Join us at the Bay City Branch Library on the 3rd Saturday of the month at 2:00pm and 5:00pm for Maker Saturday! Bring a project you have been working on or come and be inspired by the supplies we have.\n\nDo you have a new model or a LEGO kit you’ve been meaning to work on? Is there a painting or craft you’ve been wanting to start and/or finish? Are you looking for a place to get away for a while to work on your project?\n\nWe can help! Please note\, supplies are limited.
URL:https://tillamookchamber.org/event/maker-saturday-at-the-bay-city-library/2028-06-03/
LOCATION:Bay City Library\, 5525 B St\, Bay City\, OR
CATEGORIES:Community
ATTACH;FMTTYPE=image/png:https://tillamookchamber.org/wp-content/uploads/2025/03/maker_saturdays.png
END:VEVENT
BEGIN:VEVENT
DTSTART;TZID=America/Los_Angeles:20280608T100000
DTEND;TZID=America/Los_Angeles:20280608T110000
DTSTAMP:20260423T045223
CREATED:20241226T211146Z
LAST-MODIFIED:20241226T211146Z
UID:10017638-1844071200-1844074800@tillamookchamber.org
SUMMARY:Family Storytime at Bay City Library
DESCRIPTION:Bring the whole family down to the Bay City Library for a fun storytime and activity every Thursday at 10am!
URL:https://tillamookchamber.org/event/family-storytime-at-bay-city-library-2/2028-06-08/
LOCATION:Bay City Library\, 5525 B St\, Bay City\, OR
CATEGORIES:Community,Family Fun
ATTACH;FMTTYPE=image/png:https://tillamookchamber.org/wp-content/uploads/2024/12/Bay-City-Storytime1.png
END:VEVENT
BEGIN:VEVENT
DTSTART;TZID=America/Los_Angeles:20280610T140000
DTEND;TZID=America/Los_Angeles:20280610T170000
DTSTAMP:20260423T045223
CREATED:20250306T184553Z
LAST-MODIFIED:20250306T184553Z
UID:10018883-1844258400-1844269200@tillamookchamber.org
SUMMARY:Maker Saturday at the Bay City Library
DESCRIPTION:Join us at the Bay City Branch Library on the 3rd Saturday of the month at 2:00pm and 5:00pm for Maker Saturday! Bring a project you have been working on or come and be inspired by the supplies we have.\n\nDo you have a new model or a LEGO kit you’ve been meaning to work on? Is there a painting or craft you’ve been wanting to start and/or finish? Are you looking for a place to get away for a while to work on your project?\n\nWe can help! Please note\, supplies are limited.
URL:https://tillamookchamber.org/event/maker-saturday-at-the-bay-city-library/2028-06-10/
LOCATION:Bay City Library\, 5525 B St\, Bay City\, OR
CATEGORIES:Community
ATTACH;FMTTYPE=image/png:https://tillamookchamber.org/wp-content/uploads/2025/03/maker_saturdays.png
END:VEVENT
BEGIN:VEVENT
DTSTART;TZID=America/Los_Angeles:20280615T100000
DTEND;TZID=America/Los_Angeles:20280615T110000
DTSTAMP:20260423T045223
CREATED:20241226T211146Z
LAST-MODIFIED:20241226T211146Z
UID:10017639-1844676000-1844679600@tillamookchamber.org
SUMMARY:Family Storytime at Bay City Library
DESCRIPTION:Bring the whole family down to the Bay City Library for a fun storytime and activity every Thursday at 10am!
URL:https://tillamookchamber.org/event/family-storytime-at-bay-city-library-2/2028-06-15/
LOCATION:Bay City Library\, 5525 B St\, Bay City\, OR
CATEGORIES:Community,Family Fun
ATTACH;FMTTYPE=image/png:https://tillamookchamber.org/wp-content/uploads/2024/12/Bay-City-Storytime1.png
END:VEVENT
BEGIN:VEVENT
DTSTART;TZID=America/Los_Angeles:20280617T140000
DTEND;TZID=America/Los_Angeles:20280617T170000
DTSTAMP:20260423T045223
CREATED:20250306T184553Z
LAST-MODIFIED:20250306T184553Z
UID:10018884-1844863200-1844874000@tillamookchamber.org
SUMMARY:Maker Saturday at the Bay City Library
DESCRIPTION:Join us at the Bay City Branch Library on the 3rd Saturday of the month at 2:00pm and 5:00pm for Maker Saturday! Bring a project you have been working on or come and be inspired by the supplies we have.\n\nDo you have a new model or a LEGO kit you’ve been meaning to work on? Is there a painting or craft you’ve been wanting to start and/or finish? Are you looking for a place to get away for a while to work on your project?\n\nWe can help! Please note\, supplies are limited.
URL:https://tillamookchamber.org/event/maker-saturday-at-the-bay-city-library/2028-06-17/
LOCATION:Bay City Library\, 5525 B St\, Bay City\, OR
CATEGORIES:Community
ATTACH;FMTTYPE=image/png:https://tillamookchamber.org/wp-content/uploads/2025/03/maker_saturdays.png
END:VEVENT
BEGIN:VEVENT
DTSTART;TZID=America/Los_Angeles:20280622T100000
DTEND;TZID=America/Los_Angeles:20280622T110000
DTSTAMP:20260423T045223
CREATED:20241226T211146Z
LAST-MODIFIED:20241226T211146Z
UID:10017640-1845280800-1845284400@tillamookchamber.org
SUMMARY:Family Storytime at Bay City Library
DESCRIPTION:Bring the whole family down to the Bay City Library for a fun storytime and activity every Thursday at 10am!
URL:https://tillamookchamber.org/event/family-storytime-at-bay-city-library-2/2028-06-22/
LOCATION:Bay City Library\, 5525 B St\, Bay City\, OR
CATEGORIES:Community,Family Fun
ATTACH;FMTTYPE=image/png:https://tillamookchamber.org/wp-content/uploads/2024/12/Bay-City-Storytime1.png
END:VEVENT
BEGIN:VEVENT
DTSTART;TZID=America/Los_Angeles:20280624T140000
DTEND;TZID=America/Los_Angeles:20280624T170000
DTSTAMP:20260423T045223
CREATED:20250306T184553Z
LAST-MODIFIED:20250306T184553Z
UID:10018885-1845468000-1845478800@tillamookchamber.org
SUMMARY:Maker Saturday at the Bay City Library
DESCRIPTION:Join us at the Bay City Branch Library on the 3rd Saturday of the month at 2:00pm and 5:00pm for Maker Saturday! Bring a project you have been working on or come and be inspired by the supplies we have.\n\nDo you have a new model or a LEGO kit you’ve been meaning to work on? Is there a painting or craft you’ve been wanting to start and/or finish? Are you looking for a place to get away for a while to work on your project?\n\nWe can help! Please note\, supplies are limited.
URL:https://tillamookchamber.org/event/maker-saturday-at-the-bay-city-library/2028-06-24/
LOCATION:Bay City Library\, 5525 B St\, Bay City\, OR
CATEGORIES:Community
ATTACH;FMTTYPE=image/png:https://tillamookchamber.org/wp-content/uploads/2025/03/maker_saturdays.png
END:VEVENT
BEGIN:VEVENT
DTSTART;TZID=America/Los_Angeles:20280629T100000
DTEND;TZID=America/Los_Angeles:20280629T110000
DTSTAMP:20260423T045223
CREATED:20241226T211146Z
LAST-MODIFIED:20241226T211146Z
UID:10017641-1845885600-1845889200@tillamookchamber.org
SUMMARY:Family Storytime at Bay City Library
DESCRIPTION:Bring the whole family down to the Bay City Library for a fun storytime and activity every Thursday at 10am!
URL:https://tillamookchamber.org/event/family-storytime-at-bay-city-library-2/2028-06-29/
LOCATION:Bay City Library\, 5525 B St\, Bay City\, OR
CATEGORIES:Community,Family Fun
ATTACH;FMTTYPE=image/png:https://tillamookchamber.org/wp-content/uploads/2024/12/Bay-City-Storytime1.png
END:VEVENT
BEGIN:VEVENT
DTSTART;TZID=America/Los_Angeles:20280701T140000
DTEND;TZID=America/Los_Angeles:20280701T170000
DTSTAMP:20260423T045223
CREATED:20250306T184553Z
LAST-MODIFIED:20250306T184553Z
UID:10018886-1846072800-1846083600@tillamookchamber.org
SUMMARY:Maker Saturday at the Bay City Library
DESCRIPTION:Join us at the Bay City Branch Library on the 3rd Saturday of the month at 2:00pm and 5:00pm for Maker Saturday! Bring a project you have been working on or come and be inspired by the supplies we have.\n\nDo you have a new model or a LEGO kit you’ve been meaning to work on? Is there a painting or craft you’ve been wanting to start and/or finish? Are you looking for a place to get away for a while to work on your project?\n\nWe can help! Please note\, supplies are limited.
URL:https://tillamookchamber.org/event/maker-saturday-at-the-bay-city-library/2028-07-01/
LOCATION:Bay City Library\, 5525 B St\, Bay City\, OR
CATEGORIES:Community
ATTACH;FMTTYPE=image/png:https://tillamookchamber.org/wp-content/uploads/2025/03/maker_saturdays.png
END:VEVENT
BEGIN:VEVENT
DTSTART;TZID=America/Los_Angeles:20280706T100000
DTEND;TZID=America/Los_Angeles:20280706T110000
DTSTAMP:20260423T045223
CREATED:20241226T211146Z
LAST-MODIFIED:20241226T211146Z
UID:10017642-1846490400-1846494000@tillamookchamber.org
SUMMARY:Family Storytime at Bay City Library
DESCRIPTION:Bring the whole family down to the Bay City Library for a fun storytime and activity every Thursday at 10am!
URL:https://tillamookchamber.org/event/family-storytime-at-bay-city-library-2/2028-07-06/
LOCATION:Bay City Library\, 5525 B St\, Bay City\, OR
CATEGORIES:Community,Family Fun
ATTACH;FMTTYPE=image/png:https://tillamookchamber.org/wp-content/uploads/2024/12/Bay-City-Storytime1.png
END:VEVENT
BEGIN:VEVENT
DTSTART;TZID=America/Los_Angeles:20280708T140000
DTEND;TZID=America/Los_Angeles:20280708T170000
DTSTAMP:20260423T045223
CREATED:20250306T184553Z
LAST-MODIFIED:20250306T184553Z
UID:10018887-1846677600-1846688400@tillamookchamber.org
SUMMARY:Maker Saturday at the Bay City Library
DESCRIPTION:Join us at the Bay City Branch Library on the 3rd Saturday of the month at 2:00pm and 5:00pm for Maker Saturday! Bring a project you have been working on or come and be inspired by the supplies we have.\n\nDo you have a new model or a LEGO kit you’ve been meaning to work on? Is there a painting or craft you’ve been wanting to start and/or finish? Are you looking for a place to get away for a while to work on your project?\n\nWe can help! Please note\, supplies are limited.
URL:https://tillamookchamber.org/event/maker-saturday-at-the-bay-city-library/2028-07-08/
LOCATION:Bay City Library\, 5525 B St\, Bay City\, OR
CATEGORIES:Community
ATTACH;FMTTYPE=image/png:https://tillamookchamber.org/wp-content/uploads/2025/03/maker_saturdays.png
END:VEVENT
BEGIN:VEVENT
DTSTART;TZID=America/Los_Angeles:20280713T100000
DTEND;TZID=America/Los_Angeles:20280713T110000
DTSTAMP:20260423T045223
CREATED:20241226T211146Z
LAST-MODIFIED:20241226T211146Z
UID:10017643-1847095200-1847098800@tillamookchamber.org
SUMMARY:Family Storytime at Bay City Library
DESCRIPTION:Bring the whole family down to the Bay City Library for a fun storytime and activity every Thursday at 10am!
URL:https://tillamookchamber.org/event/family-storytime-at-bay-city-library-2/2028-07-13/
LOCATION:Bay City Library\, 5525 B St\, Bay City\, OR
CATEGORIES:Community,Family Fun
ATTACH;FMTTYPE=image/png:https://tillamookchamber.org/wp-content/uploads/2024/12/Bay-City-Storytime1.png
END:VEVENT
BEGIN:VEVENT
DTSTART;TZID=America/Los_Angeles:20280715T140000
DTEND;TZID=America/Los_Angeles:20280715T170000
DTSTAMP:20260423T045223
CREATED:20250306T184553Z
LAST-MODIFIED:20250306T184553Z
UID:10018888-1847282400-1847293200@tillamookchamber.org
SUMMARY:Maker Saturday at the Bay City Library
DESCRIPTION:Join us at the Bay City Branch Library on the 3rd Saturday of the month at 2:00pm and 5:00pm for Maker Saturday! Bring a project you have been working on or come and be inspired by the supplies we have.\n\nDo you have a new model or a LEGO kit you’ve been meaning to work on? Is there a painting or craft you’ve been wanting to start and/or finish? Are you looking for a place to get away for a while to work on your project?\n\nWe can help! Please note\, supplies are limited.
URL:https://tillamookchamber.org/event/maker-saturday-at-the-bay-city-library/2028-07-15/
LOCATION:Bay City Library\, 5525 B St\, Bay City\, OR
CATEGORIES:Community
ATTACH;FMTTYPE=image/png:https://tillamookchamber.org/wp-content/uploads/2025/03/maker_saturdays.png
END:VEVENT
END:VCALENDAR