BEGIN:VCALENDAR
VERSION:2.0
PRODID:-//Tillamook Area Chamber of Commerce - ECPv6.15.20//NONSGML v1.0//EN
CALSCALE:GREGORIAN
METHOD:PUBLISH
X-ORIGINAL-URL:https://tillamookchamber.org
X-WR-CALDESC:Events for Tillamook Area Chamber of Commerce
REFRESH-INTERVAL;VALUE=DURATION:PT1H
X-Robots-Tag:noindex
X-PUBLISHED-TTL:PT1H
BEGIN:VTIMEZONE
TZID:America/Los_Angeles
BEGIN:DAYLIGHT
TZOFFSETFROM:-0800
TZOFFSETTO:-0700
TZNAME:PDT
DTSTART:20270314T100000
END:DAYLIGHT
BEGIN:STANDARD
TZOFFSETFROM:-0700
TZOFFSETTO:-0800
TZNAME:PST
DTSTART:20271107T090000
END:STANDARD
BEGIN:DAYLIGHT
TZOFFSETFROM:-0800
TZOFFSETTO:-0700
TZNAME:PDT
DTSTART:20280312T100000
END:DAYLIGHT
BEGIN:STANDARD
TZOFFSETFROM:-0700
TZOFFSETTO:-0800
TZNAME:PST
DTSTART:20281105T090000
END:STANDARD
BEGIN:DAYLIGHT
TZOFFSETFROM:-0800
TZOFFSETTO:-0700
TZNAME:PDT
DTSTART:20290311T100000
END:DAYLIGHT
BEGIN:STANDARD
TZOFFSETFROM:-0700
TZOFFSETTO:-0800
TZNAME:PST
DTSTART:20291104T090000
END:STANDARD
END:VTIMEZONE
BEGIN:VEVENT
DTSTART;TZID=America/Los_Angeles:20280113T100000
DTEND;TZID=America/Los_Angeles:20280113T110000
DTSTAMP:20260422T212355
CREATED:20241226T211146Z
LAST-MODIFIED:20241226T211146Z
UID:10017617-1831370400-1831374000@tillamookchamber.org
SUMMARY:Family Storytime at Bay City Library
DESCRIPTION:Bring the whole family down to the Bay City Library for a fun storytime and activity every Thursday at 10am!
URL:https://tillamookchamber.org/event/family-storytime-at-bay-city-library-2/2028-01-13/
LOCATION:Bay City Library\, 5525 B St\, Bay City\, OR
CATEGORIES:Community,Family Fun
ATTACH;FMTTYPE=image/png:https://tillamookchamber.org/wp-content/uploads/2024/12/Bay-City-Storytime1.png
END:VEVENT
BEGIN:VEVENT
DTSTART;TZID=America/Los_Angeles:20280115T140000
DTEND;TZID=America/Los_Angeles:20280115T170000
DTSTAMP:20260422T212355
CREATED:20250306T184553Z
LAST-MODIFIED:20250306T184553Z
UID:10018862-1831557600-1831568400@tillamookchamber.org
SUMMARY:Maker Saturday at the Bay City Library
DESCRIPTION:Join us at the Bay City Branch Library on the 3rd Saturday of the month at 2:00pm and 5:00pm for Maker Saturday! Bring a project you have been working on or come and be inspired by the supplies we have.\n\nDo you have a new model or a LEGO kit you’ve been meaning to work on? Is there a painting or craft you’ve been wanting to start and/or finish? Are you looking for a place to get away for a while to work on your project?\n\nWe can help! Please note\, supplies are limited.
URL:https://tillamookchamber.org/event/maker-saturday-at-the-bay-city-library/2028-01-15/
LOCATION:Bay City Library\, 5525 B St\, Bay City\, OR
CATEGORIES:Community
ATTACH;FMTTYPE=image/png:https://tillamookchamber.org/wp-content/uploads/2025/03/maker_saturdays.png
END:VEVENT
BEGIN:VEVENT
DTSTART;TZID=America/Los_Angeles:20280120T100000
DTEND;TZID=America/Los_Angeles:20280120T110000
DTSTAMP:20260422T212355
CREATED:20241226T211146Z
LAST-MODIFIED:20241226T211146Z
UID:10017618-1831975200-1831978800@tillamookchamber.org
SUMMARY:Family Storytime at Bay City Library
DESCRIPTION:Bring the whole family down to the Bay City Library for a fun storytime and activity every Thursday at 10am!
URL:https://tillamookchamber.org/event/family-storytime-at-bay-city-library-2/2028-01-20/
LOCATION:Bay City Library\, 5525 B St\, Bay City\, OR
CATEGORIES:Community,Family Fun
ATTACH;FMTTYPE=image/png:https://tillamookchamber.org/wp-content/uploads/2024/12/Bay-City-Storytime1.png
END:VEVENT
BEGIN:VEVENT
DTSTART;TZID=America/Los_Angeles:20280122T140000
DTEND;TZID=America/Los_Angeles:20280122T170000
DTSTAMP:20260422T212355
CREATED:20250306T184553Z
LAST-MODIFIED:20250306T184553Z
UID:10018863-1832162400-1832173200@tillamookchamber.org
SUMMARY:Maker Saturday at the Bay City Library
DESCRIPTION:Join us at the Bay City Branch Library on the 3rd Saturday of the month at 2:00pm and 5:00pm for Maker Saturday! Bring a project you have been working on or come and be inspired by the supplies we have.\n\nDo you have a new model or a LEGO kit you’ve been meaning to work on? Is there a painting or craft you’ve been wanting to start and/or finish? Are you looking for a place to get away for a while to work on your project?\n\nWe can help! Please note\, supplies are limited.
URL:https://tillamookchamber.org/event/maker-saturday-at-the-bay-city-library/2028-01-22/
LOCATION:Bay City Library\, 5525 B St\, Bay City\, OR
CATEGORIES:Community
ATTACH;FMTTYPE=image/png:https://tillamookchamber.org/wp-content/uploads/2025/03/maker_saturdays.png
END:VEVENT
BEGIN:VEVENT
DTSTART;TZID=America/Los_Angeles:20280127T100000
DTEND;TZID=America/Los_Angeles:20280127T110000
DTSTAMP:20260422T212355
CREATED:20241226T211146Z
LAST-MODIFIED:20241226T211146Z
UID:10017619-1832580000-1832583600@tillamookchamber.org
SUMMARY:Family Storytime at Bay City Library
DESCRIPTION:Bring the whole family down to the Bay City Library for a fun storytime and activity every Thursday at 10am!
URL:https://tillamookchamber.org/event/family-storytime-at-bay-city-library-2/2028-01-27/
LOCATION:Bay City Library\, 5525 B St\, Bay City\, OR
CATEGORIES:Community,Family Fun
ATTACH;FMTTYPE=image/png:https://tillamookchamber.org/wp-content/uploads/2024/12/Bay-City-Storytime1.png
END:VEVENT
BEGIN:VEVENT
DTSTART;TZID=America/Los_Angeles:20280129T140000
DTEND;TZID=America/Los_Angeles:20280129T170000
DTSTAMP:20260422T212355
CREATED:20250306T184553Z
LAST-MODIFIED:20250306T184553Z
UID:10018864-1832767200-1832778000@tillamookchamber.org
SUMMARY:Maker Saturday at the Bay City Library
DESCRIPTION:Join us at the Bay City Branch Library on the 3rd Saturday of the month at 2:00pm and 5:00pm for Maker Saturday! Bring a project you have been working on or come and be inspired by the supplies we have.\n\nDo you have a new model or a LEGO kit you’ve been meaning to work on? Is there a painting or craft you’ve been wanting to start and/or finish? Are you looking for a place to get away for a while to work on your project?\n\nWe can help! Please note\, supplies are limited.
URL:https://tillamookchamber.org/event/maker-saturday-at-the-bay-city-library/2028-01-29/
LOCATION:Bay City Library\, 5525 B St\, Bay City\, OR
CATEGORIES:Community
ATTACH;FMTTYPE=image/png:https://tillamookchamber.org/wp-content/uploads/2025/03/maker_saturdays.png
END:VEVENT
BEGIN:VEVENT
DTSTART;TZID=America/Los_Angeles:20280203T100000
DTEND;TZID=America/Los_Angeles:20280203T110000
DTSTAMP:20260422T212355
CREATED:20241226T211146Z
LAST-MODIFIED:20241226T211146Z
UID:10017620-1833184800-1833188400@tillamookchamber.org
SUMMARY:Family Storytime at Bay City Library
DESCRIPTION:Bring the whole family down to the Bay City Library for a fun storytime and activity every Thursday at 10am!
URL:https://tillamookchamber.org/event/family-storytime-at-bay-city-library-2/2028-02-03/
LOCATION:Bay City Library\, 5525 B St\, Bay City\, OR
CATEGORIES:Community,Family Fun
ATTACH;FMTTYPE=image/png:https://tillamookchamber.org/wp-content/uploads/2024/12/Bay-City-Storytime1.png
END:VEVENT
BEGIN:VEVENT
DTSTART;TZID=America/Los_Angeles:20280205T140000
DTEND;TZID=America/Los_Angeles:20280205T170000
DTSTAMP:20260422T212355
CREATED:20250306T184553Z
LAST-MODIFIED:20250306T184553Z
UID:10018865-1833372000-1833382800@tillamookchamber.org
SUMMARY:Maker Saturday at the Bay City Library
DESCRIPTION:Join us at the Bay City Branch Library on the 3rd Saturday of the month at 2:00pm and 5:00pm for Maker Saturday! Bring a project you have been working on or come and be inspired by the supplies we have.\n\nDo you have a new model or a LEGO kit you’ve been meaning to work on? Is there a painting or craft you’ve been wanting to start and/or finish? Are you looking for a place to get away for a while to work on your project?\n\nWe can help! Please note\, supplies are limited.
URL:https://tillamookchamber.org/event/maker-saturday-at-the-bay-city-library/2028-02-05/
LOCATION:Bay City Library\, 5525 B St\, Bay City\, OR
CATEGORIES:Community
ATTACH;FMTTYPE=image/png:https://tillamookchamber.org/wp-content/uploads/2025/03/maker_saturdays.png
END:VEVENT
BEGIN:VEVENT
DTSTART;TZID=America/Los_Angeles:20280210T100000
DTEND;TZID=America/Los_Angeles:20280210T110000
DTSTAMP:20260422T212355
CREATED:20241226T211146Z
LAST-MODIFIED:20241226T211146Z
UID:10017621-1833789600-1833793200@tillamookchamber.org
SUMMARY:Family Storytime at Bay City Library
DESCRIPTION:Bring the whole family down to the Bay City Library for a fun storytime and activity every Thursday at 10am!
URL:https://tillamookchamber.org/event/family-storytime-at-bay-city-library-2/2028-02-10/
LOCATION:Bay City Library\, 5525 B St\, Bay City\, OR
CATEGORIES:Community,Family Fun
ATTACH;FMTTYPE=image/png:https://tillamookchamber.org/wp-content/uploads/2024/12/Bay-City-Storytime1.png
END:VEVENT
BEGIN:VEVENT
DTSTART;TZID=America/Los_Angeles:20280212T140000
DTEND;TZID=America/Los_Angeles:20280212T170000
DTSTAMP:20260422T212355
CREATED:20250306T184553Z
LAST-MODIFIED:20250306T184553Z
UID:10018866-1833976800-1833987600@tillamookchamber.org
SUMMARY:Maker Saturday at the Bay City Library
DESCRIPTION:Join us at the Bay City Branch Library on the 3rd Saturday of the month at 2:00pm and 5:00pm for Maker Saturday! Bring a project you have been working on or come and be inspired by the supplies we have.\n\nDo you have a new model or a LEGO kit you’ve been meaning to work on? Is there a painting or craft you’ve been wanting to start and/or finish? Are you looking for a place to get away for a while to work on your project?\n\nWe can help! Please note\, supplies are limited.
URL:https://tillamookchamber.org/event/maker-saturday-at-the-bay-city-library/2028-02-12/
LOCATION:Bay City Library\, 5525 B St\, Bay City\, OR
CATEGORIES:Community
ATTACH;FMTTYPE=image/png:https://tillamookchamber.org/wp-content/uploads/2025/03/maker_saturdays.png
END:VEVENT
BEGIN:VEVENT
DTSTART;TZID=America/Los_Angeles:20280217T100000
DTEND;TZID=America/Los_Angeles:20280217T110000
DTSTAMP:20260422T212355
CREATED:20241226T211146Z
LAST-MODIFIED:20241226T211146Z
UID:10017622-1834394400-1834398000@tillamookchamber.org
SUMMARY:Family Storytime at Bay City Library
DESCRIPTION:Bring the whole family down to the Bay City Library for a fun storytime and activity every Thursday at 10am!
URL:https://tillamookchamber.org/event/family-storytime-at-bay-city-library-2/2028-02-17/
LOCATION:Bay City Library\, 5525 B St\, Bay City\, OR
CATEGORIES:Community,Family Fun
ATTACH;FMTTYPE=image/png:https://tillamookchamber.org/wp-content/uploads/2024/12/Bay-City-Storytime1.png
END:VEVENT
BEGIN:VEVENT
DTSTART;TZID=America/Los_Angeles:20280219T140000
DTEND;TZID=America/Los_Angeles:20280219T170000
DTSTAMP:20260422T212355
CREATED:20250306T184553Z
LAST-MODIFIED:20250306T184553Z
UID:10018867-1834581600-1834592400@tillamookchamber.org
SUMMARY:Maker Saturday at the Bay City Library
DESCRIPTION:Join us at the Bay City Branch Library on the 3rd Saturday of the month at 2:00pm and 5:00pm for Maker Saturday! Bring a project you have been working on or come and be inspired by the supplies we have.\n\nDo you have a new model or a LEGO kit you’ve been meaning to work on? Is there a painting or craft you’ve been wanting to start and/or finish? Are you looking for a place to get away for a while to work on your project?\n\nWe can help! Please note\, supplies are limited.
URL:https://tillamookchamber.org/event/maker-saturday-at-the-bay-city-library/2028-02-19/
LOCATION:Bay City Library\, 5525 B St\, Bay City\, OR
CATEGORIES:Community
ATTACH;FMTTYPE=image/png:https://tillamookchamber.org/wp-content/uploads/2025/03/maker_saturdays.png
END:VEVENT
BEGIN:VEVENT
DTSTART;TZID=America/Los_Angeles:20280224T100000
DTEND;TZID=America/Los_Angeles:20280224T110000
DTSTAMP:20260422T212355
CREATED:20241226T211146Z
LAST-MODIFIED:20241226T211146Z
UID:10017623-1834999200-1835002800@tillamookchamber.org
SUMMARY:Family Storytime at Bay City Library
DESCRIPTION:Bring the whole family down to the Bay City Library for a fun storytime and activity every Thursday at 10am!
URL:https://tillamookchamber.org/event/family-storytime-at-bay-city-library-2/2028-02-24/
LOCATION:Bay City Library\, 5525 B St\, Bay City\, OR
CATEGORIES:Community,Family Fun
ATTACH;FMTTYPE=image/png:https://tillamookchamber.org/wp-content/uploads/2024/12/Bay-City-Storytime1.png
END:VEVENT
BEGIN:VEVENT
DTSTART;TZID=America/Los_Angeles:20280226T140000
DTEND;TZID=America/Los_Angeles:20280226T170000
DTSTAMP:20260422T212355
CREATED:20250306T184553Z
LAST-MODIFIED:20250306T184553Z
UID:10018868-1835186400-1835197200@tillamookchamber.org
SUMMARY:Maker Saturday at the Bay City Library
DESCRIPTION:Join us at the Bay City Branch Library on the 3rd Saturday of the month at 2:00pm and 5:00pm for Maker Saturday! Bring a project you have been working on or come and be inspired by the supplies we have.\n\nDo you have a new model or a LEGO kit you’ve been meaning to work on? Is there a painting or craft you’ve been wanting to start and/or finish? Are you looking for a place to get away for a while to work on your project?\n\nWe can help! Please note\, supplies are limited.
URL:https://tillamookchamber.org/event/maker-saturday-at-the-bay-city-library/2028-02-26/
LOCATION:Bay City Library\, 5525 B St\, Bay City\, OR
CATEGORIES:Community
ATTACH;FMTTYPE=image/png:https://tillamookchamber.org/wp-content/uploads/2025/03/maker_saturdays.png
END:VEVENT
BEGIN:VEVENT
DTSTART;TZID=America/Los_Angeles:20280302T100000
DTEND;TZID=America/Los_Angeles:20280302T110000
DTSTAMP:20260422T212355
CREATED:20241226T211146Z
LAST-MODIFIED:20241226T211146Z
UID:10017624-1835604000-1835607600@tillamookchamber.org
SUMMARY:Family Storytime at Bay City Library
DESCRIPTION:Bring the whole family down to the Bay City Library for a fun storytime and activity every Thursday at 10am!
URL:https://tillamookchamber.org/event/family-storytime-at-bay-city-library-2/2028-03-02/
LOCATION:Bay City Library\, 5525 B St\, Bay City\, OR
CATEGORIES:Community,Family Fun
ATTACH;FMTTYPE=image/png:https://tillamookchamber.org/wp-content/uploads/2024/12/Bay-City-Storytime1.png
END:VEVENT
BEGIN:VEVENT
DTSTART;TZID=America/Los_Angeles:20280304T140000
DTEND;TZID=America/Los_Angeles:20280304T170000
DTSTAMP:20260422T212355
CREATED:20250306T184553Z
LAST-MODIFIED:20250306T184553Z
UID:10018869-1835791200-1835802000@tillamookchamber.org
SUMMARY:Maker Saturday at the Bay City Library
DESCRIPTION:Join us at the Bay City Branch Library on the 3rd Saturday of the month at 2:00pm and 5:00pm for Maker Saturday! Bring a project you have been working on or come and be inspired by the supplies we have.\n\nDo you have a new model or a LEGO kit you’ve been meaning to work on? Is there a painting or craft you’ve been wanting to start and/or finish? Are you looking for a place to get away for a while to work on your project?\n\nWe can help! Please note\, supplies are limited.
URL:https://tillamookchamber.org/event/maker-saturday-at-the-bay-city-library/2028-03-04/
LOCATION:Bay City Library\, 5525 B St\, Bay City\, OR
CATEGORIES:Community
ATTACH;FMTTYPE=image/png:https://tillamookchamber.org/wp-content/uploads/2025/03/maker_saturdays.png
END:VEVENT
BEGIN:VEVENT
DTSTART;TZID=America/Los_Angeles:20280309T100000
DTEND;TZID=America/Los_Angeles:20280309T110000
DTSTAMP:20260422T212355
CREATED:20241226T211146Z
LAST-MODIFIED:20241226T211146Z
UID:10017625-1836208800-1836212400@tillamookchamber.org
SUMMARY:Family Storytime at Bay City Library
DESCRIPTION:Bring the whole family down to the Bay City Library for a fun storytime and activity every Thursday at 10am!
URL:https://tillamookchamber.org/event/family-storytime-at-bay-city-library-2/2028-03-09/
LOCATION:Bay City Library\, 5525 B St\, Bay City\, OR
CATEGORIES:Community,Family Fun
ATTACH;FMTTYPE=image/png:https://tillamookchamber.org/wp-content/uploads/2024/12/Bay-City-Storytime1.png
END:VEVENT
BEGIN:VEVENT
DTSTART;TZID=America/Los_Angeles:20280311T140000
DTEND;TZID=America/Los_Angeles:20280311T170000
DTSTAMP:20260422T212355
CREATED:20250306T184553Z
LAST-MODIFIED:20250306T184553Z
UID:10018870-1836396000-1836406800@tillamookchamber.org
SUMMARY:Maker Saturday at the Bay City Library
DESCRIPTION:Join us at the Bay City Branch Library on the 3rd Saturday of the month at 2:00pm and 5:00pm for Maker Saturday! Bring a project you have been working on or come and be inspired by the supplies we have.\n\nDo you have a new model or a LEGO kit you’ve been meaning to work on? Is there a painting or craft you’ve been wanting to start and/or finish? Are you looking for a place to get away for a while to work on your project?\n\nWe can help! Please note\, supplies are limited.
URL:https://tillamookchamber.org/event/maker-saturday-at-the-bay-city-library/2028-03-11/
LOCATION:Bay City Library\, 5525 B St\, Bay City\, OR
CATEGORIES:Community
ATTACH;FMTTYPE=image/png:https://tillamookchamber.org/wp-content/uploads/2025/03/maker_saturdays.png
END:VEVENT
BEGIN:VEVENT
DTSTART;TZID=America/Los_Angeles:20280316T100000
DTEND;TZID=America/Los_Angeles:20280316T110000
DTSTAMP:20260422T212355
CREATED:20241226T211146Z
LAST-MODIFIED:20241226T211146Z
UID:10017626-1836813600-1836817200@tillamookchamber.org
SUMMARY:Family Storytime at Bay City Library
DESCRIPTION:Bring the whole family down to the Bay City Library for a fun storytime and activity every Thursday at 10am!
URL:https://tillamookchamber.org/event/family-storytime-at-bay-city-library-2/2028-03-16/
LOCATION:Bay City Library\, 5525 B St\, Bay City\, OR
CATEGORIES:Community,Family Fun
ATTACH;FMTTYPE=image/png:https://tillamookchamber.org/wp-content/uploads/2024/12/Bay-City-Storytime1.png
END:VEVENT
BEGIN:VEVENT
DTSTART;TZID=America/Los_Angeles:20280318T140000
DTEND;TZID=America/Los_Angeles:20280318T170000
DTSTAMP:20260422T212355
CREATED:20250306T184553Z
LAST-MODIFIED:20250306T184553Z
UID:10018871-1837000800-1837011600@tillamookchamber.org
SUMMARY:Maker Saturday at the Bay City Library
DESCRIPTION:Join us at the Bay City Branch Library on the 3rd Saturday of the month at 2:00pm and 5:00pm for Maker Saturday! Bring a project you have been working on or come and be inspired by the supplies we have.\n\nDo you have a new model or a LEGO kit you’ve been meaning to work on? Is there a painting or craft you’ve been wanting to start and/or finish? Are you looking for a place to get away for a while to work on your project?\n\nWe can help! Please note\, supplies are limited.
URL:https://tillamookchamber.org/event/maker-saturday-at-the-bay-city-library/2028-03-18/
LOCATION:Bay City Library\, 5525 B St\, Bay City\, OR
CATEGORIES:Community
ATTACH;FMTTYPE=image/png:https://tillamookchamber.org/wp-content/uploads/2025/03/maker_saturdays.png
END:VEVENT
BEGIN:VEVENT
DTSTART;TZID=America/Los_Angeles:20280323T100000
DTEND;TZID=America/Los_Angeles:20280323T110000
DTSTAMP:20260422T212355
CREATED:20241226T211146Z
LAST-MODIFIED:20241226T211146Z
UID:10017627-1837418400-1837422000@tillamookchamber.org
SUMMARY:Family Storytime at Bay City Library
DESCRIPTION:Bring the whole family down to the Bay City Library for a fun storytime and activity every Thursday at 10am!
URL:https://tillamookchamber.org/event/family-storytime-at-bay-city-library-2/2028-03-23/
LOCATION:Bay City Library\, 5525 B St\, Bay City\, OR
CATEGORIES:Community,Family Fun
ATTACH;FMTTYPE=image/png:https://tillamookchamber.org/wp-content/uploads/2024/12/Bay-City-Storytime1.png
END:VEVENT
BEGIN:VEVENT
DTSTART;TZID=America/Los_Angeles:20280325T140000
DTEND;TZID=America/Los_Angeles:20280325T170000
DTSTAMP:20260422T212355
CREATED:20250306T184553Z
LAST-MODIFIED:20250306T184553Z
UID:10018872-1837605600-1837616400@tillamookchamber.org
SUMMARY:Maker Saturday at the Bay City Library
DESCRIPTION:Join us at the Bay City Branch Library on the 3rd Saturday of the month at 2:00pm and 5:00pm for Maker Saturday! Bring a project you have been working on or come and be inspired by the supplies we have.\n\nDo you have a new model or a LEGO kit you’ve been meaning to work on? Is there a painting or craft you’ve been wanting to start and/or finish? Are you looking for a place to get away for a while to work on your project?\n\nWe can help! Please note\, supplies are limited.
URL:https://tillamookchamber.org/event/maker-saturday-at-the-bay-city-library/2028-03-25/
LOCATION:Bay City Library\, 5525 B St\, Bay City\, OR
CATEGORIES:Community
ATTACH;FMTTYPE=image/png:https://tillamookchamber.org/wp-content/uploads/2025/03/maker_saturdays.png
END:VEVENT
BEGIN:VEVENT
DTSTART;TZID=America/Los_Angeles:20280330T100000
DTEND;TZID=America/Los_Angeles:20280330T110000
DTSTAMP:20260422T212355
CREATED:20241226T211146Z
LAST-MODIFIED:20241226T211146Z
UID:10017628-1838023200-1838026800@tillamookchamber.org
SUMMARY:Family Storytime at Bay City Library
DESCRIPTION:Bring the whole family down to the Bay City Library for a fun storytime and activity every Thursday at 10am!
URL:https://tillamookchamber.org/event/family-storytime-at-bay-city-library-2/2028-03-30/
LOCATION:Bay City Library\, 5525 B St\, Bay City\, OR
CATEGORIES:Community,Family Fun
ATTACH;FMTTYPE=image/png:https://tillamookchamber.org/wp-content/uploads/2024/12/Bay-City-Storytime1.png
END:VEVENT
BEGIN:VEVENT
DTSTART;TZID=America/Los_Angeles:20280401T140000
DTEND;TZID=America/Los_Angeles:20280401T170000
DTSTAMP:20260422T212355
CREATED:20250306T184553Z
LAST-MODIFIED:20250306T184553Z
UID:10018873-1838210400-1838221200@tillamookchamber.org
SUMMARY:Maker Saturday at the Bay City Library
DESCRIPTION:Join us at the Bay City Branch Library on the 3rd Saturday of the month at 2:00pm and 5:00pm for Maker Saturday! Bring a project you have been working on or come and be inspired by the supplies we have.\n\nDo you have a new model or a LEGO kit you’ve been meaning to work on? Is there a painting or craft you’ve been wanting to start and/or finish? Are you looking for a place to get away for a while to work on your project?\n\nWe can help! Please note\, supplies are limited.
URL:https://tillamookchamber.org/event/maker-saturday-at-the-bay-city-library/2028-04-01/
LOCATION:Bay City Library\, 5525 B St\, Bay City\, OR
CATEGORIES:Community
ATTACH;FMTTYPE=image/png:https://tillamookchamber.org/wp-content/uploads/2025/03/maker_saturdays.png
END:VEVENT
BEGIN:VEVENT
DTSTART;TZID=America/Los_Angeles:20280406T100000
DTEND;TZID=America/Los_Angeles:20280406T110000
DTSTAMP:20260422T212355
CREATED:20241226T211146Z
LAST-MODIFIED:20241226T211146Z
UID:10017629-1838628000-1838631600@tillamookchamber.org
SUMMARY:Family Storytime at Bay City Library
DESCRIPTION:Bring the whole family down to the Bay City Library for a fun storytime and activity every Thursday at 10am!
URL:https://tillamookchamber.org/event/family-storytime-at-bay-city-library-2/2028-04-06/
LOCATION:Bay City Library\, 5525 B St\, Bay City\, OR
CATEGORIES:Community,Family Fun
ATTACH;FMTTYPE=image/png:https://tillamookchamber.org/wp-content/uploads/2024/12/Bay-City-Storytime1.png
END:VEVENT
BEGIN:VEVENT
DTSTART;TZID=America/Los_Angeles:20280408T140000
DTEND;TZID=America/Los_Angeles:20280408T170000
DTSTAMP:20260422T212355
CREATED:20250306T184553Z
LAST-MODIFIED:20250306T184553Z
UID:10018874-1838815200-1838826000@tillamookchamber.org
SUMMARY:Maker Saturday at the Bay City Library
DESCRIPTION:Join us at the Bay City Branch Library on the 3rd Saturday of the month at 2:00pm and 5:00pm for Maker Saturday! Bring a project you have been working on or come and be inspired by the supplies we have.\n\nDo you have a new model or a LEGO kit you’ve been meaning to work on? Is there a painting or craft you’ve been wanting to start and/or finish? Are you looking for a place to get away for a while to work on your project?\n\nWe can help! Please note\, supplies are limited.
URL:https://tillamookchamber.org/event/maker-saturday-at-the-bay-city-library/2028-04-08/
LOCATION:Bay City Library\, 5525 B St\, Bay City\, OR
CATEGORIES:Community
ATTACH;FMTTYPE=image/png:https://tillamookchamber.org/wp-content/uploads/2025/03/maker_saturdays.png
END:VEVENT
BEGIN:VEVENT
DTSTART;TZID=America/Los_Angeles:20280413T100000
DTEND;TZID=America/Los_Angeles:20280413T110000
DTSTAMP:20260422T212355
CREATED:20241226T211146Z
LAST-MODIFIED:20241226T211146Z
UID:10017630-1839232800-1839236400@tillamookchamber.org
SUMMARY:Family Storytime at Bay City Library
DESCRIPTION:Bring the whole family down to the Bay City Library for a fun storytime and activity every Thursday at 10am!
URL:https://tillamookchamber.org/event/family-storytime-at-bay-city-library-2/2028-04-13/
LOCATION:Bay City Library\, 5525 B St\, Bay City\, OR
CATEGORIES:Community,Family Fun
ATTACH;FMTTYPE=image/png:https://tillamookchamber.org/wp-content/uploads/2024/12/Bay-City-Storytime1.png
END:VEVENT
BEGIN:VEVENT
DTSTART;TZID=America/Los_Angeles:20280415T140000
DTEND;TZID=America/Los_Angeles:20280415T170000
DTSTAMP:20260422T212355
CREATED:20250306T184553Z
LAST-MODIFIED:20250306T184553Z
UID:10018875-1839420000-1839430800@tillamookchamber.org
SUMMARY:Maker Saturday at the Bay City Library
DESCRIPTION:Join us at the Bay City Branch Library on the 3rd Saturday of the month at 2:00pm and 5:00pm for Maker Saturday! Bring a project you have been working on or come and be inspired by the supplies we have.\n\nDo you have a new model or a LEGO kit you’ve been meaning to work on? Is there a painting or craft you’ve been wanting to start and/or finish? Are you looking for a place to get away for a while to work on your project?\n\nWe can help! Please note\, supplies are limited.
URL:https://tillamookchamber.org/event/maker-saturday-at-the-bay-city-library/2028-04-15/
LOCATION:Bay City Library\, 5525 B St\, Bay City\, OR
CATEGORIES:Community
ATTACH;FMTTYPE=image/png:https://tillamookchamber.org/wp-content/uploads/2025/03/maker_saturdays.png
END:VEVENT
BEGIN:VEVENT
DTSTART;TZID=America/Los_Angeles:20280420T100000
DTEND;TZID=America/Los_Angeles:20280420T110000
DTSTAMP:20260422T212355
CREATED:20241226T211146Z
LAST-MODIFIED:20241226T211146Z
UID:10017631-1839837600-1839841200@tillamookchamber.org
SUMMARY:Family Storytime at Bay City Library
DESCRIPTION:Bring the whole family down to the Bay City Library for a fun storytime and activity every Thursday at 10am!
URL:https://tillamookchamber.org/event/family-storytime-at-bay-city-library-2/2028-04-20/
LOCATION:Bay City Library\, 5525 B St\, Bay City\, OR
CATEGORIES:Community,Family Fun
ATTACH;FMTTYPE=image/png:https://tillamookchamber.org/wp-content/uploads/2024/12/Bay-City-Storytime1.png
END:VEVENT
BEGIN:VEVENT
DTSTART;TZID=America/Los_Angeles:20280422T140000
DTEND;TZID=America/Los_Angeles:20280422T170000
DTSTAMP:20260422T212355
CREATED:20250306T184553Z
LAST-MODIFIED:20250306T184553Z
UID:10018876-1840024800-1840035600@tillamookchamber.org
SUMMARY:Maker Saturday at the Bay City Library
DESCRIPTION:Join us at the Bay City Branch Library on the 3rd Saturday of the month at 2:00pm and 5:00pm for Maker Saturday! Bring a project you have been working on or come and be inspired by the supplies we have.\n\nDo you have a new model or a LEGO kit you’ve been meaning to work on? Is there a painting or craft you’ve been wanting to start and/or finish? Are you looking for a place to get away for a while to work on your project?\n\nWe can help! Please note\, supplies are limited.
URL:https://tillamookchamber.org/event/maker-saturday-at-the-bay-city-library/2028-04-22/
LOCATION:Bay City Library\, 5525 B St\, Bay City\, OR
CATEGORIES:Community
ATTACH;FMTTYPE=image/png:https://tillamookchamber.org/wp-content/uploads/2025/03/maker_saturdays.png
END:VEVENT
END:VCALENDAR