BEGIN:VCALENDAR
VERSION:2.0
PRODID:-//Tillamook Area Chamber of Commerce - ECPv6.15.20//NONSGML v1.0//EN
CALSCALE:GREGORIAN
METHOD:PUBLISH
X-WR-CALNAME:Tillamook Area Chamber of Commerce
X-ORIGINAL-URL:https://tillamookchamber.org
X-WR-CALDESC:Events for Tillamook Area Chamber of Commerce
REFRESH-INTERVAL;VALUE=DURATION:PT1H
X-Robots-Tag:noindex
X-PUBLISHED-TTL:PT1H
BEGIN:VTIMEZONE
TZID:America/Los_Angeles
BEGIN:DAYLIGHT
TZOFFSETFROM:-0800
TZOFFSETTO:-0700
TZNAME:PDT
DTSTART:20240310T100000
END:DAYLIGHT
BEGIN:STANDARD
TZOFFSETFROM:-0700
TZOFFSETTO:-0800
TZNAME:PST
DTSTART:20241103T090000
END:STANDARD
BEGIN:DAYLIGHT
TZOFFSETFROM:-0800
TZOFFSETTO:-0700
TZNAME:PDT
DTSTART:20250309T100000
END:DAYLIGHT
BEGIN:STANDARD
TZOFFSETFROM:-0700
TZOFFSETTO:-0800
TZNAME:PST
DTSTART:20251102T090000
END:STANDARD
BEGIN:DAYLIGHT
TZOFFSETFROM:-0800
TZOFFSETTO:-0700
TZNAME:PDT
DTSTART:20260308T100000
END:DAYLIGHT
BEGIN:STANDARD
TZOFFSETFROM:-0700
TZOFFSETTO:-0800
TZNAME:PST
DTSTART:20261101T090000
END:STANDARD
END:VTIMEZONE
BEGIN:VEVENT
DTSTART;TZID=America/Los_Angeles:20250805T150000
DTEND;TZID=America/Los_Angeles:20250805T190000
DTSTAMP:20260421T085914
CREATED:20250716T201005Z
LAST-MODIFIED:20250716T201005Z
UID:10023249-1754406000-1754420400@tillamookchamber.org
SUMMARY:Adolescent Sports Physical Event - Pacific City
DESCRIPTION:Save the date for our summer event providing a sports physical for youth ages 12–21. Immunizations and lab testing provided as needed. No out-of-pocket costs.\n\nEvents will also be held from 3 – 7 p.m. in Tillamook on Wednesday\, August 13\, and in Manzanita on Friday\, August 15.\n\nPlease call 503-815-2292 to schedule your appointment.
URL:https://tillamookchamber.org/event/adolescent-sports-physical-event-pacific-city/
LOCATION:Adventist Health Medical Office – Pacific City\, 38505 Brooten Road\, Suite A\, Pacific City\, 97135
CATEGORIES:Community
ATTACH;FMTTYPE=image/jpeg:https://tillamookchamber.org/wp-content/uploads/2025/07/sports-physicals_GettyImages-481073067_web.jpg
END:VEVENT
END:VCALENDAR