BEGIN:VCALENDAR
VERSION:2.0
PRODID:-//Tillamook Area Chamber of Commerce - ECPv6.15.20//NONSGML v1.0//EN
CALSCALE:GREGORIAN
METHOD:PUBLISH
X-WR-CALNAME:Tillamook Area Chamber of Commerce
X-ORIGINAL-URL:https://tillamookchamber.org
X-WR-CALDESC:Events for Tillamook Area Chamber of Commerce
REFRESH-INTERVAL;VALUE=DURATION:PT1H
X-Robots-Tag:noindex
X-PUBLISHED-TTL:PT1H
BEGIN:VTIMEZONE
TZID:America/Los_Angeles
BEGIN:DAYLIGHT
TZOFFSETFROM:-0800
TZOFFSETTO:-0700
TZNAME:PDT
DTSTART:20240310T100000
END:DAYLIGHT
BEGIN:STANDARD
TZOFFSETFROM:-0700
TZOFFSETTO:-0800
TZNAME:PST
DTSTART:20241103T090000
END:STANDARD
BEGIN:DAYLIGHT
TZOFFSETFROM:-0800
TZOFFSETTO:-0700
TZNAME:PDT
DTSTART:20250309T100000
END:DAYLIGHT
BEGIN:STANDARD
TZOFFSETFROM:-0700
TZOFFSETTO:-0800
TZNAME:PST
DTSTART:20251102T090000
END:STANDARD
BEGIN:DAYLIGHT
TZOFFSETFROM:-0800
TZOFFSETTO:-0700
TZNAME:PDT
DTSTART:20260308T100000
END:DAYLIGHT
BEGIN:STANDARD
TZOFFSETFROM:-0700
TZOFFSETTO:-0800
TZNAME:PST
DTSTART:20261101T090000
END:STANDARD
END:VTIMEZONE
BEGIN:VEVENT
DTSTART;TZID=America/Los_Angeles:20250920T090000
DTEND;TZID=America/Los_Angeles:20250920T130000
DTSTAMP:20260424T071350
CREATED:20250910T160439Z
LAST-MODIFIED:20250910T160439Z
UID:10025506-1758358800-1758373200@tillamookchamber.org
SUMMARY:Tillamook 1st Security Bank Shredding Event
DESCRIPTION:Keeping our communities safe!\n\nTo help support the reduction of identity theft crimes\, 1st Security Bank invites Tillamook County communities to shred and recycle sensitive documents that are no longer in use.\n\nYou may bring up to 10 boxes or bags of paper to be shredded. Shredding is free and will be offered on a first come\, first served basis until the truck is full.
URL:https://tillamookchamber.org/event/tillamook-1st-security-bank-shredding-event/
LOCATION:1st Security Bank of Tillamook\, 1806 3rd St
CATEGORIES:Business,Community
END:VEVENT
END:VCALENDAR