BEGIN:VCALENDAR
VERSION:2.0
PRODID:-//Tillamook Area Chamber of Commerce - ECPv6.15.20//NONSGML v1.0//EN
CALSCALE:GREGORIAN
METHOD:PUBLISH
X-ORIGINAL-URL:https://tillamookchamber.org
X-WR-CALDESC:Events for Tillamook Area Chamber of Commerce
REFRESH-INTERVAL;VALUE=DURATION:PT1H
X-Robots-Tag:noindex
X-PUBLISHED-TTL:PT1H
BEGIN:VTIMEZONE
TZID:America/Los_Angeles
BEGIN:DAYLIGHT
TZOFFSETFROM:-0800
TZOFFSETTO:-0700
TZNAME:PDT
DTSTART:20240310T100000
END:DAYLIGHT
BEGIN:STANDARD
TZOFFSETFROM:-0700
TZOFFSETTO:-0800
TZNAME:PST
DTSTART:20241103T090000
END:STANDARD
BEGIN:DAYLIGHT
TZOFFSETFROM:-0800
TZOFFSETTO:-0700
TZNAME:PDT
DTSTART:20250309T100000
END:DAYLIGHT
BEGIN:STANDARD
TZOFFSETFROM:-0700
TZOFFSETTO:-0800
TZNAME:PST
DTSTART:20251102T090000
END:STANDARD
BEGIN:DAYLIGHT
TZOFFSETFROM:-0800
TZOFFSETTO:-0700
TZNAME:PDT
DTSTART:20260308T100000
END:DAYLIGHT
BEGIN:STANDARD
TZOFFSETFROM:-0700
TZOFFSETTO:-0800
TZNAME:PST
DTSTART:20261101T090000
END:STANDARD
END:VTIMEZONE
BEGIN:VEVENT
DTSTART;TZID=America/Los_Angeles:20250426T090000
DTEND;TZID=America/Los_Angeles:20250426T130000
DTSTAMP:20260422T023008
CREATED:20250327T213507Z
LAST-MODIFIED:20250327T213507Z
UID:10019319-1745658000-1745672400@tillamookchamber.org
SUMMARY:1st Security Bank Shredding Event at the Manzanita Branch
DESCRIPTION:Keeping Our Communities Safe. To help support the reduction of identity theft crimes\, 1st Security Bank invites residents from local Pacific Northwest communities to shred and recycle sensitive documents that are no longer in use. You may bring up to 10 boxes or bags of paper to be shredded. Shredding is free and will be offered on a first come\, first served basis until the truck is full!
URL:https://tillamookchamber.org/event/1st-security-bank-shredding-event-at-the-manzanita-branch/
LOCATION:1st Security Bank Manzanita Branch\, 715 Laneda Ave\, Manzanita\, 97130
CATEGORIES:Community
ATTACH;FMTTYPE=image/jpeg:https://tillamookchamber.org/wp-content/uploads/2025/03/Manzanita-Shredding-Event.jpg
END:VEVENT
END:VCALENDAR