BEGIN:VCALENDAR
VERSION:2.0
PRODID:-//Tillamook Area Chamber of Commerce - ECPv6.15.20//NONSGML v1.0//EN
CALSCALE:GREGORIAN
METHOD:PUBLISH
X-ORIGINAL-URL:https://tillamookchamber.org
X-WR-CALDESC:Events for Tillamook Area Chamber of Commerce
REFRESH-INTERVAL;VALUE=DURATION:PT1H
X-Robots-Tag:noindex
X-PUBLISHED-TTL:PT1H
BEGIN:VTIMEZONE
TZID:America/Los_Angeles
BEGIN:DAYLIGHT
TZOFFSETFROM:-0800
TZOFFSETTO:-0700
TZNAME:PDT
DTSTART:20240310T100000
END:DAYLIGHT
BEGIN:STANDARD
TZOFFSETFROM:-0700
TZOFFSETTO:-0800
TZNAME:PST
DTSTART:20241103T090000
END:STANDARD
BEGIN:DAYLIGHT
TZOFFSETFROM:-0800
TZOFFSETTO:-0700
TZNAME:PDT
DTSTART:20250309T100000
END:DAYLIGHT
BEGIN:STANDARD
TZOFFSETFROM:-0700
TZOFFSETTO:-0800
TZNAME:PST
DTSTART:20251102T090000
END:STANDARD
BEGIN:DAYLIGHT
TZOFFSETFROM:-0800
TZOFFSETTO:-0700
TZNAME:PDT
DTSTART:20260308T100000
END:DAYLIGHT
BEGIN:STANDARD
TZOFFSETFROM:-0700
TZOFFSETTO:-0800
TZNAME:PST
DTSTART:20261101T090000
END:STANDARD
BEGIN:DAYLIGHT
TZOFFSETFROM:-0800
TZOFFSETTO:-0700
TZNAME:PDT
DTSTART:20270314T100000
END:DAYLIGHT
BEGIN:STANDARD
TZOFFSETFROM:-0700
TZOFFSETTO:-0800
TZNAME:PST
DTSTART:20271107T090000
END:STANDARD
END:VTIMEZONE
BEGIN:VEVENT
DTSTART;TZID=America/Los_Angeles:20260410T190000
DTEND;TZID=America/Los_Angeles:20260410T210000
DTSTAMP:20260423T212627
CREATED:20220114T194639Z
LAST-MODIFIED:20220114T194639Z
UID:10019264-1775847600-1775854800@tillamookchamber.org
SUMMARY:Artist/Music Showcase
DESCRIPTION:Local and visiting musicans perform a free concert at the Tillamook Fairview Grange\, featuring Eric Sappington and other musicans and artists monthly. Relax and take in music in one of the best local performance halls.
URL:https://tillamookchamber.org/event/artist-music-showcase/2026-04-10/
LOCATION:Tillamook Fairview Grange\, 5620 E. 3rd Street\, Tillamook\, OR 97141\, OR
CATEGORIES:Community,Live Music
ATTACH;FMTTYPE=image/jpeg:https://tillamookchamber.org/wp-content/uploads/2022/01/eric-at-grange.jpg
ORGANIZER;CN="Tillamook Fairview Grange":MAILTO:mary.mcginnis05@gmail.com
END:VEVENT
BEGIN:VEVENT
DTSTART;TZID=America/Los_Angeles:20260313T190000
DTEND;TZID=America/Los_Angeles:20260313T210000
DTSTAMP:20260423T212627
CREATED:20220114T194639Z
LAST-MODIFIED:20220114T194639Z
UID:10019263-1773428400-1773435600@tillamookchamber.org
SUMMARY:Artist/Music Showcase
DESCRIPTION:Local and visiting musicans perform a free concert at the Tillamook Fairview Grange\, featuring Eric Sappington and other musicans and artists monthly. Relax and take in music in one of the best local performance halls.
URL:https://tillamookchamber.org/event/artist-music-showcase/2026-03-13/
LOCATION:Tillamook Fairview Grange\, 5620 E. 3rd Street\, Tillamook\, OR 97141\, OR
CATEGORIES:Community,Live Music
ATTACH;FMTTYPE=image/jpeg:https://tillamookchamber.org/wp-content/uploads/2022/01/eric-at-grange.jpg
ORGANIZER;CN="Tillamook Fairview Grange":MAILTO:mary.mcginnis05@gmail.com
END:VEVENT
BEGIN:VEVENT
DTSTART;TZID=America/Los_Angeles:20260213T190000
DTEND;TZID=America/Los_Angeles:20260213T210000
DTSTAMP:20260423T212627
CREATED:20220114T194639Z
LAST-MODIFIED:20220114T194639Z
UID:10019262-1771009200-1771016400@tillamookchamber.org
SUMMARY:Artist/Music Showcase
DESCRIPTION:Local and visiting musicans perform a free concert at the Tillamook Fairview Grange\, featuring Eric Sappington and other musicans and artists monthly. Relax and take in music in one of the best local performance halls.
URL:https://tillamookchamber.org/event/artist-music-showcase/2026-02-13/
LOCATION:Tillamook Fairview Grange\, 5620 E. 3rd Street\, Tillamook\, OR 97141\, OR
CATEGORIES:Community,Live Music
ATTACH;FMTTYPE=image/jpeg:https://tillamookchamber.org/wp-content/uploads/2022/01/eric-at-grange.jpg
ORGANIZER;CN="Tillamook Fairview Grange":MAILTO:mary.mcginnis05@gmail.com
END:VEVENT
BEGIN:VEVENT
DTSTART;TZID=America/Los_Angeles:20260109T190000
DTEND;TZID=America/Los_Angeles:20260109T210000
DTSTAMP:20260423T212627
CREATED:20220114T194639Z
LAST-MODIFIED:20220114T194639Z
UID:10019261-1767985200-1767992400@tillamookchamber.org
SUMMARY:Artist/Music Showcase
DESCRIPTION:Local and visiting musicans perform a free concert at the Tillamook Fairview Grange\, featuring Eric Sappington and other musicans and artists monthly. Relax and take in music in one of the best local performance halls.
URL:https://tillamookchamber.org/event/artist-music-showcase/2026-01-09/
LOCATION:Tillamook Fairview Grange\, 5620 E. 3rd Street\, Tillamook\, OR 97141\, OR
CATEGORIES:Community,Live Music
ATTACH;FMTTYPE=image/jpeg:https://tillamookchamber.org/wp-content/uploads/2022/01/eric-at-grange.jpg
ORGANIZER;CN="Tillamook Fairview Grange":MAILTO:mary.mcginnis05@gmail.com
END:VEVENT
BEGIN:VEVENT
DTSTART;TZID=America/Los_Angeles:20251212T190000
DTEND;TZID=America/Los_Angeles:20251212T210000
DTSTAMP:20260423T212627
CREATED:20220114T194639Z
LAST-MODIFIED:20220114T194639Z
UID:10019260-1765566000-1765573200@tillamookchamber.org
SUMMARY:Artist/Music Showcase
DESCRIPTION:Local and visiting musicans perform a free concert at the Tillamook Fairview Grange\, featuring Eric Sappington and other musicans and artists monthly. Relax and take in music in one of the best local performance halls.
URL:https://tillamookchamber.org/event/artist-music-showcase/2025-12-12/
LOCATION:Tillamook Fairview Grange\, 5620 E. 3rd Street\, Tillamook\, OR 97141\, OR
CATEGORIES:Community,Live Music
ATTACH;FMTTYPE=image/jpeg:https://tillamookchamber.org/wp-content/uploads/2022/01/eric-at-grange.jpg
ORGANIZER;CN="Tillamook Fairview Grange":MAILTO:mary.mcginnis05@gmail.com
END:VEVENT
BEGIN:VEVENT
DTSTART;TZID=America/Los_Angeles:20251114T190000
DTEND;TZID=America/Los_Angeles:20251114T210000
DTSTAMP:20260423T212627
CREATED:20220114T194639Z
LAST-MODIFIED:20220114T194639Z
UID:10019259-1763146800-1763154000@tillamookchamber.org
SUMMARY:Artist/Music Showcase
DESCRIPTION:Local and visiting musicans perform a free concert at the Tillamook Fairview Grange\, featuring Eric Sappington and other musicans and artists monthly. Relax and take in music in one of the best local performance halls.
URL:https://tillamookchamber.org/event/artist-music-showcase/2025-11-14/
LOCATION:Tillamook Fairview Grange\, 5620 E. 3rd Street\, Tillamook\, OR 97141\, OR
CATEGORIES:Community,Live Music
ATTACH;FMTTYPE=image/jpeg:https://tillamookchamber.org/wp-content/uploads/2022/01/eric-at-grange.jpg
ORGANIZER;CN="Tillamook Fairview Grange":MAILTO:mary.mcginnis05@gmail.com
END:VEVENT
BEGIN:VEVENT
DTSTART;TZID=America/Los_Angeles:20251010T190000
DTEND;TZID=America/Los_Angeles:20251010T210000
DTSTAMP:20260423T212627
CREATED:20220114T194639Z
LAST-MODIFIED:20220114T194639Z
UID:10019258-1760122800-1760130000@tillamookchamber.org
SUMMARY:Artist/Music Showcase
DESCRIPTION:Local and visiting musicans perform a free concert at the Tillamook Fairview Grange\, featuring Eric Sappington and other musicans and artists monthly. Relax and take in music in one of the best local performance halls.
URL:https://tillamookchamber.org/event/artist-music-showcase/2025-10-10/
LOCATION:Tillamook Fairview Grange\, 5620 E. 3rd Street\, Tillamook\, OR 97141\, OR
CATEGORIES:Community,Live Music
ATTACH;FMTTYPE=image/jpeg:https://tillamookchamber.org/wp-content/uploads/2022/01/eric-at-grange.jpg
ORGANIZER;CN="Tillamook Fairview Grange":MAILTO:mary.mcginnis05@gmail.com
END:VEVENT
BEGIN:VEVENT
DTSTART;TZID=America/Los_Angeles:20250912T190000
DTEND;TZID=America/Los_Angeles:20250912T210000
DTSTAMP:20260423T212627
CREATED:20220114T194639Z
LAST-MODIFIED:20220114T194639Z
UID:10019257-1757703600-1757710800@tillamookchamber.org
SUMMARY:Artist/Music Showcase
DESCRIPTION:Local and visiting musicans perform a free concert at the Tillamook Fairview Grange\, featuring Eric Sappington and other musicans and artists monthly. Relax and take in music in one of the best local performance halls.
URL:https://tillamookchamber.org/event/artist-music-showcase/2025-09-12/
LOCATION:Tillamook Fairview Grange\, 5620 E. 3rd Street\, Tillamook\, OR 97141\, OR
CATEGORIES:Community,Live Music
ATTACH;FMTTYPE=image/jpeg:https://tillamookchamber.org/wp-content/uploads/2022/01/eric-at-grange.jpg
ORGANIZER;CN="Tillamook Fairview Grange":MAILTO:mary.mcginnis05@gmail.com
END:VEVENT
BEGIN:VEVENT
DTSTART;TZID=America/Los_Angeles:20250808T190000
DTEND;TZID=America/Los_Angeles:20250808T210000
DTSTAMP:20260423T212627
CREATED:20220114T194639Z
LAST-MODIFIED:20220114T194639Z
UID:10019256-1754679600-1754686800@tillamookchamber.org
SUMMARY:Artist/Music Showcase
DESCRIPTION:Local and visiting musicans perform a free concert at the Tillamook Fairview Grange\, featuring Eric Sappington and other musicans and artists monthly. Relax and take in music in one of the best local performance halls.
URL:https://tillamookchamber.org/event/artist-music-showcase/2025-08-08/
LOCATION:Tillamook Fairview Grange\, 5620 E. 3rd Street\, Tillamook\, OR 97141\, OR
CATEGORIES:Community,Live Music
ATTACH;FMTTYPE=image/jpeg:https://tillamookchamber.org/wp-content/uploads/2022/01/eric-at-grange.jpg
ORGANIZER;CN="Tillamook Fairview Grange":MAILTO:mary.mcginnis05@gmail.com
END:VEVENT
BEGIN:VEVENT
DTSTART;TZID=America/Los_Angeles:20250711T190000
DTEND;TZID=America/Los_Angeles:20250711T210000
DTSTAMP:20260423T212627
CREATED:20220114T194639Z
LAST-MODIFIED:20220114T194639Z
UID:10019255-1752260400-1752267600@tillamookchamber.org
SUMMARY:Artist/Music Showcase
DESCRIPTION:Local and visiting musicans perform a free concert at the Tillamook Fairview Grange\, featuring Eric Sappington and other musicans and artists monthly. Relax and take in music in one of the best local performance halls.
URL:https://tillamookchamber.org/event/artist-music-showcase/2025-07-11/
LOCATION:Tillamook Fairview Grange\, 5620 E. 3rd Street\, Tillamook\, OR 97141\, OR
CATEGORIES:Community,Live Music
ATTACH;FMTTYPE=image/jpeg:https://tillamookchamber.org/wp-content/uploads/2022/01/eric-at-grange.jpg
ORGANIZER;CN="Tillamook Fairview Grange":MAILTO:mary.mcginnis05@gmail.com
END:VEVENT
BEGIN:VEVENT
DTSTART;TZID=America/Los_Angeles:20250613T190000
DTEND;TZID=America/Los_Angeles:20250613T210000
DTSTAMP:20260423T212627
CREATED:20220114T194639Z
LAST-MODIFIED:20220114T194639Z
UID:10019254-1749841200-1749848400@tillamookchamber.org
SUMMARY:Artist/Music Showcase
DESCRIPTION:Local and visiting musicans perform a free concert at the Tillamook Fairview Grange\, featuring Eric Sappington and other musicans and artists monthly. Relax and take in music in one of the best local performance halls.
URL:https://tillamookchamber.org/event/artist-music-showcase/2025-06-13/
LOCATION:Tillamook Fairview Grange\, 5620 E. 3rd Street\, Tillamook\, OR 97141\, OR
CATEGORIES:Community,Live Music
ATTACH;FMTTYPE=image/jpeg:https://tillamookchamber.org/wp-content/uploads/2022/01/eric-at-grange.jpg
ORGANIZER;CN="Tillamook Fairview Grange":MAILTO:mary.mcginnis05@gmail.com
END:VEVENT
BEGIN:VEVENT
DTSTART;TZID=America/Los_Angeles:20250509T190000
DTEND;TZID=America/Los_Angeles:20250509T210000
DTSTAMP:20260423T212627
CREATED:20220114T194639Z
LAST-MODIFIED:20220114T194639Z
UID:10019253-1746817200-1746824400@tillamookchamber.org
SUMMARY:Artist/Music Showcase
DESCRIPTION:Local and visiting musicans perform a free concert at the Tillamook Fairview Grange\, featuring Eric Sappington and other musicans and artists monthly. Relax and take in music in one of the best local performance halls.
URL:https://tillamookchamber.org/event/artist-music-showcase/2025-05-09/
LOCATION:Tillamook Fairview Grange\, 5620 E. 3rd Street\, Tillamook\, OR 97141\, OR
CATEGORIES:Community,Live Music
ATTACH;FMTTYPE=image/jpeg:https://tillamookchamber.org/wp-content/uploads/2022/01/eric-at-grange.jpg
ORGANIZER;CN="Tillamook Fairview Grange":MAILTO:mary.mcginnis05@gmail.com
END:VEVENT
BEGIN:VEVENT
DTSTART;TZID=America/Los_Angeles:20250411T190000
DTEND;TZID=America/Los_Angeles:20250411T210000
DTSTAMP:20260423T212627
CREATED:20220114T194639Z
LAST-MODIFIED:20220114T194639Z
UID:10019252-1744398000-1744405200@tillamookchamber.org
SUMMARY:Artist/Music Showcase
DESCRIPTION:Local and visiting musicans perform a free concert at the Tillamook Fairview Grange\, featuring Eric Sappington and other musicans and artists monthly. Relax and take in music in one of the best local performance halls.
URL:https://tillamookchamber.org/event/artist-music-showcase/2025-04-11/
LOCATION:Tillamook Fairview Grange\, 5620 E. 3rd Street\, Tillamook\, OR 97141\, OR
CATEGORIES:Community,Live Music
ATTACH;FMTTYPE=image/jpeg:https://tillamookchamber.org/wp-content/uploads/2022/01/eric-at-grange.jpg
ORGANIZER;CN="Tillamook Fairview Grange":MAILTO:mary.mcginnis05@gmail.com
END:VEVENT
BEGIN:VEVENT
DTSTART;TZID=America/Los_Angeles:20250314T190000
DTEND;TZID=America/Los_Angeles:20250314T210000
DTSTAMP:20260423T212627
CREATED:20220114T194639Z
LAST-MODIFIED:20220114T194639Z
UID:10019251-1741978800-1741986000@tillamookchamber.org
SUMMARY:Artist/Music Showcase
DESCRIPTION:Local and visiting musicans perform a free concert at the Tillamook Fairview Grange\, featuring Eric Sappington and other musicans and artists monthly. Relax and take in music in one of the best local performance halls.
URL:https://tillamookchamber.org/event/artist-music-showcase/2025-03-14/
LOCATION:Tillamook Fairview Grange\, 5620 E. 3rd Street\, Tillamook\, OR 97141\, OR
CATEGORIES:Community,Live Music
ATTACH;FMTTYPE=image/jpeg:https://tillamookchamber.org/wp-content/uploads/2022/01/eric-at-grange.jpg
ORGANIZER;CN="Tillamook Fairview Grange":MAILTO:mary.mcginnis05@gmail.com
END:VEVENT
BEGIN:VEVENT
DTSTART;TZID=America/Los_Angeles:20250214T190000
DTEND;TZID=America/Los_Angeles:20250214T210000
DTSTAMP:20260423T212627
CREATED:20220114T194639Z
LAST-MODIFIED:20220114T194639Z
UID:10019250-1739559600-1739566800@tillamookchamber.org
SUMMARY:Artist/Music Showcase
DESCRIPTION:Local and visiting musicans perform a free concert at the Tillamook Fairview Grange\, featuring Eric Sappington and other musicans and artists monthly. Relax and take in music in one of the best local performance halls.
URL:https://tillamookchamber.org/event/artist-music-showcase/2025-02-14/
LOCATION:Tillamook Fairview Grange\, 5620 E. 3rd Street\, Tillamook\, OR 97141\, OR
CATEGORIES:Community,Live Music
ATTACH;FMTTYPE=image/jpeg:https://tillamookchamber.org/wp-content/uploads/2022/01/eric-at-grange.jpg
ORGANIZER;CN="Tillamook Fairview Grange":MAILTO:mary.mcginnis05@gmail.com
END:VEVENT
BEGIN:VEVENT
DTSTART;TZID=America/Los_Angeles:20250110T190000
DTEND;TZID=America/Los_Angeles:20250110T210000
DTSTAMP:20260423T212627
CREATED:20220114T194639Z
LAST-MODIFIED:20220114T194639Z
UID:10019249-1736535600-1736542800@tillamookchamber.org
SUMMARY:Artist/Music Showcase
DESCRIPTION:Local and visiting musicans perform a free concert at the Tillamook Fairview Grange\, featuring Eric Sappington and other musicans and artists monthly. Relax and take in music in one of the best local performance halls.
URL:https://tillamookchamber.org/event/artist-music-showcase/2025-01-10/
LOCATION:Tillamook Fairview Grange\, 5620 E. 3rd Street\, Tillamook\, OR 97141\, OR
CATEGORIES:Community,Live Music
ATTACH;FMTTYPE=image/jpeg:https://tillamookchamber.org/wp-content/uploads/2022/01/eric-at-grange.jpg
ORGANIZER;CN="Tillamook Fairview Grange":MAILTO:mary.mcginnis05@gmail.com
END:VEVENT
END:VCALENDAR