BEGIN:VCALENDAR
VERSION:2.0
PRODID:-//Tillamook Area Chamber of Commerce - ECPv6.15.20//NONSGML v1.0//EN
CALSCALE:GREGORIAN
METHOD:PUBLISH
X-WR-CALNAME:Tillamook Area Chamber of Commerce
X-ORIGINAL-URL:https://tillamookchamber.org
X-WR-CALDESC:Events for Tillamook Area Chamber of Commerce
REFRESH-INTERVAL;VALUE=DURATION:PT1H
X-Robots-Tag:noindex
X-PUBLISHED-TTL:PT1H
BEGIN:VTIMEZONE
TZID:America/Los_Angeles
BEGIN:DAYLIGHT
TZOFFSETFROM:-0800
TZOFFSETTO:-0700
TZNAME:PDT
DTSTART:20250309T100000
END:DAYLIGHT
BEGIN:STANDARD
TZOFFSETFROM:-0700
TZOFFSETTO:-0800
TZNAME:PST
DTSTART:20251102T090000
END:STANDARD
BEGIN:DAYLIGHT
TZOFFSETFROM:-0800
TZOFFSETTO:-0700
TZNAME:PDT
DTSTART:20260308T100000
END:DAYLIGHT
BEGIN:STANDARD
TZOFFSETFROM:-0700
TZOFFSETTO:-0800
TZNAME:PST
DTSTART:20261101T090000
END:STANDARD
BEGIN:DAYLIGHT
TZOFFSETFROM:-0800
TZOFFSETTO:-0700
TZNAME:PDT
DTSTART:20270314T100000
END:DAYLIGHT
BEGIN:STANDARD
TZOFFSETFROM:-0700
TZOFFSETTO:-0800
TZNAME:PST
DTSTART:20271107T090000
END:STANDARD
END:VTIMEZONE
BEGIN:VEVENT
DTSTART;TZID=America/Los_Angeles:20260424T110000
DTEND;TZID=America/Los_Angeles:20260424T120000
DTSTAMP:20260419T053613
CREATED:20250623T163658Z
LAST-MODIFIED:20250623T163658Z
UID:10022269-1777028400-1777032000@tillamookchamber.org
SUMMARY:Storytime at Garibaldi Library
DESCRIPTION:Kids of all ages are welcome to the Garibaldi Library for storytime\, Fridays at 11:00am.
URL:https://tillamookchamber.org/event/storytime-at-garibaldi-library/2026-04-24/
LOCATION:Garibaldi Library\, 107 6th St\, Garibaldi OR
CATEGORIES:Community,Family Fun
ATTACH;FMTTYPE=image/png:https://tillamookchamber.org/wp-content/uploads/2024/12/Garibaldi-Story-Time-flyer.png
END:VEVENT
BEGIN:VEVENT
DTSTART;TZID=America/Los_Angeles:20260501T110000
DTEND;TZID=America/Los_Angeles:20260501T120000
DTSTAMP:20260419T053613
CREATED:20250623T163658Z
LAST-MODIFIED:20250623T163658Z
UID:10022270-1777633200-1777636800@tillamookchamber.org
SUMMARY:Storytime at Garibaldi Library
DESCRIPTION:Kids of all ages are welcome to the Garibaldi Library for storytime\, Fridays at 11:00am.
URL:https://tillamookchamber.org/event/storytime-at-garibaldi-library/2026-05-01/
LOCATION:Garibaldi Library\, 107 6th St\, Garibaldi OR
CATEGORIES:Community,Family Fun
ATTACH;FMTTYPE=image/png:https://tillamookchamber.org/wp-content/uploads/2024/12/Garibaldi-Story-Time-flyer.png
END:VEVENT
BEGIN:VEVENT
DTSTART;TZID=America/Los_Angeles:20260508T110000
DTEND;TZID=America/Los_Angeles:20260508T120000
DTSTAMP:20260419T053613
CREATED:20250623T163658Z
LAST-MODIFIED:20250623T163658Z
UID:10022271-1778238000-1778241600@tillamookchamber.org
SUMMARY:Storytime at Garibaldi Library
DESCRIPTION:Kids of all ages are welcome to the Garibaldi Library for storytime\, Fridays at 11:00am.
URL:https://tillamookchamber.org/event/storytime-at-garibaldi-library/2026-05-08/
LOCATION:Garibaldi Library\, 107 6th St\, Garibaldi OR
CATEGORIES:Community,Family Fun
ATTACH;FMTTYPE=image/png:https://tillamookchamber.org/wp-content/uploads/2024/12/Garibaldi-Story-Time-flyer.png
END:VEVENT
BEGIN:VEVENT
DTSTART;TZID=America/Los_Angeles:20260515T110000
DTEND;TZID=America/Los_Angeles:20260515T120000
DTSTAMP:20260419T053613
CREATED:20250623T163658Z
LAST-MODIFIED:20250623T163658Z
UID:10022272-1778842800-1778846400@tillamookchamber.org
SUMMARY:Storytime at Garibaldi Library
DESCRIPTION:Kids of all ages are welcome to the Garibaldi Library for storytime\, Fridays at 11:00am.
URL:https://tillamookchamber.org/event/storytime-at-garibaldi-library/2026-05-15/
LOCATION:Garibaldi Library\, 107 6th St\, Garibaldi OR
CATEGORIES:Community,Family Fun
ATTACH;FMTTYPE=image/png:https://tillamookchamber.org/wp-content/uploads/2024/12/Garibaldi-Story-Time-flyer.png
END:VEVENT
BEGIN:VEVENT
DTSTART;TZID=America/Los_Angeles:20260522T110000
DTEND;TZID=America/Los_Angeles:20260522T120000
DTSTAMP:20260419T053613
CREATED:20250623T163658Z
LAST-MODIFIED:20250623T163658Z
UID:10022273-1779447600-1779451200@tillamookchamber.org
SUMMARY:Storytime at Garibaldi Library
DESCRIPTION:Kids of all ages are welcome to the Garibaldi Library for storytime\, Fridays at 11:00am.
URL:https://tillamookchamber.org/event/storytime-at-garibaldi-library/2026-05-22/
LOCATION:Garibaldi Library\, 107 6th St\, Garibaldi OR
CATEGORIES:Community,Family Fun
ATTACH;FMTTYPE=image/png:https://tillamookchamber.org/wp-content/uploads/2024/12/Garibaldi-Story-Time-flyer.png
END:VEVENT
BEGIN:VEVENT
DTSTART;TZID=America/Los_Angeles:20260529T110000
DTEND;TZID=America/Los_Angeles:20260529T120000
DTSTAMP:20260419T053613
CREATED:20250623T163658Z
LAST-MODIFIED:20250623T163658Z
UID:10022274-1780052400-1780056000@tillamookchamber.org
SUMMARY:Storytime at Garibaldi Library
DESCRIPTION:Kids of all ages are welcome to the Garibaldi Library for storytime\, Fridays at 11:00am.
URL:https://tillamookchamber.org/event/storytime-at-garibaldi-library/2026-05-29/
LOCATION:Garibaldi Library\, 107 6th St\, Garibaldi OR
CATEGORIES:Community,Family Fun
ATTACH;FMTTYPE=image/png:https://tillamookchamber.org/wp-content/uploads/2024/12/Garibaldi-Story-Time-flyer.png
END:VEVENT
BEGIN:VEVENT
DTSTART;TZID=America/Los_Angeles:20260605T110000
DTEND;TZID=America/Los_Angeles:20260605T120000
DTSTAMP:20260419T053613
CREATED:20250623T163658Z
LAST-MODIFIED:20250623T163658Z
UID:10022275-1780657200-1780660800@tillamookchamber.org
SUMMARY:Storytime at Garibaldi Library
DESCRIPTION:Kids of all ages are welcome to the Garibaldi Library for storytime\, Fridays at 11:00am.
URL:https://tillamookchamber.org/event/storytime-at-garibaldi-library/2026-06-05/
LOCATION:Garibaldi Library\, 107 6th St\, Garibaldi OR
CATEGORIES:Community,Family Fun
ATTACH;FMTTYPE=image/png:https://tillamookchamber.org/wp-content/uploads/2024/12/Garibaldi-Story-Time-flyer.png
END:VEVENT
BEGIN:VEVENT
DTSTART;TZID=America/Los_Angeles:20260612T110000
DTEND;TZID=America/Los_Angeles:20260612T120000
DTSTAMP:20260419T053613
CREATED:20250623T163658Z
LAST-MODIFIED:20250623T163658Z
UID:10022276-1781262000-1781265600@tillamookchamber.org
SUMMARY:Storytime at Garibaldi Library
DESCRIPTION:Kids of all ages are welcome to the Garibaldi Library for storytime\, Fridays at 11:00am.
URL:https://tillamookchamber.org/event/storytime-at-garibaldi-library/2026-06-12/
LOCATION:Garibaldi Library\, 107 6th St\, Garibaldi OR
CATEGORIES:Community,Family Fun
ATTACH;FMTTYPE=image/png:https://tillamookchamber.org/wp-content/uploads/2024/12/Garibaldi-Story-Time-flyer.png
END:VEVENT
BEGIN:VEVENT
DTSTART;TZID=America/Los_Angeles:20260619T110000
DTEND;TZID=America/Los_Angeles:20260619T120000
DTSTAMP:20260419T053613
CREATED:20250623T163658Z
LAST-MODIFIED:20250623T163658Z
UID:10022277-1781866800-1781870400@tillamookchamber.org
SUMMARY:Storytime at Garibaldi Library
DESCRIPTION:Kids of all ages are welcome to the Garibaldi Library for storytime\, Fridays at 11:00am.
URL:https://tillamookchamber.org/event/storytime-at-garibaldi-library/2026-06-19/
LOCATION:Garibaldi Library\, 107 6th St\, Garibaldi OR
CATEGORIES:Community,Family Fun
ATTACH;FMTTYPE=image/png:https://tillamookchamber.org/wp-content/uploads/2024/12/Garibaldi-Story-Time-flyer.png
END:VEVENT
END:VCALENDAR