BEGIN:VCALENDAR
VERSION:2.0
PRODID:-//Tillamook Area Chamber of Commerce - ECPv6.15.20//NONSGML v1.0//EN
CALSCALE:GREGORIAN
METHOD:PUBLISH
X-ORIGINAL-URL:https://tillamookchamber.org
X-WR-CALDESC:Events for Tillamook Area Chamber of Commerce
REFRESH-INTERVAL;VALUE=DURATION:PT1H
X-Robots-Tag:noindex
X-PUBLISHED-TTL:PT1H
BEGIN:VTIMEZONE
TZID:America/Los_Angeles
BEGIN:DAYLIGHT
TZOFFSETFROM:-0800
TZOFFSETTO:-0700
TZNAME:PDT
DTSTART:20240310T100000
END:DAYLIGHT
BEGIN:STANDARD
TZOFFSETFROM:-0700
TZOFFSETTO:-0800
TZNAME:PST
DTSTART:20241103T090000
END:STANDARD
BEGIN:DAYLIGHT
TZOFFSETFROM:-0800
TZOFFSETTO:-0700
TZNAME:PDT
DTSTART:20250309T100000
END:DAYLIGHT
BEGIN:STANDARD
TZOFFSETFROM:-0700
TZOFFSETTO:-0800
TZNAME:PST
DTSTART:20251102T090000
END:STANDARD
BEGIN:DAYLIGHT
TZOFFSETFROM:-0800
TZOFFSETTO:-0700
TZNAME:PDT
DTSTART:20260308T100000
END:DAYLIGHT
BEGIN:STANDARD
TZOFFSETFROM:-0700
TZOFFSETTO:-0800
TZNAME:PST
DTSTART:20261101T090000
END:STANDARD
END:VTIMEZONE
BEGIN:VEVENT
DTSTART;TZID=America/Los_Angeles:20250201T090000
DTEND;TZID=America/Los_Angeles:20250201T100000
DTSTAMP:20260425T054729
CREATED:20240410T154520Z
LAST-MODIFIED:20240410T154520Z
UID:10009818-1738400400-1738404000@tillamookchamber.org
SUMMARY:Yoga in Pacific City
DESCRIPTION:Yoga with Dawn 9am Mondays\, Wednesday\, Fridays & Saturdays \nCome enjoy the natural light with a forested dune as your backdrop on the mat.
URL:https://tillamookchamber.org/event/yoga-in-pacific-city/2025-02-01/
LOCATION:Kiawanda Community Center\, 34600 Cape Kiwanda Dr\, Pacific City\, OR 97135\, OR\, United States
CATEGORIES:Fitness and Athletics
ATTACH;FMTTYPE=image/png:https://tillamookchamber.org/wp-content/uploads/2024/04/Yoga.png
END:VEVENT
BEGIN:VEVENT
DTSTART;TZID=America/Los_Angeles:20250201T120000
DTEND;TZID=America/Los_Angeles:20250201T130000
DTSTAMP:20260425T054729
CREATED:20250129T223555Z
LAST-MODIFIED:20250129T223555Z
UID:10017789-1738411200-1738414800@tillamookchamber.org
SUMMARY:Local Updates on the Salmonberry Trail
DESCRIPTION:Join Salmonberry Trail Foundation Executive Director Caroline Fitchett at the NCRD Gallery in Nehalem for an update on the progress and future plans for building the Salmonberry Trail in 2025 and beyond. She will outline the construction priorities to build 8 miles of trail over the next two years\, including key segments in Wheeler\, Rockaway Beach\, Tillamook\, and Washington County. Caroline will also spotlight the vital contributions of volunteers\, key partnerships\, and the trail’s potential to transform our region. The Salmonberry Trail Foundation looks forward to connecting with members of the North Coast community\, answering your questions about priorities\, and sharing opportunities to get involved in this exciting effort.
URL:https://tillamookchamber.org/event/local-updates-on-the-salmonberry-trail/
LOCATION:North County Recreation District\, 36155 9th St\, Nehalem\, OR\, 97131\, United States
CATEGORIES:Community,Education
END:VEVENT
BEGIN:VEVENT
DTSTART;TZID=America/Los_Angeles:20250202T130000
DTEND;TZID=America/Los_Angeles:20250202T150000
DTSTAMP:20260425T054729
CREATED:20250113T232748Z
LAST-MODIFIED:20250113T232748Z
UID:10017758-1738501200-1738508400@tillamookchamber.org
SUMMARY:Art for the Heart: Artist and Community Reception
DESCRIPTION:The Art for the Heart Artist and Community Reception officially opens a month-long\, non-juried art exhibition in a celebration of creativity\, community and the connection between art and a healthy heart. \nAdventist Health Tillamook is proud to partner with local artists to create a space where the community can explore the intersection of art\, wellness and connection. Artistic expression has been shown to reduce stress and promote relaxation\, providing benefits for both heart health and the mind. \nDrop by and enjoy! \n\nLive music by Ivan Danilich\, classical guitarist\nRefreshments\nA diverse range of artwork and vote for your favorites\nPurchase artwork*\n\nFor more information or to learn how to submit art for the exhibition\, visit AdventistHealthTillamook.org/ArtForTheHeart or email McLainAL@ah.org. \n*20% of proceeds go to support fitness scholarships at NCRD to promote heart health in the North County community.
URL:https://tillamookchamber.org/event/art-for-the-heart-artist-and-community-reception/
LOCATION:North County Recreation District\, 36155 9th St\, Nehalem\, OR\, 97131\, United States
CATEGORIES:Arts and Culture,Community,Live Music
END:VEVENT
BEGIN:VEVENT
DTSTART;TZID=America/Los_Angeles:20250202T180000
DTEND;TZID=America/Los_Angeles:20250202T193000
DTSTAMP:20260425T054729
CREATED:20250124T002159Z
LAST-MODIFIED:20250124T002159Z
UID:10017779-1738519200-1738524600@tillamookchamber.org
SUMMARY:Worship at the Coliseum Theater
DESCRIPTION:Worship at the Coliseum is Back! \n\n\n\nWe’re so excited to announce our next Worship at the Coliseum event—a night dedicated to worship and celebrating God’s goodness! \n\n\n When: February 2nd at 6 PM\n Where: Tillamook Coliseum\n\n\n\nThis isn’t just a church event—it’s a chance for those who might not come to a church but would come to a movie theater instead. \n\n\n\nOur goal:\n Encourage believers with powerful worship.\n Convict and challenge people through the life-changing love of Jesus.\n\n\n\nStart inviting now!\n\nLet’s fill the theater with hearts ready to encounter God. \n\n\nFor more info on Living Water Fellowship the church putting this event on head to livingwatercoast.com
URL:https://tillamookchamber.org/event/worship-at-the-coliseum-theater/
LOCATION:Tillamook Coliseum Theater\, 310 Main Ave. Tillamook
CATEGORIES:Community
ATTACH;FMTTYPE=image/png:https://tillamookchamber.org/wp-content/uploads/2025/01/IMG_7249-copy.png
END:VEVENT
BEGIN:VEVENT
DTSTART;TZID=America/Los_Angeles:20250203T090000
DTEND;TZID=America/Los_Angeles:20250203T100000
DTSTAMP:20260425T054729
CREATED:20240410T154520Z
LAST-MODIFIED:20240410T154520Z
UID:10009819-1738573200-1738576800@tillamookchamber.org
SUMMARY:Yoga in Pacific City
DESCRIPTION:Yoga with Dawn 9am Mondays\, Wednesday\, Fridays & Saturdays \nCome enjoy the natural light with a forested dune as your backdrop on the mat.
URL:https://tillamookchamber.org/event/yoga-in-pacific-city/2025-02-03/
LOCATION:Kiawanda Community Center\, 34600 Cape Kiwanda Dr\, Pacific City\, OR 97135\, OR\, United States
CATEGORIES:Fitness and Athletics
ATTACH;FMTTYPE=image/png:https://tillamookchamber.org/wp-content/uploads/2024/04/Yoga.png
END:VEVENT
BEGIN:VEVENT
DTSTART;TZID=America/Los_Angeles:20250203T100000
DTEND;TZID=America/Los_Angeles:20250203T110000
DTSTAMP:20260425T054729
CREATED:20240410T154635Z
LAST-MODIFIED:20240410T154635Z
UID:10011663-1738576800-1738580400@tillamookchamber.org
SUMMARY:Walking Wonders
DESCRIPTION:Join this active group rain or shine to get your steps in and around town.
URL:https://tillamookchamber.org/event/walking-wonders/2025-02-03/
LOCATION:Kiawanda Community Center\, 34600 Cape Kiwanda Dr\, Pacific City\, OR 97135\, OR\, United States
CATEGORIES:Fitness and Athletics
ATTACH;FMTTYPE=image/png:https://tillamookchamber.org/wp-content/uploads/2024/04/Walking-Wonders.png
END:VEVENT
BEGIN:VEVENT
DTSTART;TZID=America/Los_Angeles:20250204T090000
DTEND;TZID=America/Los_Angeles:20250204T100000
DTSTAMP:20260425T054729
CREATED:20240410T154541Z
LAST-MODIFIED:20240410T154541Z
UID:10010778-1738659600-1738663200@tillamookchamber.org
SUMMARY:Fit and Fabulous at the KCC
DESCRIPTION:Come join this group keeping active two days a week. Only $15 for the month!
URL:https://tillamookchamber.org/event/fit-and-fabulous-at-the-kcc/2025-02-04/
LOCATION:Kiawanda Community Center\, 34600 Cape Kiwanda Dr\, Pacific City\, OR 97135\, OR\, United States
CATEGORIES:Fitness and Athletics
ATTACH;FMTTYPE=image/png:https://tillamookchamber.org/wp-content/uploads/2024/04/Fit-Fabulous.png
END:VEVENT
BEGIN:VEVENT
DTSTART;TZID=America/Los_Angeles:20250204T100000
DTEND;TZID=America/Los_Angeles:20250204T110000
DTSTAMP:20260425T054729
CREATED:20230113T201225Z
LAST-MODIFIED:20230124T214552Z
UID:10020037-1738663200-1738666800@tillamookchamber.org
SUMMARY:Tillamook Main Library Storytime: Terrific Twos
DESCRIPTION:Terrific Twos (TT) on Tues @ 10am; developmentally appropriate for 24-36mos; bubbles\, balls\, parachute & instruments! There is no expectation that your children will sit still or be quiet. It’s not developmentally appropriate to ask them to. \nA couple of things about the children’s room that might set you at ease: \n\nThere is no expectation that it will be a quiet zone; kids are kids and they are allowed to act themselves in the children’s room.\nOnly 2 hard and fast rules: No Running & No Screaming.\nIf your child needs a snack\, feed them!
URL:https://tillamookchamber.org/event/tillamook-main-library-storytime-terrific-twos/2025-02-04/
LOCATION:Tillamook Main Library\, Tillamook\, 1716 3rd St\, Tillamook\, OR\, 97141\, United States
CATEGORIES:Education,Family Fun
ATTACH;FMTTYPE=image/jpeg:https://tillamookchamber.org/wp-content/uploads/2023/01/TCL-white.jpg
ORGANIZER;CN="Melanie Hetrick":MAILTO:mhetrick@co.tillamook.or.us
END:VEVENT
BEGIN:VEVENT
DTSTART;TZID=America/Los_Angeles:20250204T100000
DTEND;TZID=America/Los_Angeles:20250204T150000
DTSTAMP:20260425T054729
CREATED:20241023T224303Z
LAST-MODIFIED:20241023T224303Z
UID:10016546-1738663200-1738681200@tillamookchamber.org
SUMMARY:Tuesday Stitchers
DESCRIPTION:Come and be a part of a community of people who love to make things for others\, and in turn make friends within the group. All levels are welcome. \nJoin us at the Kiawanda Community Center on Tuesdays from 10 AM to 3 PM in the Great Hall. \nFirst Monday every month from 4 to 9 PM. \nCall (503) 965-7900 for more details | $6 admission
URL:https://tillamookchamber.org/event/tuesday-stitchers/2025-02-04/
LOCATION:Kiawanda Community Center\, 34600 Cape Kiwanda Dr\, Pacific City\, OR 97135\, OR\, United States
CATEGORIES:Classes and Workshops,Community
ATTACH;FMTTYPE=image/png:https://tillamookchamber.org/wp-content/uploads/2024/10/Tuesday-Stitchers-Group-Flyer.png
END:VEVENT
BEGIN:VEVENT
DTSTART;TZID=America/Los_Angeles:20250204T130000
DTEND;TZID=America/Los_Angeles:20250204T150000
DTSTAMP:20260425T054729
CREATED:20250204T204631Z
LAST-MODIFIED:20250204T204631Z
UID:10017867-1738674000-1738681200@tillamookchamber.org
SUMMARY:The Salty Strings Ukulele Group of Rockaway Beach Weekly Jam
DESCRIPTION:Salty Strings Ukulele Group Jam.\nRockaway Beach City Hall.\nEvery Tuesday from 1-3.\nAll are welcome. \n 
URL:https://tillamookchamber.org/event/the-salty-strings-ukulele-group-of-rockaway-beach-weekly-jam/
CATEGORIES:Classes and Workshops,Community
END:VEVENT
BEGIN:VEVENT
DTSTART;TZID=America/Los_Angeles:20250205T090000
DTEND;TZID=America/Los_Angeles:20250205T100000
DTSTAMP:20260425T054729
CREATED:20240410T154520Z
LAST-MODIFIED:20240410T154520Z
UID:10009820-1738746000-1738749600@tillamookchamber.org
SUMMARY:Yoga in Pacific City
DESCRIPTION:Yoga with Dawn 9am Mondays\, Wednesday\, Fridays & Saturdays \nCome enjoy the natural light with a forested dune as your backdrop on the mat.
URL:https://tillamookchamber.org/event/yoga-in-pacific-city/2025-02-05/
LOCATION:Kiawanda Community Center\, 34600 Cape Kiwanda Dr\, Pacific City\, OR 97135\, OR\, United States
CATEGORIES:Fitness and Athletics
ATTACH;FMTTYPE=image/png:https://tillamookchamber.org/wp-content/uploads/2024/04/Yoga.png
END:VEVENT
BEGIN:VEVENT
DTSTART;TZID=America/Los_Angeles:20250205T100000
DTEND;TZID=America/Los_Angeles:20250205T110000
DTSTAMP:20260425T054729
CREATED:20230113T205344Z
LAST-MODIFIED:20230113T205344Z
UID:10019396-1738749600-1738753200@tillamookchamber.org
SUMMARY:Tillamook Main Library Storytime: Preschool
DESCRIPTION:Preschool storytime (PS) on Wed @ 10; developmentally appropriate for 3-5 yos; music\, stories\, interactive play and lots of laughs! In this class little begin to learn about a leader at the front of the room\, how to hold their wiggles\, listening and sitting still. When a child is transitioning from TT to PS my expectation is that they will sit for 5-10 minutes and then they might go play. I do not force them to sit still if they are not ready to. \nA couple of things about the children’s room that might set you at ease: \n\nThere is no expectation that it will be a quiet zone; kids are kids and they are allowed to act like themselves in the children’s room.\nOnly 2 hard and fast rules: No Running & No Screaming.\nIf your child needs a snack\, feed them!
URL:https://tillamookchamber.org/event/tillamook-main-library-storytime-preschool/2025-02-05/
LOCATION:Tillamook Main Library\, Tillamook\, 1716 3rd St\, Tillamook\, OR\, 97141\, United States
CATEGORIES:Education,Family Fun
ATTACH;FMTTYPE=image/png:https://tillamookchamber.org/wp-content/uploads/2023/01/TCL-transparent-logo.png
ORGANIZER;CN="Melanie Hetrick":MAILTO:mhetrick@co.tillamook.or.us
END:VEVENT
BEGIN:VEVENT
DTSTART;TZID=America/Los_Angeles:20250205T100000
DTEND;TZID=America/Los_Angeles:20250205T110000
DTSTAMP:20260425T054729
CREATED:20240410T154635Z
LAST-MODIFIED:20240410T154635Z
UID:10011664-1738749600-1738753200@tillamookchamber.org
SUMMARY:Walking Wonders
DESCRIPTION:Join this active group rain or shine to get your steps in and around town.
URL:https://tillamookchamber.org/event/walking-wonders/2025-02-05/
LOCATION:Kiawanda Community Center\, 34600 Cape Kiwanda Dr\, Pacific City\, OR 97135\, OR\, United States
CATEGORIES:Fitness and Athletics
ATTACH;FMTTYPE=image/png:https://tillamookchamber.org/wp-content/uploads/2024/04/Walking-Wonders.png
END:VEVENT
BEGIN:VEVENT
DTSTART;TZID=America/Los_Angeles:20250205T180000
DTEND;TZID=America/Los_Angeles:20250205T190000
DTSTAMP:20260425T054729
CREATED:20250128T184854Z
LAST-MODIFIED:20250128T184854Z
UID:10017786-1738778400-1738782000@tillamookchamber.org
SUMMARY:Rockaway Beach Emergency Preparedness Monthly Class
DESCRIPTION:Did you know? Approximately 40% of trauma-related deaths worldwide are due to bleeding or its consequences and uncontrolled bleeding is a major cause of preventable deaths. \nJoin Rockaway Beach Fire Rescue and Rockaway Beach Emergency Preparedness and learn this important life saving skill. \nClass presented by Rockaway Beach Fire Rescue Captain Paramedic Geoff Grace.
URL:https://tillamookchamber.org/event/rockaway-beach-emergency-preparedness-monthly-class/
LOCATION:Rockaway Beach City Hall\, 276 Hwy 101 S. Rockaway Beach OR 97136
CATEGORIES:Business,Classes and Workshops,Community
ATTACH;FMTTYPE=image/jpeg:https://tillamookchamber.org/wp-content/uploads/2025/01/Image-1-28-25-at-9.38 AM.jpeg
END:VEVENT
BEGIN:VEVENT
DTSTART;TZID=America/Los_Angeles:20250205T180000
DTEND;TZID=America/Los_Angeles:20250205T200000
DTSTAMP:20260425T054729
CREATED:20241231T223249Z
LAST-MODIFIED:20241231T223249Z
UID:10017739-1738778400-1738785600@tillamookchamber.org
SUMMARY:February Movies at Tillamook Library: Celebrating Black Artists
DESCRIPTION:Join us Wednesday nights at Tillamook Main for movies and popcorn at 6 pm in the Hatfield Room! Themes change monthly. All movie summaries attributed to IMDB.com\nFebruary Movies: Black Artists\n2/5 The Wiz (1978) An adaptation of “The Wizard of Oz” that tries to capture the essence of the African-American experience. \n2/19 Black Panther (2018) T’Challa\, heir to the hidden but advanced kingdom of Wakanda\, must step forward to lead his people into a new future and must confront a challenger from his country’s past. \n2/26 Akeelah and the Bee (2006) Akeelah\, a young gifted girl\, comes from a dysfunctional family and is on the verge of quitting school. She discovers that she has a high aptitude for spellings and enters a spelling bee contest.
URL:https://tillamookchamber.org/event/february-movies-at-tillamook-library-celebrating-black-artists/2025-02-05/
LOCATION:Tillamook County Library\, 1716 3rd Street Tillamook Oregon 97141
CATEGORIES:Community,Family Fun
END:VEVENT
BEGIN:VEVENT
DTSTART;TZID=America/Los_Angeles:20250206T090000
DTEND;TZID=America/Los_Angeles:20250206T100000
DTSTAMP:20260425T054729
CREATED:20240410T154541Z
LAST-MODIFIED:20240410T154541Z
UID:10010779-1738832400-1738836000@tillamookchamber.org
SUMMARY:Fit and Fabulous at the KCC
DESCRIPTION:Come join this group keeping active two days a week. Only $15 for the month!
URL:https://tillamookchamber.org/event/fit-and-fabulous-at-the-kcc/2025-02-06/
LOCATION:Kiawanda Community Center\, 34600 Cape Kiwanda Dr\, Pacific City\, OR 97135\, OR\, United States
CATEGORIES:Fitness and Athletics
ATTACH;FMTTYPE=image/png:https://tillamookchamber.org/wp-content/uploads/2024/04/Fit-Fabulous.png
END:VEVENT
BEGIN:VEVENT
DTSTART;TZID=America/Los_Angeles:20250206T100000
DTEND;TZID=America/Los_Angeles:20250206T110000
DTSTAMP:20260425T054729
CREATED:20241226T210254Z
LAST-MODIFIED:20241226T210254Z
UID:10017730-1738836000-1738839600@tillamookchamber.org
SUMMARY:Family Storytime at Bay City Library
DESCRIPTION:Bring the whole family down to the Bay City Library for a fun storytime and activity every Thursday at 10am!
URL:https://tillamookchamber.org/event/family-storytime-at-bay-city-library/2025-02-06/
LOCATION:Bay City Library\, 5525 B St\, Bay City\, OR
CATEGORIES:Community,Family Fun
ATTACH;FMTTYPE=image/png:https://tillamookchamber.org/wp-content/uploads/2024/12/Bay-City-Storytime.png
END:VEVENT
BEGIN:VEVENT
DTSTART;TZID=America/Los_Angeles:20250206T100000
DTEND;TZID=America/Los_Angeles:20250206T110000
DTSTAMP:20260425T054729
CREATED:20241226T211146Z
LAST-MODIFIED:20241226T211146Z
UID:10017464-1738836000-1738839600@tillamookchamber.org
SUMMARY:Family Storytime at Bay City Library
DESCRIPTION:Bring the whole family down to the Bay City Library for a fun storytime and activity every Thursday at 10am!
URL:https://tillamookchamber.org/event/family-storytime-at-bay-city-library-2/2025-02-06/
LOCATION:Bay City Library\, 5525 B St\, Bay City\, OR
CATEGORIES:Community,Family Fun
ATTACH;FMTTYPE=image/png:https://tillamookchamber.org/wp-content/uploads/2024/12/Bay-City-Storytime1.png
END:VEVENT
BEGIN:VEVENT
DTSTART;TZID=America/Los_Angeles:20250206T103000
DTEND;TZID=America/Los_Angeles:20250206T113000
DTSTAMP:20260425T054729
CREATED:20240410T154601Z
LAST-MODIFIED:20240410T154601Z
UID:10011257-1738837800-1738841400@tillamookchamber.org
SUMMARY:Tai Chi at the KCC
DESCRIPTION:Come to this weekly class in Pacific City to learn the forms in this moving meditation. Feel your life force flowing through you and get energized for you day!
URL:https://tillamookchamber.org/event/tai-chi-at-the-kcc/2025-02-06/
LOCATION:Kiawanda Community Center\, 34600 Cape Kiwanda Dr\, Pacific City\, OR 97135\, OR\, United States
CATEGORIES:Fitness and Athletics
ATTACH;FMTTYPE=image/png:https://tillamookchamber.org/wp-content/uploads/2024/04/Tai-Chi.png
END:VEVENT
BEGIN:VEVENT
DTSTART;TZID=America/Los_Angeles:20250206T140000
DTEND;TZID=America/Los_Angeles:20250206T150000
DTSTAMP:20260425T054729
CREATED:20241231T220054Z
LAST-MODIFIED:20241231T220054Z
UID:10017746-1738850400-1738854000@tillamookchamber.org
SUMMARY:Springtime Blues with Helen Beaman
DESCRIPTION:Join an expert as we discuss the myths and facts on seasonal patterns of depression\, signs that you might have “the blues\,” and what prevention and treatment options exist to help you work through these emotions. The goal is to help you find a way to enjoy springtime in whatever capacity is healthiest for you.
URL:https://tillamookchamber.org/event/springtime-blues-with-helen-beaman/
LOCATION:Tillamook County Library\, 1716 3rd Street Tillamook Oregon 97141
CATEGORIES:Community,Education
ATTACH;FMTTYPE=image/png:https://tillamookchamber.org/wp-content/uploads/2024/12/Springtime-Blues1.png
END:VEVENT
BEGIN:VEVENT
DTSTART;TZID=America/Los_Angeles:20250206T160000
DTEND;TZID=America/Los_Angeles:20250206T173000
DTSTAMP:20260425T054729
CREATED:20240822T191911Z
LAST-MODIFIED:20240822T191911Z
UID:10015586-1738857600-1738863000@tillamookchamber.org
SUMMARY:Knitting Group
DESCRIPTION:Join a fun group of knitters at North Tillamook Library in Manzanita on Thursdays from 4pm to 5:30pm.
URL:https://tillamookchamber.org/event/knitting-group/2025-02-06/
LOCATION:North Tillamook Library\, 571 Laneda Ave\, Manzanita\, OR 97130
CATEGORIES:Community,Education
ATTACH;FMTTYPE=image/png:https://tillamookchamber.org/wp-content/uploads/2024/08/logo.png
END:VEVENT
BEGIN:VEVENT
DTSTART;TZID=America/Los_Angeles:20250207T090000
DTEND;TZID=America/Los_Angeles:20250207T100000
DTSTAMP:20260425T054729
CREATED:20240410T154520Z
LAST-MODIFIED:20240410T154520Z
UID:10009821-1738918800-1738922400@tillamookchamber.org
SUMMARY:Yoga in Pacific City
DESCRIPTION:Yoga with Dawn 9am Mondays\, Wednesday\, Fridays & Saturdays \nCome enjoy the natural light with a forested dune as your backdrop on the mat.
URL:https://tillamookchamber.org/event/yoga-in-pacific-city/2025-02-07/
LOCATION:Kiawanda Community Center\, 34600 Cape Kiwanda Dr\, Pacific City\, OR 97135\, OR\, United States
CATEGORIES:Fitness and Athletics
ATTACH;FMTTYPE=image/png:https://tillamookchamber.org/wp-content/uploads/2024/04/Yoga.png
END:VEVENT
BEGIN:VEVENT
DTSTART;TZID=America/Los_Angeles:20250207T100000
DTEND;TZID=America/Los_Angeles:20250207T110000
DTSTAMP:20260425T054729
CREATED:20230113T205450Z
LAST-MODIFIED:20230113T205556Z
UID:10019717-1738922400-1738926000@tillamookchamber.org
SUMMARY:Tillamook Main Library Storytime: Mother Goose on the Loose
DESCRIPTION:Mother Goose on the Loose (MGOL) on Fri @ 10am; developmentally appropriate for birth to 24mos; rhythm\, rhymes\, instruments\, scarves and puppets! There is no expectation that your children will sit still or be quiet. It’s not developmentally appropriate to ask them to.
URL:https://tillamookchamber.org/event/tillamook-main-library-storytime-mother-goose-on-the-loose/2025-02-07/
LOCATION:Tillamook Main Library\, Tillamook\, 1716 3rd St\, Tillamook\, OR\, 97141\, United States
CATEGORIES:Education,Family Fun
ATTACH;FMTTYPE=image/png:https://tillamookchamber.org/wp-content/uploads/2023/01/TCL-transparent-logo-1.png
ORGANIZER;CN="Melanie Hetrick":MAILTO:mhetrick@co.tillamook.or.us
END:VEVENT
BEGIN:VEVENT
DTSTART;TZID=America/Los_Angeles:20250207T100000
DTEND;TZID=America/Los_Angeles:20250207T110000
DTSTAMP:20260425T054729
CREATED:20240410T154635Z
LAST-MODIFIED:20240410T154635Z
UID:10011665-1738922400-1738926000@tillamookchamber.org
SUMMARY:Walking Wonders
DESCRIPTION:Join this active group rain or shine to get your steps in and around town.
URL:https://tillamookchamber.org/event/walking-wonders/2025-02-07/
LOCATION:Kiawanda Community Center\, 34600 Cape Kiwanda Dr\, Pacific City\, OR 97135\, OR\, United States
CATEGORIES:Fitness and Athletics
ATTACH;FMTTYPE=image/png:https://tillamookchamber.org/wp-content/uploads/2024/04/Walking-Wonders.png
END:VEVENT
BEGIN:VEVENT
DTSTART;TZID=America/Los_Angeles:20250207T163000
DTEND;TZID=America/Los_Angeles:20250207T200000
DTSTAMP:20260425T054729
CREATED:20250122T001213Z
LAST-MODIFIED:20250122T001213Z
UID:10017775-1738945800-1738958400@tillamookchamber.org
SUMMARY:First Friday at the Blue Heron
DESCRIPTION:Stop by between 4:30 pm – 8:00 pm to enjoy music by NE Daynow\, tasting  G3 & Revelation wines by Goose Ridge; the menu will be Pappardelle Bolognese served with Caesar Salad & Garlic Bread. \nBlue Heron French Cheese Co. located at 2001 Blue Heron Dr. Tillamook
URL:https://tillamookchamber.org/event/first-friday-at-the-blue-heron-2/
LOCATION:Blue Heron French Cheese Co.\, 2001 Blue Heron Rd A\, Tillamook\, OR 97141\, OR
CATEGORIES:Community,Live Music
END:VEVENT
BEGIN:VEVENT
DTSTART;TZID=America/Los_Angeles:20250208T090000
DTEND;TZID=America/Los_Angeles:20250208T100000
DTSTAMP:20260425T054729
CREATED:20240410T154520Z
LAST-MODIFIED:20240410T154520Z
UID:10009822-1739005200-1739008800@tillamookchamber.org
SUMMARY:Yoga in Pacific City
DESCRIPTION:Yoga with Dawn 9am Mondays\, Wednesday\, Fridays & Saturdays \nCome enjoy the natural light with a forested dune as your backdrop on the mat.
URL:https://tillamookchamber.org/event/yoga-in-pacific-city/2025-02-08/
LOCATION:Kiawanda Community Center\, 34600 Cape Kiwanda Dr\, Pacific City\, OR 97135\, OR\, United States
CATEGORIES:Fitness and Athletics
ATTACH;FMTTYPE=image/png:https://tillamookchamber.org/wp-content/uploads/2024/04/Yoga.png
END:VEVENT
BEGIN:VEVENT
DTSTART;TZID=America/Los_Angeles:20250208T100000
DTEND;TZID=America/Los_Angeles:20250208T160000
DTSTAMP:20260425T054729
CREATED:20250113T233302Z
LAST-MODIFIED:20250113T233302Z
UID:10017757-1739008800-1739030400@tillamookchamber.org
SUMMARY:Tillamook Artisan Market
DESCRIPTION:Come join your local Artisans on February 8th from 10-4\, and First Christian Church. (2203 4th street) \nWe have everything covered from Leather Notebooks to crochet stuffies\, native artwork and tote bags\, freeze dried candy to baked goods!
URL:https://tillamookchamber.org/event/tillamook-artisan-market/
LOCATION:Tillamook First Christian Church\, 2203 4th Street\, OR\, United States
CATEGORIES:Community,Shopping and Sales
ATTACH;FMTTYPE=image/png:https://tillamookchamber.org/wp-content/uploads/2025/01/Tillamook-Artisan-Documentfeb.png
END:VEVENT
BEGIN:VEVENT
DTSTART;TZID=America/Los_Angeles:20250210T090000
DTEND;TZID=America/Los_Angeles:20250210T100000
DTSTAMP:20260425T054729
CREATED:20240410T154520Z
LAST-MODIFIED:20240410T154520Z
UID:10009823-1739178000-1739181600@tillamookchamber.org
SUMMARY:Yoga in Pacific City
DESCRIPTION:Yoga with Dawn 9am Mondays\, Wednesday\, Fridays & Saturdays \nCome enjoy the natural light with a forested dune as your backdrop on the mat.
URL:https://tillamookchamber.org/event/yoga-in-pacific-city/2025-02-10/
LOCATION:Kiawanda Community Center\, 34600 Cape Kiwanda Dr\, Pacific City\, OR 97135\, OR\, United States
CATEGORIES:Fitness and Athletics
ATTACH;FMTTYPE=image/png:https://tillamookchamber.org/wp-content/uploads/2024/04/Yoga.png
END:VEVENT
BEGIN:VEVENT
DTSTART;TZID=America/Los_Angeles:20250210T100000
DTEND;TZID=America/Los_Angeles:20250210T110000
DTSTAMP:20260425T054729
CREATED:20240410T154635Z
LAST-MODIFIED:20240410T154635Z
UID:10011666-1739181600-1739185200@tillamookchamber.org
SUMMARY:Walking Wonders
DESCRIPTION:Join this active group rain or shine to get your steps in and around town.
URL:https://tillamookchamber.org/event/walking-wonders/2025-02-10/
LOCATION:Kiawanda Community Center\, 34600 Cape Kiwanda Dr\, Pacific City\, OR 97135\, OR\, United States
CATEGORIES:Fitness and Athletics
ATTACH;FMTTYPE=image/png:https://tillamookchamber.org/wp-content/uploads/2024/04/Walking-Wonders.png
END:VEVENT
BEGIN:VEVENT
DTSTART;TZID=America/Los_Angeles:20250210T100000
DTEND;TZID=America/Los_Angeles:20250210T110000
DTSTAMP:20260425T054729
CREATED:20250129T223111Z
LAST-MODIFIED:20250129T223111Z
UID:10017787-1739181600-1739185200@tillamookchamber.org
SUMMARY:MUSCIAL STORYTIME at the Manzanita Library
DESCRIPTION:Musical Storytime\, a hands-on activity for preschoolers\, will be \noffered twice\, at 10 a.m. February 6 in the McTavish Room at the Liberty \nTheatre\, and again at 10 a.m. February 10 at the North Tillamook Library in \nManzanita. \nThe free readings\, for children ages 3 to 5\, will feature live percussion \naccompaniment by North Oregon Coast Symphony musician Carol \nShepherd. This month’s story is “Tanka Tanka Skunk\,” by Steve Webb. It is \na tale of best friends\, an elephant and skunk\, who beat out the name of \ntheir various friends with drums. With colorful illustrations and repetitive \nrhythms preschoolers will love to participate in this fun story. \nAfter the reading\, children will be able to play a variety of percussion \ninstruments and learn about drums\, the tambourine\, and rhythm sticks as \nShepherd demonstrates her instruments. \nSimilar events are being planned monthly in partnership between \nThe North Oregon Coast Symphony\, North Tillamook Library and Astoria \nLibrary. For more information\, visit the symphony’s website at \nwww.nocsymphony.org.\, https://www.astoria.gov/dept/Library\, or call \n503-325-4108.
URL:https://tillamookchamber.org/event/muscial-storytime-at-the-manzanita-library/
LOCATION:Manzanita Library\, 571 Laneda Ave Manzanita OR
CATEGORIES:Community,Family Fun
END:VEVENT
END:VCALENDAR