BEGIN:VCALENDAR
VERSION:2.0
PRODID:-//Tillamook Area Chamber of Commerce - ECPv6.15.20//NONSGML v1.0//EN
CALSCALE:GREGORIAN
METHOD:PUBLISH
X-ORIGINAL-URL:https://tillamookchamber.org
X-WR-CALDESC:Events for Tillamook Area Chamber of Commerce
REFRESH-INTERVAL;VALUE=DURATION:PT1H
X-Robots-Tag:noindex
X-PUBLISHED-TTL:PT1H
BEGIN:VTIMEZONE
TZID:America/Los_Angeles
BEGIN:DAYLIGHT
TZOFFSETFROM:-0800
TZOFFSETTO:-0700
TZNAME:PDT
DTSTART:20240310T100000
END:DAYLIGHT
BEGIN:STANDARD
TZOFFSETFROM:-0700
TZOFFSETTO:-0800
TZNAME:PST
DTSTART:20241103T090000
END:STANDARD
BEGIN:DAYLIGHT
TZOFFSETFROM:-0800
TZOFFSETTO:-0700
TZNAME:PDT
DTSTART:20250309T100000
END:DAYLIGHT
BEGIN:STANDARD
TZOFFSETFROM:-0700
TZOFFSETTO:-0800
TZNAME:PST
DTSTART:20251102T090000
END:STANDARD
BEGIN:DAYLIGHT
TZOFFSETFROM:-0800
TZOFFSETTO:-0700
TZNAME:PDT
DTSTART:20260308T100000
END:DAYLIGHT
BEGIN:STANDARD
TZOFFSETFROM:-0700
TZOFFSETTO:-0800
TZNAME:PST
DTSTART:20261101T090000
END:STANDARD
END:VTIMEZONE
BEGIN:VEVENT
DTSTART;TZID=America/Los_Angeles:20250101T090000
DTEND;TZID=America/Los_Angeles:20250101T100000
DTSTAMP:20260425T072609
CREATED:20240410T154520Z
LAST-MODIFIED:20240410T154520Z
UID:10009800-1735722000-1735725600@tillamookchamber.org
SUMMARY:Yoga in Pacific City
DESCRIPTION:Yoga with Dawn 9am Mondays\, Wednesday\, Fridays & Saturdays \nCome enjoy the natural light with a forested dune as your backdrop on the mat.
URL:https://tillamookchamber.org/event/yoga-in-pacific-city/2025-01-01/
LOCATION:Kiawanda Community Center\, 34600 Cape Kiwanda Dr\, Pacific City\, OR 97135\, OR\, United States
CATEGORIES:Fitness and Athletics
ATTACH;FMTTYPE=image/png:https://tillamookchamber.org/wp-content/uploads/2024/04/Yoga.png
END:VEVENT
BEGIN:VEVENT
DTSTART;TZID=America/Los_Angeles:20250101T100000
DTEND;TZID=America/Los_Angeles:20250101T110000
DTSTAMP:20260425T072609
CREATED:20230113T205344Z
LAST-MODIFIED:20230113T205344Z
UID:10019391-1735725600-1735729200@tillamookchamber.org
SUMMARY:Tillamook Main Library Storytime: Preschool
DESCRIPTION:Preschool storytime (PS) on Wed @ 10; developmentally appropriate for 3-5 yos; music\, stories\, interactive play and lots of laughs! In this class little begin to learn about a leader at the front of the room\, how to hold their wiggles\, listening and sitting still. When a child is transitioning from TT to PS my expectation is that they will sit for 5-10 minutes and then they might go play. I do not force them to sit still if they are not ready to. \nA couple of things about the children’s room that might set you at ease: \n\nThere is no expectation that it will be a quiet zone; kids are kids and they are allowed to act like themselves in the children’s room.\nOnly 2 hard and fast rules: No Running & No Screaming.\nIf your child needs a snack\, feed them!
URL:https://tillamookchamber.org/event/tillamook-main-library-storytime-preschool/2025-01-01/
LOCATION:Tillamook Main Library\, Tillamook\, 1716 3rd St\, Tillamook\, OR\, 97141\, United States
CATEGORIES:Education,Family Fun
ATTACH;FMTTYPE=image/png:https://tillamookchamber.org/wp-content/uploads/2023/01/TCL-transparent-logo.png
ORGANIZER;CN="Melanie Hetrick":MAILTO:mhetrick@co.tillamook.or.us
END:VEVENT
BEGIN:VEVENT
DTSTART;TZID=America/Los_Angeles:20250101T100000
DTEND;TZID=America/Los_Angeles:20250101T110000
DTSTAMP:20260425T072609
CREATED:20240410T154635Z
LAST-MODIFIED:20240410T154635Z
UID:10011649-1735725600-1735729200@tillamookchamber.org
SUMMARY:Walking Wonders
DESCRIPTION:Join this active group rain or shine to get your steps in and around town.
URL:https://tillamookchamber.org/event/walking-wonders/2025-01-01/
LOCATION:Kiawanda Community Center\, 34600 Cape Kiwanda Dr\, Pacific City\, OR 97135\, OR\, United States
CATEGORIES:Fitness and Athletics
ATTACH;FMTTYPE=image/png:https://tillamookchamber.org/wp-content/uploads/2024/04/Walking-Wonders.png
END:VEVENT
BEGIN:VEVENT
DTSTART;TZID=America/Los_Angeles:20250102T090000
DTEND;TZID=America/Los_Angeles:20250102T100000
DTSTAMP:20260425T072609
CREATED:20240410T154541Z
LAST-MODIFIED:20240410T154541Z
UID:10010769-1735808400-1735812000@tillamookchamber.org
SUMMARY:Fit and Fabulous at the KCC
DESCRIPTION:Come join this group keeping active two days a week. Only $15 for the month!
URL:https://tillamookchamber.org/event/fit-and-fabulous-at-the-kcc/2025-01-02/
LOCATION:Kiawanda Community Center\, 34600 Cape Kiwanda Dr\, Pacific City\, OR 97135\, OR\, United States
CATEGORIES:Fitness and Athletics
ATTACH;FMTTYPE=image/png:https://tillamookchamber.org/wp-content/uploads/2024/04/Fit-Fabulous.png
END:VEVENT
BEGIN:VEVENT
DTSTART;TZID=America/Los_Angeles:20250102T100000
DTEND;TZID=America/Los_Angeles:20250102T110000
DTSTAMP:20260425T072609
CREATED:20241226T210254Z
LAST-MODIFIED:20241226T210254Z
UID:10017725-1735812000-1735815600@tillamookchamber.org
SUMMARY:Family Storytime at Bay City Library
DESCRIPTION:Bring the whole family down to the Bay City Library for a fun storytime and activity every Thursday at 10am!
URL:https://tillamookchamber.org/event/family-storytime-at-bay-city-library/2025-01-02/
LOCATION:Bay City Library\, 5525 B St\, Bay City\, OR
CATEGORIES:Community,Family Fun
ATTACH;FMTTYPE=image/png:https://tillamookchamber.org/wp-content/uploads/2024/12/Bay-City-Storytime.png
END:VEVENT
BEGIN:VEVENT
DTSTART;TZID=America/Los_Angeles:20250102T100000
DTEND;TZID=America/Los_Angeles:20250102T110000
DTSTAMP:20260425T072609
CREATED:20241226T211146Z
LAST-MODIFIED:20241226T211146Z
UID:10017459-1735812000-1735815600@tillamookchamber.org
SUMMARY:Family Storytime at Bay City Library
DESCRIPTION:Bring the whole family down to the Bay City Library for a fun storytime and activity every Thursday at 10am!
URL:https://tillamookchamber.org/event/family-storytime-at-bay-city-library-2/2025-01-02/
LOCATION:Bay City Library\, 5525 B St\, Bay City\, OR
CATEGORIES:Community,Family Fun
ATTACH;FMTTYPE=image/png:https://tillamookchamber.org/wp-content/uploads/2024/12/Bay-City-Storytime1.png
END:VEVENT
BEGIN:VEVENT
DTSTART;TZID=America/Los_Angeles:20250102T103000
DTEND;TZID=America/Los_Angeles:20250102T113000
DTSTAMP:20260425T072609
CREATED:20240410T154601Z
LAST-MODIFIED:20240410T154601Z
UID:10011252-1735813800-1735817400@tillamookchamber.org
SUMMARY:Tai Chi at the KCC
DESCRIPTION:Come to this weekly class in Pacific City to learn the forms in this moving meditation. Feel your life force flowing through you and get energized for you day!
URL:https://tillamookchamber.org/event/tai-chi-at-the-kcc/2025-01-02/
LOCATION:Kiawanda Community Center\, 34600 Cape Kiwanda Dr\, Pacific City\, OR 97135\, OR\, United States
CATEGORIES:Fitness and Athletics
ATTACH;FMTTYPE=image/png:https://tillamookchamber.org/wp-content/uploads/2024/04/Tai-Chi.png
END:VEVENT
BEGIN:VEVENT
DTSTART;TZID=America/Los_Angeles:20250102T160000
DTEND;TZID=America/Los_Angeles:20250102T173000
DTSTAMP:20260425T072609
CREATED:20240822T191911Z
LAST-MODIFIED:20240822T191911Z
UID:10015581-1735833600-1735839000@tillamookchamber.org
SUMMARY:Knitting Group
DESCRIPTION:Join a fun group of knitters at North Tillamook Library in Manzanita on Thursdays from 4pm to 5:30pm.
URL:https://tillamookchamber.org/event/knitting-group/2025-01-02/
LOCATION:North Tillamook Library\, 571 Laneda Ave\, Manzanita\, OR 97130
CATEGORIES:Community,Education
ATTACH;FMTTYPE=image/png:https://tillamookchamber.org/wp-content/uploads/2024/08/logo.png
END:VEVENT
BEGIN:VEVENT
DTSTART;TZID=America/Los_Angeles:20250102T180000
DTEND;TZID=America/Los_Angeles:20250102T200000
DTSTAMP:20260425T072609
CREATED:20241212T005820Z
LAST-MODIFIED:20241212T005820Z
UID:10017427-1735840800-1735848000@tillamookchamber.org
SUMMARY:Bingo at the Pelican Taproom
DESCRIPTION:Test your luck for a chance to win Pelican gear and prizes at our weekly Bingo Night! Thursdays\, 6pm to 8pm. \nThis is a family friendly event with kids prizes available
URL:https://tillamookchamber.org/event/bingo-at-the-pelican-taproom-2/2025-01-02/
LOCATION:Pelican Brewing Tillamook Taproom\, 1708 First Street
CATEGORIES:Community,Family Fun
ATTACH;FMTTYPE=image/png:https://tillamookchamber.org/wp-content/uploads/2024/12/BINGO-NIGHT-1.png
END:VEVENT
BEGIN:VEVENT
DTSTART;TZID=America/Los_Angeles:20250103T090000
DTEND;TZID=America/Los_Angeles:20250103T100000
DTSTAMP:20260425T072609
CREATED:20240410T154520Z
LAST-MODIFIED:20240410T154520Z
UID:10009801-1735894800-1735898400@tillamookchamber.org
SUMMARY:Yoga in Pacific City
DESCRIPTION:Yoga with Dawn 9am Mondays\, Wednesday\, Fridays & Saturdays \nCome enjoy the natural light with a forested dune as your backdrop on the mat.
URL:https://tillamookchamber.org/event/yoga-in-pacific-city/2025-01-03/
LOCATION:Kiawanda Community Center\, 34600 Cape Kiwanda Dr\, Pacific City\, OR 97135\, OR\, United States
CATEGORIES:Fitness and Athletics
ATTACH;FMTTYPE=image/png:https://tillamookchamber.org/wp-content/uploads/2024/04/Yoga.png
END:VEVENT
BEGIN:VEVENT
DTSTART;TZID=America/Los_Angeles:20250103T100000
DTEND;TZID=America/Los_Angeles:20250103T110000
DTSTAMP:20260425T072609
CREATED:20230113T205450Z
LAST-MODIFIED:20230113T205556Z
UID:10019712-1735898400-1735902000@tillamookchamber.org
SUMMARY:Tillamook Main Library Storytime: Mother Goose on the Loose
DESCRIPTION:Mother Goose on the Loose (MGOL) on Fri @ 10am; developmentally appropriate for birth to 24mos; rhythm\, rhymes\, instruments\, scarves and puppets! There is no expectation that your children will sit still or be quiet. It’s not developmentally appropriate to ask them to.
URL:https://tillamookchamber.org/event/tillamook-main-library-storytime-mother-goose-on-the-loose/2025-01-03/
LOCATION:Tillamook Main Library\, Tillamook\, 1716 3rd St\, Tillamook\, OR\, 97141\, United States
CATEGORIES:Education,Family Fun
ATTACH;FMTTYPE=image/png:https://tillamookchamber.org/wp-content/uploads/2023/01/TCL-transparent-logo-1.png
ORGANIZER;CN="Melanie Hetrick":MAILTO:mhetrick@co.tillamook.or.us
END:VEVENT
BEGIN:VEVENT
DTSTART;TZID=America/Los_Angeles:20250103T100000
DTEND;TZID=America/Los_Angeles:20250103T110000
DTSTAMP:20260425T072609
CREATED:20240410T154635Z
LAST-MODIFIED:20240410T154635Z
UID:10011650-1735898400-1735902000@tillamookchamber.org
SUMMARY:Walking Wonders
DESCRIPTION:Join this active group rain or shine to get your steps in and around town.
URL:https://tillamookchamber.org/event/walking-wonders/2025-01-03/
LOCATION:Kiawanda Community Center\, 34600 Cape Kiwanda Dr\, Pacific City\, OR 97135\, OR\, United States
CATEGORIES:Fitness and Athletics
ATTACH;FMTTYPE=image/png:https://tillamookchamber.org/wp-content/uploads/2024/04/Walking-Wonders.png
END:VEVENT
BEGIN:VEVENT
DTSTART;TZID=America/Los_Angeles:20250104T090000
DTEND;TZID=America/Los_Angeles:20250104T100000
DTSTAMP:20260425T072609
CREATED:20240410T154520Z
LAST-MODIFIED:20240410T154520Z
UID:10009802-1735981200-1735984800@tillamookchamber.org
SUMMARY:Yoga in Pacific City
DESCRIPTION:Yoga with Dawn 9am Mondays\, Wednesday\, Fridays & Saturdays \nCome enjoy the natural light with a forested dune as your backdrop on the mat.
URL:https://tillamookchamber.org/event/yoga-in-pacific-city/2025-01-04/
LOCATION:Kiawanda Community Center\, 34600 Cape Kiwanda Dr\, Pacific City\, OR 97135\, OR\, United States
CATEGORIES:Fitness and Athletics
ATTACH;FMTTYPE=image/png:https://tillamookchamber.org/wp-content/uploads/2024/04/Yoga.png
END:VEVENT
BEGIN:VEVENT
DTSTART;TZID=America/Los_Angeles:20250105T120000
DTEND;TZID=America/Los_Angeles:20250105T160000
DTSTAMP:20260425T072609
CREATED:20241226T210121Z
LAST-MODIFIED:20241226T210121Z
UID:10017445-1736078400-1736092800@tillamookchamber.org
SUMMARY:Open House: Latimer Challenge
DESCRIPTION:This is a member challenge show. The theme is “fruit salad” and any medium can be used. Weaving\, Quilting\, spinning\, tatting\, etc. Maximum size of 18″ x 24″ (wall hanging). We are excited to see/showcase the creativity our wonderful Members.
URL:https://tillamookchamber.org/event/open-house-latimer-challenge/
LOCATION:Latimer Quilt & Textile Center\, 2105 Wilson River Loop Road\, OR\, United States
CATEGORIES:Arts and Culture,Community
END:VEVENT
BEGIN:VEVENT
DTSTART;TZID=America/Los_Angeles:20250106T090000
DTEND;TZID=America/Los_Angeles:20250106T100000
DTSTAMP:20260425T072609
CREATED:20240410T154520Z
LAST-MODIFIED:20240410T154520Z
UID:10009803-1736154000-1736157600@tillamookchamber.org
SUMMARY:Yoga in Pacific City
DESCRIPTION:Yoga with Dawn 9am Mondays\, Wednesday\, Fridays & Saturdays \nCome enjoy the natural light with a forested dune as your backdrop on the mat.
URL:https://tillamookchamber.org/event/yoga-in-pacific-city/2025-01-06/
LOCATION:Kiawanda Community Center\, 34600 Cape Kiwanda Dr\, Pacific City\, OR 97135\, OR\, United States
CATEGORIES:Fitness and Athletics
ATTACH;FMTTYPE=image/png:https://tillamookchamber.org/wp-content/uploads/2024/04/Yoga.png
END:VEVENT
BEGIN:VEVENT
DTSTART;TZID=America/Los_Angeles:20250106T100000
DTEND;TZID=America/Los_Angeles:20250106T110000
DTSTAMP:20260425T072609
CREATED:20240410T154635Z
LAST-MODIFIED:20240410T154635Z
UID:10011651-1736157600-1736161200@tillamookchamber.org
SUMMARY:Walking Wonders
DESCRIPTION:Join this active group rain or shine to get your steps in and around town.
URL:https://tillamookchamber.org/event/walking-wonders/2025-01-06/
LOCATION:Kiawanda Community Center\, 34600 Cape Kiwanda Dr\, Pacific City\, OR 97135\, OR\, United States
CATEGORIES:Fitness and Athletics
ATTACH;FMTTYPE=image/png:https://tillamookchamber.org/wp-content/uploads/2024/04/Walking-Wonders.png
END:VEVENT
BEGIN:VEVENT
DTSTART;TZID=America/Los_Angeles:20250107T090000
DTEND;TZID=America/Los_Angeles:20250107T100000
DTSTAMP:20260425T072609
CREATED:20240410T154541Z
LAST-MODIFIED:20240410T154541Z
UID:10010770-1736240400-1736244000@tillamookchamber.org
SUMMARY:Fit and Fabulous at the KCC
DESCRIPTION:Come join this group keeping active two days a week. Only $15 for the month!
URL:https://tillamookchamber.org/event/fit-and-fabulous-at-the-kcc/2025-01-07/
LOCATION:Kiawanda Community Center\, 34600 Cape Kiwanda Dr\, Pacific City\, OR 97135\, OR\, United States
CATEGORIES:Fitness and Athletics
ATTACH;FMTTYPE=image/png:https://tillamookchamber.org/wp-content/uploads/2024/04/Fit-Fabulous.png
END:VEVENT
BEGIN:VEVENT
DTSTART;TZID=America/Los_Angeles:20250107T100000
DTEND;TZID=America/Los_Angeles:20250107T110000
DTSTAMP:20260425T072609
CREATED:20230113T201225Z
LAST-MODIFIED:20230124T214552Z
UID:10020033-1736244000-1736247600@tillamookchamber.org
SUMMARY:Tillamook Main Library Storytime: Terrific Twos
DESCRIPTION:Terrific Twos (TT) on Tues @ 10am; developmentally appropriate for 24-36mos; bubbles\, balls\, parachute & instruments! There is no expectation that your children will sit still or be quiet. It’s not developmentally appropriate to ask them to. \nA couple of things about the children’s room that might set you at ease: \n\nThere is no expectation that it will be a quiet zone; kids are kids and they are allowed to act themselves in the children’s room.\nOnly 2 hard and fast rules: No Running & No Screaming.\nIf your child needs a snack\, feed them!
URL:https://tillamookchamber.org/event/tillamook-main-library-storytime-terrific-twos/2025-01-07/
LOCATION:Tillamook Main Library\, Tillamook\, 1716 3rd St\, Tillamook\, OR\, 97141\, United States
CATEGORIES:Education,Family Fun
ATTACH;FMTTYPE=image/jpeg:https://tillamookchamber.org/wp-content/uploads/2023/01/TCL-white.jpg
ORGANIZER;CN="Melanie Hetrick":MAILTO:mhetrick@co.tillamook.or.us
END:VEVENT
BEGIN:VEVENT
DTSTART;TZID=America/Los_Angeles:20250107T100000
DTEND;TZID=America/Los_Angeles:20250107T150000
DTSTAMP:20260425T072609
CREATED:20241023T224303Z
LAST-MODIFIED:20241023T224303Z
UID:10016542-1736244000-1736262000@tillamookchamber.org
SUMMARY:Tuesday Stitchers
DESCRIPTION:Come and be a part of a community of people who love to make things for others\, and in turn make friends within the group. All levels are welcome. \nJoin us at the Kiawanda Community Center on Tuesdays from 10 AM to 3 PM in the Great Hall. \nFirst Monday every month from 4 to 9 PM. \nCall (503) 965-7900 for more details | $6 admission
URL:https://tillamookchamber.org/event/tuesday-stitchers/2025-01-07/
LOCATION:Kiawanda Community Center\, 34600 Cape Kiwanda Dr\, Pacific City\, OR 97135\, OR\, United States
CATEGORIES:Classes and Workshops,Community
ATTACH;FMTTYPE=image/png:https://tillamookchamber.org/wp-content/uploads/2024/10/Tuesday-Stitchers-Group-Flyer.png
END:VEVENT
BEGIN:VEVENT
DTSTART;TZID=America/Los_Angeles:20250108T090000
DTEND;TZID=America/Los_Angeles:20250108T100000
DTSTAMP:20260425T072609
CREATED:20240410T154520Z
LAST-MODIFIED:20240410T154520Z
UID:10009804-1736326800-1736330400@tillamookchamber.org
SUMMARY:Yoga in Pacific City
DESCRIPTION:Yoga with Dawn 9am Mondays\, Wednesday\, Fridays & Saturdays \nCome enjoy the natural light with a forested dune as your backdrop on the mat.
URL:https://tillamookchamber.org/event/yoga-in-pacific-city/2025-01-08/
LOCATION:Kiawanda Community Center\, 34600 Cape Kiwanda Dr\, Pacific City\, OR 97135\, OR\, United States
CATEGORIES:Fitness and Athletics
ATTACH;FMTTYPE=image/png:https://tillamookchamber.org/wp-content/uploads/2024/04/Yoga.png
END:VEVENT
BEGIN:VEVENT
DTSTART;TZID=America/Los_Angeles:20250108T100000
DTEND;TZID=America/Los_Angeles:20250108T110000
DTSTAMP:20260425T072609
CREATED:20230113T205344Z
LAST-MODIFIED:20230113T205344Z
UID:10019392-1736330400-1736334000@tillamookchamber.org
SUMMARY:Tillamook Main Library Storytime: Preschool
DESCRIPTION:Preschool storytime (PS) on Wed @ 10; developmentally appropriate for 3-5 yos; music\, stories\, interactive play and lots of laughs! In this class little begin to learn about a leader at the front of the room\, how to hold their wiggles\, listening and sitting still. When a child is transitioning from TT to PS my expectation is that they will sit for 5-10 minutes and then they might go play. I do not force them to sit still if they are not ready to. \nA couple of things about the children’s room that might set you at ease: \n\nThere is no expectation that it will be a quiet zone; kids are kids and they are allowed to act like themselves in the children’s room.\nOnly 2 hard and fast rules: No Running & No Screaming.\nIf your child needs a snack\, feed them!
URL:https://tillamookchamber.org/event/tillamook-main-library-storytime-preschool/2025-01-08/
LOCATION:Tillamook Main Library\, Tillamook\, 1716 3rd St\, Tillamook\, OR\, 97141\, United States
CATEGORIES:Education,Family Fun
ATTACH;FMTTYPE=image/png:https://tillamookchamber.org/wp-content/uploads/2023/01/TCL-transparent-logo.png
ORGANIZER;CN="Melanie Hetrick":MAILTO:mhetrick@co.tillamook.or.us
END:VEVENT
BEGIN:VEVENT
DTSTART;TZID=America/Los_Angeles:20250108T100000
DTEND;TZID=America/Los_Angeles:20250108T110000
DTSTAMP:20260425T072609
CREATED:20240410T154635Z
LAST-MODIFIED:20240410T154635Z
UID:10011652-1736330400-1736334000@tillamookchamber.org
SUMMARY:Walking Wonders
DESCRIPTION:Join this active group rain or shine to get your steps in and around town.
URL:https://tillamookchamber.org/event/walking-wonders/2025-01-08/
LOCATION:Kiawanda Community Center\, 34600 Cape Kiwanda Dr\, Pacific City\, OR 97135\, OR\, United States
CATEGORIES:Fitness and Athletics
ATTACH;FMTTYPE=image/png:https://tillamookchamber.org/wp-content/uploads/2024/04/Walking-Wonders.png
END:VEVENT
BEGIN:VEVENT
DTSTART;TZID=America/Los_Angeles:20250108T110000
DTEND;TZID=America/Los_Angeles:20250108T120000
DTSTAMP:20260425T072609
CREATED:20241226T211242Z
LAST-MODIFIED:20241226T211242Z
UID:10017719-1736334000-1736337600@tillamookchamber.org
SUMMARY:Family Storytime at Rockaway Beach Library
DESCRIPTION:Every 2nd and 4th Wednesday at 11 am come on in for an all ages storytime and craft at the Rockaway Branch Library.
URL:https://tillamookchamber.org/event/family-storytime-at-rockaway-beach-library/2025-01-08/
LOCATION:Rockaway Beach Library\, 120 N Coral St\, Rockaway Beach\, OR 97136
CATEGORIES:Community,Family Fun
ATTACH;FMTTYPE=image/png:https://tillamookchamber.org/wp-content/uploads/2024/12/Rockaway-Storytime1.png
END:VEVENT
BEGIN:VEVENT
DTSTART;TZID=America/Los_Angeles:20250108T153000
DTEND;TZID=America/Los_Angeles:20250108T163000
DTSTAMP:20260425T072609
CREATED:20241209T180236Z
LAST-MODIFIED:20241209T180236Z
UID:10017399-1736350200-1736353800@tillamookchamber.org
SUMMARY:Storytime at Pacific City Library
DESCRIPTION:Storytime at the South Tillamook County Library in Pacific City! \nDavid hosts Storytime on the 2nd and 4th Wednesdays of each month at 3:30pm. \nThese events are open to all ages! \nWe’ll read\, sing\, and move about! \nWe look forward to seeing you!
URL:https://tillamookchamber.org/event/storytime-at-pacific-city-library/2025-01-08/
LOCATION:Pacific City Library\, 6200 Camp St Pacific City\, OR
CATEGORIES:Community,Family Fun
ATTACH;FMTTYPE=image/png:https://tillamookchamber.org/wp-content/uploads/2024/12/pcstorytime.png
END:VEVENT
BEGIN:VEVENT
DTSTART;TZID=America/Los_Angeles:20250108T180000
DTEND;TZID=America/Los_Angeles:20250108T200000
DTSTAMP:20260425T072610
CREATED:20241231T223334Z
LAST-MODIFIED:20241231T223334Z
UID:10017735-1736359200-1736366400@tillamookchamber.org
SUMMARY:January Movies at Tillamook Library: Page To Screen
DESCRIPTION:Join us Wednesday nights at Tillamook Main for movies and popcorn at 6 pm in the Hatfield Room! Themes change monthly. All movie summaries attributed to IMDB.com \n\nJanuary Movies: Page to Screen \n1/8 Princess Bride (1987) A bedridden boy’s grandfather reads him the story of a farmboy-turned-pirate who encounters numerous obstacles\, enemies and allies in his quest to be reunited with his true love. \n1/15 Muppet Treasure Island (1996) The Muppets set sail in search of treasure\, with Jim Hawkins and Long John Silver. \n1/22 Clueless (1995) Shallow\, rich and socially successful Cher is at the top of her Beverly Hills high school’s pecking scale. Seeing herself as a matchmaker\, Cher first coaxes two teachers into dating each other. \n1/29 Sherlock Holmes (2009) Detective Sherlock Holmes and his stalwart partner Watson engage in a battle of wits and brawn with a nemesis whose plot is a threat to all of England.
URL:https://tillamookchamber.org/event/january-movies-at-tillamook-library-page-to-screen/2025-01-08/
LOCATION:Tillamook County Library\, 1716 3rd Street Tillamook Oregon 97141
CATEGORIES:Community,Family Fun
END:VEVENT
BEGIN:VEVENT
DTSTART;TZID=America/Los_Angeles:20250109T090000
DTEND;TZID=America/Los_Angeles:20250109T100000
DTSTAMP:20260425T072610
CREATED:20240410T154541Z
LAST-MODIFIED:20240410T154541Z
UID:10010771-1736413200-1736416800@tillamookchamber.org
SUMMARY:Fit and Fabulous at the KCC
DESCRIPTION:Come join this group keeping active two days a week. Only $15 for the month!
URL:https://tillamookchamber.org/event/fit-and-fabulous-at-the-kcc/2025-01-09/
LOCATION:Kiawanda Community Center\, 34600 Cape Kiwanda Dr\, Pacific City\, OR 97135\, OR\, United States
CATEGORIES:Fitness and Athletics
ATTACH;FMTTYPE=image/png:https://tillamookchamber.org/wp-content/uploads/2024/04/Fit-Fabulous.png
END:VEVENT
BEGIN:VEVENT
DTSTART;TZID=America/Los_Angeles:20250109T100000
DTEND;TZID=America/Los_Angeles:20250109T110000
DTSTAMP:20260425T072610
CREATED:20241226T210254Z
LAST-MODIFIED:20241226T210254Z
UID:10017726-1736416800-1736420400@tillamookchamber.org
SUMMARY:Family Storytime at Bay City Library
DESCRIPTION:Bring the whole family down to the Bay City Library for a fun storytime and activity every Thursday at 10am!
URL:https://tillamookchamber.org/event/family-storytime-at-bay-city-library/2025-01-09/
LOCATION:Bay City Library\, 5525 B St\, Bay City\, OR
CATEGORIES:Community,Family Fun
ATTACH;FMTTYPE=image/png:https://tillamookchamber.org/wp-content/uploads/2024/12/Bay-City-Storytime.png
END:VEVENT
BEGIN:VEVENT
DTSTART;TZID=America/Los_Angeles:20250109T100000
DTEND;TZID=America/Los_Angeles:20250109T110000
DTSTAMP:20260425T072610
CREATED:20241226T211146Z
LAST-MODIFIED:20241226T211146Z
UID:10017460-1736416800-1736420400@tillamookchamber.org
SUMMARY:Family Storytime at Bay City Library
DESCRIPTION:Bring the whole family down to the Bay City Library for a fun storytime and activity every Thursday at 10am!
URL:https://tillamookchamber.org/event/family-storytime-at-bay-city-library-2/2025-01-09/
LOCATION:Bay City Library\, 5525 B St\, Bay City\, OR
CATEGORIES:Community,Family Fun
ATTACH;FMTTYPE=image/png:https://tillamookchamber.org/wp-content/uploads/2024/12/Bay-City-Storytime1.png
END:VEVENT
BEGIN:VEVENT
DTSTART;TZID=America/Los_Angeles:20250109T103000
DTEND;TZID=America/Los_Angeles:20250109T113000
DTSTAMP:20260425T072610
CREATED:20240410T154601Z
LAST-MODIFIED:20240410T154601Z
UID:10011253-1736418600-1736422200@tillamookchamber.org
SUMMARY:Tai Chi at the KCC
DESCRIPTION:Come to this weekly class in Pacific City to learn the forms in this moving meditation. Feel your life force flowing through you and get energized for you day!
URL:https://tillamookchamber.org/event/tai-chi-at-the-kcc/2025-01-09/
LOCATION:Kiawanda Community Center\, 34600 Cape Kiwanda Dr\, Pacific City\, OR 97135\, OR\, United States
CATEGORIES:Fitness and Athletics
ATTACH;FMTTYPE=image/png:https://tillamookchamber.org/wp-content/uploads/2024/04/Tai-Chi.png
END:VEVENT
BEGIN:VEVENT
DTSTART;TZID=America/Los_Angeles:20250109T140000
DTEND;TZID=America/Los_Angeles:20250109T150000
DTSTAMP:20260425T072610
CREATED:20241226T210346Z
LAST-MODIFIED:20241226T210346Z
UID:10017456-1736431200-1736434800@tillamookchamber.org
SUMMARY:Invisible Losses with Helen Beaman at Tillamook Library
DESCRIPTION:Grief doesn’t always have to involve losing someone in your life. As we age\, we are sometimes forced to consider giving up things or activities we enjoy; such as jogging\, pinochle\, volunteer activities\, or traveling. This can lead to a rather profound sense of loss. Join an expert as we discuss the types of “invisible losses\,” and learn how to cope\, heal\, and grieve from these types of disenfranchised losses.
URL:https://tillamookchamber.org/event/invisible-losses-with-helen-beaman-at-tillamook-library/
LOCATION:Tillamook County Library\, 1716 3rd Street Tillamook Oregon 97141
CATEGORIES:Classes and Workshops,Community
END:VEVENT
END:VCALENDAR