BEGIN:VCALENDAR
VERSION:2.0
PRODID:-//Tillamook Area Chamber of Commerce - ECPv6.15.20//NONSGML v1.0//EN
CALSCALE:GREGORIAN
METHOD:PUBLISH
X-ORIGINAL-URL:https://tillamookchamber.org
X-WR-CALDESC:Events for Tillamook Area Chamber of Commerce
REFRESH-INTERVAL;VALUE=DURATION:PT1H
X-Robots-Tag:noindex
X-PUBLISHED-TTL:PT1H
BEGIN:VTIMEZONE
TZID:America/Los_Angeles
BEGIN:DAYLIGHT
TZOFFSETFROM:-0800
TZOFFSETTO:-0700
TZNAME:PDT
DTSTART:20230312T100000
END:DAYLIGHT
BEGIN:STANDARD
TZOFFSETFROM:-0700
TZOFFSETTO:-0800
TZNAME:PST
DTSTART:20231105T090000
END:STANDARD
BEGIN:DAYLIGHT
TZOFFSETFROM:-0800
TZOFFSETTO:-0700
TZNAME:PDT
DTSTART:20240310T100000
END:DAYLIGHT
BEGIN:STANDARD
TZOFFSETFROM:-0700
TZOFFSETTO:-0800
TZNAME:PST
DTSTART:20241103T090000
END:STANDARD
BEGIN:DAYLIGHT
TZOFFSETFROM:-0800
TZOFFSETTO:-0700
TZNAME:PDT
DTSTART:20250309T100000
END:DAYLIGHT
BEGIN:STANDARD
TZOFFSETFROM:-0700
TZOFFSETTO:-0800
TZNAME:PST
DTSTART:20251102T090000
END:STANDARD
END:VTIMEZONE
BEGIN:VEVENT
DTSTART;TZID=America/Los_Angeles:20241224T090000
DTEND;TZID=America/Los_Angeles:20241224T100000
DTSTAMP:20260425T170018
CREATED:20240410T154541Z
LAST-MODIFIED:20240410T154541Z
UID:10010766-1735030800-1735034400@tillamookchamber.org
SUMMARY:Fit and Fabulous at the KCC
DESCRIPTION:Come join this group keeping active two days a week. Only $15 for the month!
URL:https://tillamookchamber.org/event/fit-and-fabulous-at-the-kcc/2024-12-24/
LOCATION:Kiawanda Community Center\, 34600 Cape Kiwanda Dr\, Pacific City\, OR 97135\, OR\, United States
CATEGORIES:Fitness and Athletics
ATTACH;FMTTYPE=image/png:https://tillamookchamber.org/wp-content/uploads/2024/04/Fit-Fabulous.png
END:VEVENT
BEGIN:VEVENT
DTSTART;TZID=America/Los_Angeles:20241224T100000
DTEND;TZID=America/Los_Angeles:20241224T110000
DTSTAMP:20260425T170018
CREATED:20230113T201225Z
LAST-MODIFIED:20230124T214552Z
UID:10020031-1735034400-1735038000@tillamookchamber.org
SUMMARY:Tillamook Main Library Storytime: Terrific Twos
DESCRIPTION:Terrific Twos (TT) on Tues @ 10am; developmentally appropriate for 24-36mos; bubbles\, balls\, parachute & instruments! There is no expectation that your children will sit still or be quiet. It’s not developmentally appropriate to ask them to. \nA couple of things about the children’s room that might set you at ease: \n\nThere is no expectation that it will be a quiet zone; kids are kids and they are allowed to act themselves in the children’s room.\nOnly 2 hard and fast rules: No Running & No Screaming.\nIf your child needs a snack\, feed them!
URL:https://tillamookchamber.org/event/tillamook-main-library-storytime-terrific-twos/2024-12-24/
LOCATION:Tillamook Main Library\, Tillamook\, 1716 3rd St\, Tillamook\, OR\, 97141\, United States
CATEGORIES:Education,Family Fun
ATTACH;FMTTYPE=image/jpeg:https://tillamookchamber.org/wp-content/uploads/2023/01/TCL-white.jpg
ORGANIZER;CN="Melanie Hetrick":MAILTO:mhetrick@co.tillamook.or.us
END:VEVENT
BEGIN:VEVENT
DTSTART;TZID=America/Los_Angeles:20241224T100000
DTEND;TZID=America/Los_Angeles:20241224T150000
DTSTAMP:20260425T170018
CREATED:20241023T224303Z
LAST-MODIFIED:20241023T224303Z
UID:10016540-1735034400-1735052400@tillamookchamber.org
SUMMARY:Tuesday Stitchers
DESCRIPTION:Come and be a part of a community of people who love to make things for others\, and in turn make friends within the group. All levels are welcome. \nJoin us at the Kiawanda Community Center on Tuesdays from 10 AM to 3 PM in the Great Hall. \nFirst Monday every month from 4 to 9 PM. \nCall (503) 965-7900 for more details | $6 admission
URL:https://tillamookchamber.org/event/tuesday-stitchers/2024-12-24/
LOCATION:Kiawanda Community Center\, 34600 Cape Kiwanda Dr\, Pacific City\, OR 97135\, OR\, United States
CATEGORIES:Classes and Workshops,Community
ATTACH;FMTTYPE=image/png:https://tillamookchamber.org/wp-content/uploads/2024/10/Tuesday-Stitchers-Group-Flyer.png
END:VEVENT
BEGIN:VEVENT
DTSTART;TZID=America/Los_Angeles:20241224T160000
DTEND;TZID=America/Los_Angeles:20241224T170000
DTSTAMP:20260425T170018
CREATED:20241209T175136Z
LAST-MODIFIED:20241209T175136Z
UID:10017414-1735056000-1735059600@tillamookchamber.org
SUMMARY:Friday Teen Gaming at Tillamook Main Library
DESCRIPTION:Join us for Friday Gaming for Teens! Come play the games listed below and compete against your peers. We’ll meet at 4:00pm at the Tillamook Main Library\, in the Copeland Community Room. Refreshments provided! \nDates and Games\nFriday\, December 13th – Mario Party Jamboree \nFriday\, December 27th – Crash Team Racing \nFriday\, January 10th – 1-2-Switch \nFriday\, January 24th – Overcooked: All You Can Eat \nFriday\, February 14th – Luigi’s Mansion 3 \nFriday February 28th – Super Smash Bros Ultimate
URL:https://tillamookchamber.org/event/friday-teen-gaming-at-tillamook-main-library/2024-12-24/
LOCATION:Tillamook County Library\, 1716 3rd Street Tillamook Oregon 97141
CATEGORIES:Community
END:VEVENT
BEGIN:VEVENT
DTSTART;TZID=America/Los_Angeles:20241225T090000
DTEND;TZID=America/Los_Angeles:20241225T100000
DTSTAMP:20260425T170018
CREATED:20240410T154520Z
LAST-MODIFIED:20240410T154520Z
UID:10009796-1735117200-1735120800@tillamookchamber.org
SUMMARY:Yoga in Pacific City
DESCRIPTION:Yoga with Dawn 9am Mondays\, Wednesday\, Fridays & Saturdays \nCome enjoy the natural light with a forested dune as your backdrop on the mat.
URL:https://tillamookchamber.org/event/yoga-in-pacific-city/2024-12-25/
LOCATION:Kiawanda Community Center\, 34600 Cape Kiwanda Dr\, Pacific City\, OR 97135\, OR\, United States
CATEGORIES:Fitness and Athletics
ATTACH;FMTTYPE=image/png:https://tillamookchamber.org/wp-content/uploads/2024/04/Yoga.png
END:VEVENT
BEGIN:VEVENT
DTSTART;TZID=America/Los_Angeles:20241225T100000
DTEND;TZID=America/Los_Angeles:20241225T110000
DTSTAMP:20260425T170018
CREATED:20230113T205344Z
LAST-MODIFIED:20230113T205344Z
UID:10019390-1735120800-1735124400@tillamookchamber.org
SUMMARY:Tillamook Main Library Storytime: Preschool
DESCRIPTION:Preschool storytime (PS) on Wed @ 10; developmentally appropriate for 3-5 yos; music\, stories\, interactive play and lots of laughs! In this class little begin to learn about a leader at the front of the room\, how to hold their wiggles\, listening and sitting still. When a child is transitioning from TT to PS my expectation is that they will sit for 5-10 minutes and then they might go play. I do not force them to sit still if they are not ready to. \nA couple of things about the children’s room that might set you at ease: \n\nThere is no expectation that it will be a quiet zone; kids are kids and they are allowed to act like themselves in the children’s room.\nOnly 2 hard and fast rules: No Running & No Screaming.\nIf your child needs a snack\, feed them!
URL:https://tillamookchamber.org/event/tillamook-main-library-storytime-preschool/2024-12-25/
LOCATION:Tillamook Main Library\, Tillamook\, 1716 3rd St\, Tillamook\, OR\, 97141\, United States
CATEGORIES:Education,Family Fun
ATTACH;FMTTYPE=image/png:https://tillamookchamber.org/wp-content/uploads/2023/01/TCL-transparent-logo.png
ORGANIZER;CN="Melanie Hetrick":MAILTO:mhetrick@co.tillamook.or.us
END:VEVENT
BEGIN:VEVENT
DTSTART;TZID=America/Los_Angeles:20241225T100000
DTEND;TZID=America/Los_Angeles:20241225T110000
DTSTAMP:20260425T170018
CREATED:20240410T154635Z
LAST-MODIFIED:20240410T154635Z
UID:10011646-1735120800-1735124400@tillamookchamber.org
SUMMARY:Walking Wonders
DESCRIPTION:Join this active group rain or shine to get your steps in and around town.
URL:https://tillamookchamber.org/event/walking-wonders/2024-12-25/
LOCATION:Kiawanda Community Center\, 34600 Cape Kiwanda Dr\, Pacific City\, OR 97135\, OR\, United States
CATEGORIES:Fitness and Athletics
ATTACH;FMTTYPE=image/png:https://tillamookchamber.org/wp-content/uploads/2024/04/Walking-Wonders.png
END:VEVENT
BEGIN:VEVENT
DTSTART;TZID=America/Los_Angeles:20241225T120000
DTEND;TZID=America/Los_Angeles:20241225T160000
DTSTAMP:20260425T170018
CREATED:20241213T194139Z
LAST-MODIFIED:20241213T194139Z
UID:10017435-1735128000-1735142400@tillamookchamber.org
SUMMARY:Pho! Pho! Pho!
DESCRIPTION:Join us for our annual Pho! Pho! Pho! tradition on Christmas Day at The Schooner Restaurant & Lounge! \nFirst come\, first served!
URL:https://tillamookchamber.org/event/pho-pho-pho/
LOCATION:The Schooner Restaurant & Lounge\, 2065 Boat Basin Rd
CATEGORIES:Community,Holiday
END:VEVENT
BEGIN:VEVENT
DTSTART;TZID=America/Los_Angeles:20241226T090000
DTEND;TZID=America/Los_Angeles:20241226T100000
DTSTAMP:20260425T170018
CREATED:20240410T154541Z
LAST-MODIFIED:20240410T154541Z
UID:10010767-1735203600-1735207200@tillamookchamber.org
SUMMARY:Fit and Fabulous at the KCC
DESCRIPTION:Come join this group keeping active two days a week. Only $15 for the month!
URL:https://tillamookchamber.org/event/fit-and-fabulous-at-the-kcc/2024-12-26/
LOCATION:Kiawanda Community Center\, 34600 Cape Kiwanda Dr\, Pacific City\, OR 97135\, OR\, United States
CATEGORIES:Fitness and Athletics
ATTACH;FMTTYPE=image/png:https://tillamookchamber.org/wp-content/uploads/2024/04/Fit-Fabulous.png
END:VEVENT
BEGIN:VEVENT
DTSTART;TZID=America/Los_Angeles:20241226T103000
DTEND;TZID=America/Los_Angeles:20241226T113000
DTSTAMP:20260425T170018
CREATED:20240410T154601Z
LAST-MODIFIED:20240410T154601Z
UID:10011251-1735209000-1735212600@tillamookchamber.org
SUMMARY:Tai Chi at the KCC
DESCRIPTION:Come to this weekly class in Pacific City to learn the forms in this moving meditation. Feel your life force flowing through you and get energized for you day!
URL:https://tillamookchamber.org/event/tai-chi-at-the-kcc/2024-12-26/
LOCATION:Kiawanda Community Center\, 34600 Cape Kiwanda Dr\, Pacific City\, OR 97135\, OR\, United States
CATEGORIES:Fitness and Athletics
ATTACH;FMTTYPE=image/png:https://tillamookchamber.org/wp-content/uploads/2024/04/Tai-Chi.png
END:VEVENT
BEGIN:VEVENT
DTSTART;TZID=America/Los_Angeles:20241226T150000
DTEND;TZID=America/Los_Angeles:20241226T170000
DTSTAMP:20260425T170018
CREATED:20241209T181132Z
LAST-MODIFIED:20241209T181132Z
UID:10017120-1735225200-1735232400@tillamookchamber.org
SUMMARY:Crafternoon at Bay City Library
DESCRIPTION:Do you like to make stuff? At the Bay City Branch Library on the 2nd and 4th Thursdays from 3:00pm to 5:00pm\, you can come for an afternoon of community and crafting! Crafternoon is fun for the whole family!
URL:https://tillamookchamber.org/event/crafternoon-at-bay-city-library/2024-12-26/
LOCATION:Bay City Library\, 5525 B St\, Bay City\, OR
CATEGORIES:Community,Family Fun
ATTACH;FMTTYPE=image/png:https://tillamookchamber.org/wp-content/uploads/2024/12/bccrafts.png
END:VEVENT
BEGIN:VEVENT
DTSTART;TZID=America/Los_Angeles:20241226T160000
DTEND;TZID=America/Los_Angeles:20241226T173000
DTSTAMP:20260425T170018
CREATED:20240822T191911Z
LAST-MODIFIED:20240822T191911Z
UID:10015580-1735228800-1735234200@tillamookchamber.org
SUMMARY:Knitting Group
DESCRIPTION:Join a fun group of knitters at North Tillamook Library in Manzanita on Thursdays from 4pm to 5:30pm.
URL:https://tillamookchamber.org/event/knitting-group/2024-12-26/
LOCATION:North Tillamook Library\, 571 Laneda Ave\, Manzanita\, OR 97130
CATEGORIES:Community,Education
ATTACH;FMTTYPE=image/png:https://tillamookchamber.org/wp-content/uploads/2024/08/logo.png
END:VEVENT
BEGIN:VEVENT
DTSTART;TZID=America/Los_Angeles:20241226T180000
DTEND;TZID=America/Los_Angeles:20241226T200000
DTSTAMP:20260425T170018
CREATED:20241212T005820Z
LAST-MODIFIED:20241212T005820Z
UID:10017426-1735236000-1735243200@tillamookchamber.org
SUMMARY:Bingo at the Pelican Taproom
DESCRIPTION:Test your luck for a chance to win Pelican gear and prizes at our weekly Bingo Night! Thursdays\, 6pm to 8pm. \nThis is a family friendly event with kids prizes available
URL:https://tillamookchamber.org/event/bingo-at-the-pelican-taproom-2/2024-12-26/
LOCATION:Pelican Brewing Tillamook Taproom\, 1708 First Street
CATEGORIES:Community,Family Fun
ATTACH;FMTTYPE=image/png:https://tillamookchamber.org/wp-content/uploads/2024/12/BINGO-NIGHT-1.png
END:VEVENT
BEGIN:VEVENT
DTSTART;TZID=America/Los_Angeles:20241227T090000
DTEND;TZID=America/Los_Angeles:20241227T100000
DTSTAMP:20260425T170018
CREATED:20240410T154520Z
LAST-MODIFIED:20240410T154520Z
UID:10009797-1735290000-1735293600@tillamookchamber.org
SUMMARY:Yoga in Pacific City
DESCRIPTION:Yoga with Dawn 9am Mondays\, Wednesday\, Fridays & Saturdays \nCome enjoy the natural light with a forested dune as your backdrop on the mat.
URL:https://tillamookchamber.org/event/yoga-in-pacific-city/2024-12-27/
LOCATION:Kiawanda Community Center\, 34600 Cape Kiwanda Dr\, Pacific City\, OR 97135\, OR\, United States
CATEGORIES:Fitness and Athletics
ATTACH;FMTTYPE=image/png:https://tillamookchamber.org/wp-content/uploads/2024/04/Yoga.png
END:VEVENT
BEGIN:VEVENT
DTSTART;TZID=America/Los_Angeles:20241227T100000
DTEND;TZID=America/Los_Angeles:20241227T110000
DTSTAMP:20260425T170018
CREATED:20230113T205450Z
LAST-MODIFIED:20230113T205556Z
UID:10019711-1735293600-1735297200@tillamookchamber.org
SUMMARY:Tillamook Main Library Storytime: Mother Goose on the Loose
DESCRIPTION:Mother Goose on the Loose (MGOL) on Fri @ 10am; developmentally appropriate for birth to 24mos; rhythm\, rhymes\, instruments\, scarves and puppets! There is no expectation that your children will sit still or be quiet. It’s not developmentally appropriate to ask them to.
URL:https://tillamookchamber.org/event/tillamook-main-library-storytime-mother-goose-on-the-loose/2024-12-27/
LOCATION:Tillamook Main Library\, Tillamook\, 1716 3rd St\, Tillamook\, OR\, 97141\, United States
CATEGORIES:Education,Family Fun
ATTACH;FMTTYPE=image/png:https://tillamookchamber.org/wp-content/uploads/2023/01/TCL-transparent-logo-1.png
ORGANIZER;CN="Melanie Hetrick":MAILTO:mhetrick@co.tillamook.or.us
END:VEVENT
BEGIN:VEVENT
DTSTART;TZID=America/Los_Angeles:20241227T100000
DTEND;TZID=America/Los_Angeles:20241227T110000
DTSTAMP:20260425T170018
CREATED:20240410T154635Z
LAST-MODIFIED:20240410T154635Z
UID:10011647-1735293600-1735297200@tillamookchamber.org
SUMMARY:Walking Wonders
DESCRIPTION:Join this active group rain or shine to get your steps in and around town.
URL:https://tillamookchamber.org/event/walking-wonders/2024-12-27/
LOCATION:Kiawanda Community Center\, 34600 Cape Kiwanda Dr\, Pacific City\, OR 97135\, OR\, United States
CATEGORIES:Fitness and Athletics
ATTACH;FMTTYPE=image/png:https://tillamookchamber.org/wp-content/uploads/2024/04/Walking-Wonders.png
END:VEVENT
BEGIN:VEVENT
DTSTART;TZID=America/Los_Angeles:20241227T130000
DTEND;TZID=America/Los_Angeles:20241227T160000
DTSTAMP:20260425T170018
CREATED:20241216T223026Z
LAST-MODIFIED:20241216T223026Z
UID:10017442-1735304400-1735315200@tillamookchamber.org
SUMMARY:Open Skate
DESCRIPTION:Come join us for Open Skate\, $5 if you use our skates\, $4 if you have your own.
URL:https://tillamookchamber.org/event/open-skate-8/
LOCATION:Tillamook County Fairgrounds\, 4603 3rd St\, Tillamook\, OR\, 97141\, United States
CATEGORIES:Community,Family Fun
ATTACH;FMTTYPE=image/jpeg:https://tillamookchamber.org/wp-content/uploads/2024/12/Skating.jpg
END:VEVENT
BEGIN:VEVENT
DTSTART;TZID=America/Los_Angeles:20241227T160000
DTEND;TZID=America/Los_Angeles:20241227T170000
DTSTAMP:20260425T170018
CREATED:20241209T175136Z
LAST-MODIFIED:20241209T175136Z
UID:10017415-1735315200-1735318800@tillamookchamber.org
SUMMARY:Friday Teen Gaming at Tillamook Main Library
DESCRIPTION:Join us for Friday Gaming for Teens! Come play the games listed below and compete against your peers. We’ll meet at 4:00pm at the Tillamook Main Library\, in the Copeland Community Room. Refreshments provided! \nDates and Games\nFriday\, December 13th – Mario Party Jamboree \nFriday\, December 27th – Crash Team Racing \nFriday\, January 10th – 1-2-Switch \nFriday\, January 24th – Overcooked: All You Can Eat \nFriday\, February 14th – Luigi’s Mansion 3 \nFriday February 28th – Super Smash Bros Ultimate
URL:https://tillamookchamber.org/event/friday-teen-gaming-at-tillamook-main-library/2024-12-27/
LOCATION:Tillamook County Library\, 1716 3rd Street Tillamook Oregon 97141
CATEGORIES:Community
END:VEVENT
BEGIN:VEVENT
DTSTART;TZID=America/Los_Angeles:20241228T090000
DTEND;TZID=America/Los_Angeles:20241228T100000
DTSTAMP:20260425T170018
CREATED:20240410T154520Z
LAST-MODIFIED:20240410T154520Z
UID:10009798-1735376400-1735380000@tillamookchamber.org
SUMMARY:Yoga in Pacific City
DESCRIPTION:Yoga with Dawn 9am Mondays\, Wednesday\, Fridays & Saturdays \nCome enjoy the natural light with a forested dune as your backdrop on the mat.
URL:https://tillamookchamber.org/event/yoga-in-pacific-city/2024-12-28/
LOCATION:Kiawanda Community Center\, 34600 Cape Kiwanda Dr\, Pacific City\, OR 97135\, OR\, United States
CATEGORIES:Fitness and Athletics
ATTACH;FMTTYPE=image/png:https://tillamookchamber.org/wp-content/uploads/2024/04/Yoga.png
END:VEVENT
BEGIN:VEVENT
DTSTART;TZID=America/Los_Angeles:20241230T090000
DTEND;TZID=America/Los_Angeles:20241230T100000
DTSTAMP:20260425T170018
CREATED:20240410T154520Z
LAST-MODIFIED:20240410T154520Z
UID:10009799-1735549200-1735552800@tillamookchamber.org
SUMMARY:Yoga in Pacific City
DESCRIPTION:Yoga with Dawn 9am Mondays\, Wednesday\, Fridays & Saturdays \nCome enjoy the natural light with a forested dune as your backdrop on the mat.
URL:https://tillamookchamber.org/event/yoga-in-pacific-city/2024-12-30/
LOCATION:Kiawanda Community Center\, 34600 Cape Kiwanda Dr\, Pacific City\, OR 97135\, OR\, United States
CATEGORIES:Fitness and Athletics
ATTACH;FMTTYPE=image/png:https://tillamookchamber.org/wp-content/uploads/2024/04/Yoga.png
END:VEVENT
BEGIN:VEVENT
DTSTART;TZID=America/Los_Angeles:20241230T100000
DTEND;TZID=America/Los_Angeles:20241230T110000
DTSTAMP:20260425T170018
CREATED:20240410T154635Z
LAST-MODIFIED:20240410T154635Z
UID:10011648-1735552800-1735556400@tillamookchamber.org
SUMMARY:Walking Wonders
DESCRIPTION:Join this active group rain or shine to get your steps in and around town.
URL:https://tillamookchamber.org/event/walking-wonders/2024-12-30/
LOCATION:Kiawanda Community Center\, 34600 Cape Kiwanda Dr\, Pacific City\, OR 97135\, OR\, United States
CATEGORIES:Fitness and Athletics
ATTACH;FMTTYPE=image/png:https://tillamookchamber.org/wp-content/uploads/2024/04/Walking-Wonders.png
END:VEVENT
BEGIN:VEVENT
DTSTART;TZID=America/Los_Angeles:20241231T090000
DTEND;TZID=America/Los_Angeles:20241231T100000
DTSTAMP:20260425T170018
CREATED:20240410T154541Z
LAST-MODIFIED:20240410T154541Z
UID:10010768-1735635600-1735639200@tillamookchamber.org
SUMMARY:Fit and Fabulous at the KCC
DESCRIPTION:Come join this group keeping active two days a week. Only $15 for the month!
URL:https://tillamookchamber.org/event/fit-and-fabulous-at-the-kcc/2024-12-31/
LOCATION:Kiawanda Community Center\, 34600 Cape Kiwanda Dr\, Pacific City\, OR 97135\, OR\, United States
CATEGORIES:Fitness and Athletics
ATTACH;FMTTYPE=image/png:https://tillamookchamber.org/wp-content/uploads/2024/04/Fit-Fabulous.png
END:VEVENT
BEGIN:VEVENT
DTSTART;TZID=America/Los_Angeles:20241231T100000
DTEND;TZID=America/Los_Angeles:20241231T110000
DTSTAMP:20260425T170018
CREATED:20230113T201225Z
LAST-MODIFIED:20230124T214552Z
UID:10020032-1735639200-1735642800@tillamookchamber.org
SUMMARY:Tillamook Main Library Storytime: Terrific Twos
DESCRIPTION:Terrific Twos (TT) on Tues @ 10am; developmentally appropriate for 24-36mos; bubbles\, balls\, parachute & instruments! There is no expectation that your children will sit still or be quiet. It’s not developmentally appropriate to ask them to. \nA couple of things about the children’s room that might set you at ease: \n\nThere is no expectation that it will be a quiet zone; kids are kids and they are allowed to act themselves in the children’s room.\nOnly 2 hard and fast rules: No Running & No Screaming.\nIf your child needs a snack\, feed them!
URL:https://tillamookchamber.org/event/tillamook-main-library-storytime-terrific-twos/2024-12-31/
LOCATION:Tillamook Main Library\, Tillamook\, 1716 3rd St\, Tillamook\, OR\, 97141\, United States
CATEGORIES:Education,Family Fun
ATTACH;FMTTYPE=image/jpeg:https://tillamookchamber.org/wp-content/uploads/2023/01/TCL-white.jpg
ORGANIZER;CN="Melanie Hetrick":MAILTO:mhetrick@co.tillamook.or.us
END:VEVENT
BEGIN:VEVENT
DTSTART;TZID=America/Los_Angeles:20241231T100000
DTEND;TZID=America/Los_Angeles:20241231T150000
DTSTAMP:20260425T170018
CREATED:20241023T224303Z
LAST-MODIFIED:20241023T224303Z
UID:10016541-1735639200-1735657200@tillamookchamber.org
SUMMARY:Tuesday Stitchers
DESCRIPTION:Come and be a part of a community of people who love to make things for others\, and in turn make friends within the group. All levels are welcome. \nJoin us at the Kiawanda Community Center on Tuesdays from 10 AM to 3 PM in the Great Hall. \nFirst Monday every month from 4 to 9 PM. \nCall (503) 965-7900 for more details | $6 admission
URL:https://tillamookchamber.org/event/tuesday-stitchers/2024-12-31/
LOCATION:Kiawanda Community Center\, 34600 Cape Kiwanda Dr\, Pacific City\, OR 97135\, OR\, United States
CATEGORIES:Classes and Workshops,Community
ATTACH;FMTTYPE=image/png:https://tillamookchamber.org/wp-content/uploads/2024/10/Tuesday-Stitchers-Group-Flyer.png
END:VEVENT
END:VCALENDAR