BEGIN:VCALENDAR
VERSION:2.0
PRODID:-//Tillamook Area Chamber of Commerce - ECPv6.15.20//NONSGML v1.0//EN
CALSCALE:GREGORIAN
METHOD:PUBLISH
X-WR-CALNAME:Tillamook Area Chamber of Commerce
X-ORIGINAL-URL:https://tillamookchamber.org
X-WR-CALDESC:Events for Tillamook Area Chamber of Commerce
REFRESH-INTERVAL;VALUE=DURATION:PT1H
X-Robots-Tag:noindex
X-PUBLISHED-TTL:PT1H
BEGIN:VTIMEZONE
TZID:America/Los_Angeles
BEGIN:DAYLIGHT
TZOFFSETFROM:-0800
TZOFFSETTO:-0700
TZNAME:PDT
DTSTART:20250309T100000
END:DAYLIGHT
BEGIN:STANDARD
TZOFFSETFROM:-0700
TZOFFSETTO:-0800
TZNAME:PST
DTSTART:20251102T090000
END:STANDARD
BEGIN:DAYLIGHT
TZOFFSETFROM:-0800
TZOFFSETTO:-0700
TZNAME:PDT
DTSTART:20260308T100000
END:DAYLIGHT
BEGIN:STANDARD
TZOFFSETFROM:-0700
TZOFFSETTO:-0800
TZNAME:PST
DTSTART:20261101T090000
END:STANDARD
BEGIN:DAYLIGHT
TZOFFSETFROM:-0800
TZOFFSETTO:-0700
TZNAME:PDT
DTSTART:20270314T100000
END:DAYLIGHT
BEGIN:STANDARD
TZOFFSETFROM:-0700
TZOFFSETTO:-0800
TZNAME:PST
DTSTART:20271107T090000
END:STANDARD
END:VTIMEZONE
BEGIN:VEVENT
DTSTART;TZID=America/Los_Angeles:20260313T090000
DTEND;TZID=America/Los_Angeles:20260313T100000
DTSTAMP:20260425T042719
CREATED:20250728T163640Z
LAST-MODIFIED:20250728T163640Z
UID:10023653-1773392400-1773396000@tillamookchamber.org
SUMMARY:Yoga With Dawn
DESCRIPTION:🧘‍♀️ Yoga with Dawn – Find Your Flow! 🧘‍♂️ \nStart your day with peace\, strength\, and positive energy 🌞Join Dawn for a refreshing yoga class every: \n🗓️ Monday\, Wednesday\, Friday & Saturday🕘 9:00 AM – 10:00 AM📍 Kiawanda Community Center \nAll levels are welcome—whether you’re new to yoga or a seasoned pro\, Dawn’s calm guidance and supportive atmosphere will leave you feeling refreshed and centered. \n✨ Bring a mat\, some water\, and a smile.No registration needed—just drop in and breathe it out with us! \n#YogaWithDawn #KiawandaCommunityCenter #MorningYoga #WellnessInPacificCity #MindBodySoul
URL:https://tillamookchamber.org/event/yoga-with-dawn/2026-03-13/
LOCATION:Kiawanda Community Center\, 34600 Cape Kiwanda Dr\, Pacific City\, OR 97135\, OR\, United States
CATEGORIES:Classes and Workshops,Community
ATTACH;FMTTYPE=image/jpeg:https://tillamookchamber.org/wp-content/uploads/2025/07/yoga.jpg
END:VEVENT
BEGIN:VEVENT
DTSTART;TZID=America/Los_Angeles:20260312T160000
DTEND;TZID=America/Los_Angeles:20260312T173000
DTSTAMP:20260425T042719
CREATED:20240822T191911Z
LAST-MODIFIED:20240822T191911Z
UID:10015643-1773331200-1773336600@tillamookchamber.org
SUMMARY:Knitting Group
DESCRIPTION:Join a fun group of knitters at North Tillamook Library in Manzanita on Thursdays from 4pm to 5:30pm.
URL:https://tillamookchamber.org/event/knitting-group/2026-03-12/
LOCATION:North Tillamook Library\, 571 Laneda Ave\, Manzanita\, OR 97130
CATEGORIES:Community,Education
ATTACH;FMTTYPE=image/png:https://tillamookchamber.org/wp-content/uploads/2024/08/logo.png
END:VEVENT
BEGIN:VEVENT
DTSTART;TZID=America/Los_Angeles:20260312T140000
DTEND;TZID=America/Los_Angeles:20260312T150000
DTSTAMP:20260425T042719
CREATED:20250929T192327Z
LAST-MODIFIED:20250929T192327Z
UID:10025795-1773324000-1773327600@tillamookchamber.org
SUMMARY:Mahjong at Manzanita Library
DESCRIPTION:Play mahjong in a fun informal group at the Manzanita library Thursdays at 2 pm!
URL:https://tillamookchamber.org/event/mahjong-at-manzanita-library/2026-03-12/
LOCATION:Manzanita Library\, 571 Laneda Ave Manzanita OR
CATEGORIES:Community,Family Fun
END:VEVENT
BEGIN:VEVENT
DTSTART;TZID=America/Los_Angeles:20260312T130000
DTEND;TZID=America/Los_Angeles:20260312T150000
DTSTAMP:20260425T042719
CREATED:20250728T163831Z
LAST-MODIFIED:20250728T163831Z
UID:10024616-1773320400-1773327600@tillamookchamber.org
SUMMARY:Bingo
DESCRIPTION:🎉 Thursday Bingo Fun at the Kiawanda Community Center! 🎉 \nJoin us every Thursday from 1PM to 3PM for an afternoon of bingo\, community\, and fun at the Kiawanda Community Center! \n🗓️ When: Thursdays\, 1:00–3:00 PM\n📍 Where: Kiawanda Community Center\n🎁 Prizes\, laughs\, and good company guaranteed! \nWhether you’re a seasoned player or brand new to the game\, everyone is welcome! Come early\, grab your favorite seat\, and get ready for a great time! 🙌 \nTag your bingo buddy and spread the word! 🎊 \n#BingoFun #KiawandaCommunityCenter #PacificCityEvents #ThursdayBingo #CommunityVibes
URL:https://tillamookchamber.org/event/bingo/2026-03-12/
LOCATION:Kiawanda Community Center\, 34600 Cape Kiwanda Dr\, Pacific City\, OR 97135\, OR\, United States
CATEGORIES:Community
ATTACH;FMTTYPE=image/jpeg:https://tillamookchamber.org/wp-content/uploads/2025/07/Cream-Orange-Colorful-Retro-We-Are-Hiring-Flyer.jpg
END:VEVENT
BEGIN:VEVENT
DTSTART;TZID=America/Los_Angeles:20260312T103000
DTEND;TZID=America/Los_Angeles:20260312T113000
DTSTAMP:20260425T042719
CREATED:20240410T154601Z
LAST-MODIFIED:20240410T154601Z
UID:10011314-1773311400-1773315000@tillamookchamber.org
SUMMARY:Tai Chi at the KCC
DESCRIPTION:Come to this weekly class in Pacific City to learn the forms in this moving meditation. Feel your life force flowing through you and get energized for you day!
URL:https://tillamookchamber.org/event/tai-chi-at-the-kcc/2026-03-12/
LOCATION:Kiawanda Community Center\, 34600 Cape Kiwanda Dr\, Pacific City\, OR 97135\, OR\, United States
CATEGORIES:Fitness and Athletics
ATTACH;FMTTYPE=image/png:https://tillamookchamber.org/wp-content/uploads/2024/04/Tai-Chi.png
END:VEVENT
BEGIN:VEVENT
DTSTART;TZID=America/Los_Angeles:20260312T100000
DTEND;TZID=America/Los_Angeles:20260312T200000
DTSTAMP:20260425T042719
CREATED:20251027T211844Z
LAST-MODIFIED:20251027T211902Z
UID:10026263-1773309600-1773345600@tillamookchamber.org
SUMMARY:All You Can Eat Oysters and Chips
DESCRIPTION:Petite oysters with coleslaw and crispy french fries. Unlimited refills on oysters\, served three ways- deep fried\, grilled\, and sautéed. Every Thursday $18.99
URL:https://tillamookchamber.org/event/all-you-can-eat-oysters-and-chips/2026-03-12/
LOCATION:Fish Peddler at Pacific Oyster\, 5150 Hayes Oyster Dr
CATEGORIES:Community
ATTACH;FMTTYPE=image/jpeg:https://tillamookchamber.org/wp-content/uploads/2025/10/IMG_5605-scaled.jpeg
END:VEVENT
BEGIN:VEVENT
DTSTART;TZID=America/Los_Angeles:20260312T100000
DTEND;TZID=America/Los_Angeles:20260312T110000
DTSTAMP:20260425T042719
CREATED:20241226T211146Z
LAST-MODIFIED:20241226T211146Z
UID:10017521-1773309600-1773313200@tillamookchamber.org
SUMMARY:Family Storytime at Bay City Library
DESCRIPTION:Bring the whole family down to the Bay City Library for a fun storytime and activity every Thursday at 10am!
URL:https://tillamookchamber.org/event/family-storytime-at-bay-city-library-2/2026-03-12/
LOCATION:Bay City Library\, 5525 B St\, Bay City\, OR
CATEGORIES:Community,Family Fun
ATTACH;FMTTYPE=image/png:https://tillamookchamber.org/wp-content/uploads/2024/12/Bay-City-Storytime1.png
END:VEVENT
BEGIN:VEVENT
DTSTART;TZID=America/Los_Angeles:20260312T090000
DTEND;TZID=America/Los_Angeles:20260312T100000
DTSTAMP:20260425T042719
CREATED:20250728T163640Z
LAST-MODIFIED:20250728T163640Z
UID:10023652-1773306000-1773309600@tillamookchamber.org
SUMMARY:Yoga With Dawn
DESCRIPTION:🧘‍♀️ Yoga with Dawn – Find Your Flow! 🧘‍♂️ \nStart your day with peace\, strength\, and positive energy 🌞Join Dawn for a refreshing yoga class every: \n🗓️ Monday\, Wednesday\, Friday & Saturday🕘 9:00 AM – 10:00 AM📍 Kiawanda Community Center \nAll levels are welcome—whether you’re new to yoga or a seasoned pro\, Dawn’s calm guidance and supportive atmosphere will leave you feeling refreshed and centered. \n✨ Bring a mat\, some water\, and a smile.No registration needed—just drop in and breathe it out with us! \n#YogaWithDawn #KiawandaCommunityCenter #MorningYoga #WellnessInPacificCity #MindBodySoul
URL:https://tillamookchamber.org/event/yoga-with-dawn/2026-03-12/
LOCATION:Kiawanda Community Center\, 34600 Cape Kiwanda Dr\, Pacific City\, OR 97135\, OR\, United States
CATEGORIES:Classes and Workshops,Community
ATTACH;FMTTYPE=image/jpeg:https://tillamookchamber.org/wp-content/uploads/2025/07/yoga.jpg
END:VEVENT
BEGIN:VEVENT
DTSTART;TZID=America/Los_Angeles:20260312T090000
DTEND;TZID=America/Los_Angeles:20260312T100000
DTSTAMP:20260425T042719
CREATED:20250603T170933Z
LAST-MODIFIED:20250603T170936Z
UID:10010893-1773306000-1773309600@tillamookchamber.org
SUMMARY:Fit and Fabulous at the KCC
DESCRIPTION:Come join this group keeping active two days a week. Only $15 for the month!
URL:https://tillamookchamber.org/event/fit-and-fabulous-at-the-kcc-2/2026-03-12/
LOCATION:Kiawanda Community Center\, 34600 Cape Kiwanda Dr\, Pacific City\, OR 97135\, OR\, United States
CATEGORIES:Fitness and Athletics
ATTACH;FMTTYPE=image/png:https://tillamookchamber.org/wp-content/uploads/2024/04/Fit-Fabulous.png
END:VEVENT
BEGIN:VEVENT
DTSTART;TZID=America/Los_Angeles:20260311T180000
DTEND;TZID=America/Los_Angeles:20260311T180000
DTSTAMP:20260425T042719
CREATED:20260309T155838Z
LAST-MODIFIED:20260309T155838Z
UID:10029588-1773252000-1773252000@tillamookchamber.org
SUMMARY:March Movies at Main: Women in Crime
DESCRIPTION:Movies aimed at adults but OK for most ages\, snacks provided! \n3/4 Chicago (2002) \n3/11 Baby Face (1933) \n3/18 Arsenic and Old Lace (1944) \n3/25 What Ever Happened To Baby Jane? (1962)
URL:https://tillamookchamber.org/event/march-movies-at-main-women-in-crime/2026-03-11/
LOCATION:Tillamook County Library\, 1716 3rd Street Tillamook Oregon 97141
CATEGORIES:Community
ATTACH;FMTTYPE=image/png:https://tillamookchamber.org/wp-content/uploads/2026/03/Women-in-Crime-Movies-TM.png
END:VEVENT
BEGIN:VEVENT
DTSTART;TZID=America/Los_Angeles:20260311T113000
DTEND;TZID=America/Los_Angeles:20260311T123000
DTSTAMP:20260425T042719
CREATED:20251231T001726Z
LAST-MODIFIED:20251231T001726Z
UID:10028717-1773228600-1773232200@tillamookchamber.org
SUMMARY:Senior Meals Tuesday & Wednesday
DESCRIPTION:🍽️ Senior Meals at the Kiawanda Community Center 🍽️ \nJoin us every Tuesday and Wednesday at 11:30 AM for delicious\, nutritious senior meals at the Kiawanda Community Center!\nCome enjoy great food and even better company in a warm and welcoming atmosphere. \n✨ Who: Seniors & community members\n📍 Where: Kiawanda Community Center\n📅 When: Every Tuesday & Wednesday\n⏰ Time: 11:30 AM \nBring a friend\, make new ones\, and enjoy a healthy midday meal! ❤️ \nFor more information\, call the Kiawanda Community Center.
URL:https://tillamookchamber.org/event/senior-meals-tuesday-wednesday/2026-03-11/
LOCATION:Kiawanda Community Center\, 34600 Cape Kiwanda Dr\, Pacific City\, OR 97135\, OR\, United States
CATEGORIES:Community
ATTACH;FMTTYPE=image/png:https://tillamookchamber.org/wp-content/uploads/2025/12/Brown-Orange-Modern-Food-Price-Instagram-Post-Invitation-portrait.png
END:VEVENT
BEGIN:VEVENT
DTSTART;TZID=America/Los_Angeles:20260311T100000
DTEND;TZID=America/Los_Angeles:20260311T110000
DTSTAMP:20260425T042719
CREATED:20240410T154635Z
LAST-MODIFIED:20240410T154635Z
UID:10011835-1773223200-1773226800@tillamookchamber.org
SUMMARY:Walking Wonders
DESCRIPTION:Join this active group rain or shine to get your steps in and around town.
URL:https://tillamookchamber.org/event/walking-wonders/2026-03-11/
LOCATION:Kiawanda Community Center\, 34600 Cape Kiwanda Dr\, Pacific City\, OR 97135\, OR\, United States
CATEGORIES:Fitness and Athletics
ATTACH;FMTTYPE=image/png:https://tillamookchamber.org/wp-content/uploads/2024/04/Walking-Wonders.png
END:VEVENT
BEGIN:VEVENT
DTSTART;TZID=America/Los_Angeles:20260311T100000
DTEND;TZID=America/Los_Angeles:20260311T110000
DTSTAMP:20260425T042719
CREATED:20230113T205344Z
LAST-MODIFIED:20230113T205344Z
UID:10019453-1773223200-1773226800@tillamookchamber.org
SUMMARY:Tillamook Main Library Storytime: Preschool
DESCRIPTION:Preschool storytime (PS) on Wed @ 10; developmentally appropriate for 3-5 yos; music\, stories\, interactive play and lots of laughs! In this class little begin to learn about a leader at the front of the room\, how to hold their wiggles\, listening and sitting still. When a child is transitioning from TT to PS my expectation is that they will sit for 5-10 minutes and then they might go play. I do not force them to sit still if they are not ready to. \nA couple of things about the children’s room that might set you at ease: \n\nThere is no expectation that it will be a quiet zone; kids are kids and they are allowed to act like themselves in the children’s room.\nOnly 2 hard and fast rules: No Running & No Screaming.\nIf your child needs a snack\, feed them!
URL:https://tillamookchamber.org/event/tillamook-main-library-storytime-preschool/2026-03-11/
LOCATION:Tillamook Main Library\, Tillamook\, 1716 3rd St\, Tillamook\, OR\, 97141\, United States
CATEGORIES:Education,Family Fun
ATTACH;FMTTYPE=image/png:https://tillamookchamber.org/wp-content/uploads/2023/01/TCL-transparent-logo.png
ORGANIZER;CN="Melanie Hetrick":MAILTO:mhetrick@co.tillamook.or.us
END:VEVENT
BEGIN:VEVENT
DTSTART;TZID=America/Los_Angeles:20260310T180000
DTEND;TZID=America/Los_Angeles:20260310T210000
DTSTAMP:20260425T042719
CREATED:20251205T223722Z
LAST-MODIFIED:20251205T223722Z
UID:10028591-1773165600-1773176400@tillamookchamber.org
SUMMARY:Trivia at Pelican Brewing- Pacific City
DESCRIPTION:Join us for trivia night every Tuesday! Win cool prizes and show your knowledge. Blackout dates apply.
URL:https://tillamookchamber.org/event/trivia-at-pelican-brewing-pacific-city/2026-03-10/
LOCATION:Pelican Brewing Company\, 33180 Cape Kiwanda Drive
CATEGORIES:Community
ATTACH;FMTTYPE=image/jpeg:https://tillamookchamber.org/wp-content/uploads/2025/12/TRivia.jpg
END:VEVENT
BEGIN:VEVENT
DTSTART;TZID=America/Los_Angeles:20260310T180000
DTEND;TZID=America/Los_Angeles:20260310T200000
DTSTAMP:20260425T042719
CREATED:20251208T220847Z
LAST-MODIFIED:20251208T220847Z
UID:10028618-1773165600-1773172800@tillamookchamber.org
SUMMARY:Bingo at Pelican Brewing- Tillamook Taproom
DESCRIPTION:Join the community for bingo night every Tuesday! Enjoy good company\, great beer\, and a chance to win cool prizes.
URL:https://tillamookchamber.org/event/bingo-at-pelican-brewing-tillamook-taproom/2026-03-10/
LOCATION:Pelican Brewing- Tillamook Taproom\, 1708 1st St Tillamook\, OR 97141
CATEGORIES:Community
ATTACH;FMTTYPE=image/jpeg:https://tillamookchamber.org/wp-content/uploads/2025/12/Bingo.jpg
END:VEVENT
BEGIN:VEVENT
DTSTART;TZID=America/Los_Angeles:20260310T150000
DTEND;TZID=America/Los_Angeles:20260310T160000
DTSTAMP:20260425T042719
CREATED:20260309T161424Z
LAST-MODIFIED:20260309T161424Z
UID:10029579-1773154800-1773158400@tillamookchamber.org
SUMMARY:C2C Trail Speaker at Tillamook Library
DESCRIPTION:Join author Mary Sinclair to learn about the Corvallis to the Sea trail!
URL:https://tillamookchamber.org/event/c2c-trail-speaker-at-tillamook-library/
LOCATION:Tillamook County Library\, 1716 3rd Street Tillamook Oregon 97141
CATEGORIES:Community
ATTACH;FMTTYPE=image/png:https://tillamookchamber.org/wp-content/uploads/2026/03/C2C-Trail-031026-TM.png
END:VEVENT
BEGIN:VEVENT
DTSTART;TZID=America/Los_Angeles:20260310T113000
DTEND;TZID=America/Los_Angeles:20260310T123000
DTSTAMP:20260425T042719
CREATED:20251231T001726Z
LAST-MODIFIED:20251231T001726Z
UID:10028716-1773142200-1773145800@tillamookchamber.org
SUMMARY:Senior Meals Tuesday & Wednesday
DESCRIPTION:🍽️ Senior Meals at the Kiawanda Community Center 🍽️ \nJoin us every Tuesday and Wednesday at 11:30 AM for delicious\, nutritious senior meals at the Kiawanda Community Center!\nCome enjoy great food and even better company in a warm and welcoming atmosphere. \n✨ Who: Seniors & community members\n📍 Where: Kiawanda Community Center\n📅 When: Every Tuesday & Wednesday\n⏰ Time: 11:30 AM \nBring a friend\, make new ones\, and enjoy a healthy midday meal! ❤️ \nFor more information\, call the Kiawanda Community Center.
URL:https://tillamookchamber.org/event/senior-meals-tuesday-wednesday/2026-03-10/
LOCATION:Kiawanda Community Center\, 34600 Cape Kiwanda Dr\, Pacific City\, OR 97135\, OR\, United States
CATEGORIES:Community
ATTACH;FMTTYPE=image/png:https://tillamookchamber.org/wp-content/uploads/2025/12/Brown-Orange-Modern-Food-Price-Instagram-Post-Invitation-portrait.png
END:VEVENT
BEGIN:VEVENT
DTSTART;TZID=America/Los_Angeles:20260310T100000
DTEND;TZID=America/Los_Angeles:20260310T150000
DTSTAMP:20260425T042719
CREATED:20241023T224303Z
LAST-MODIFIED:20241023T224303Z
UID:10016603-1773136800-1773154800@tillamookchamber.org
SUMMARY:Tuesday Stitchers
DESCRIPTION:Come and be a part of a community of people who love to make things for others\, and in turn make friends within the group. All levels are welcome. \nJoin us at the Kiawanda Community Center on Tuesdays from 10 AM to 3 PM in the Great Hall. \nFirst Monday every month from 4 to 9 PM. \nCall (503) 965-7900 for more details | $6 admission
URL:https://tillamookchamber.org/event/tuesday-stitchers/2026-03-10/
LOCATION:Kiawanda Community Center\, 34600 Cape Kiwanda Dr\, Pacific City\, OR 97135\, OR\, United States
CATEGORIES:Classes and Workshops,Community
ATTACH;FMTTYPE=image/png:https://tillamookchamber.org/wp-content/uploads/2024/10/Tuesday-Stitchers-Group-Flyer.png
END:VEVENT
BEGIN:VEVENT
DTSTART;TZID=America/Los_Angeles:20260310T100000
DTEND;TZID=America/Los_Angeles:20260310T110000
DTSTAMP:20260425T042719
CREATED:20230113T201225Z
LAST-MODIFIED:20230124T214552Z
UID:10020094-1773136800-1773140400@tillamookchamber.org
SUMMARY:Tillamook Main Library Storytime: Terrific Twos
DESCRIPTION:Terrific Twos (TT) on Tues @ 10am; developmentally appropriate for 24-36mos; bubbles\, balls\, parachute & instruments! There is no expectation that your children will sit still or be quiet. It’s not developmentally appropriate to ask them to. \nA couple of things about the children’s room that might set you at ease: \n\nThere is no expectation that it will be a quiet zone; kids are kids and they are allowed to act themselves in the children’s room.\nOnly 2 hard and fast rules: No Running & No Screaming.\nIf your child needs a snack\, feed them!
URL:https://tillamookchamber.org/event/tillamook-main-library-storytime-terrific-twos/2026-03-10/
LOCATION:Tillamook Main Library\, Tillamook\, 1716 3rd St\, Tillamook\, OR\, 97141\, United States
CATEGORIES:Education,Family Fun
ATTACH;FMTTYPE=image/jpeg:https://tillamookchamber.org/wp-content/uploads/2023/01/TCL-white.jpg
ORGANIZER;CN="Melanie Hetrick":MAILTO:mhetrick@co.tillamook.or.us
END:VEVENT
BEGIN:VEVENT
DTSTART;TZID=America/Los_Angeles:20260310T090000
DTEND;TZID=America/Los_Angeles:20260310T100000
DTSTAMP:20260425T042719
CREATED:20250603T170933Z
LAST-MODIFIED:20250603T170936Z
UID:10010892-1773133200-1773136800@tillamookchamber.org
SUMMARY:Fit and Fabulous at the KCC
DESCRIPTION:Come join this group keeping active two days a week. Only $15 for the month!
URL:https://tillamookchamber.org/event/fit-and-fabulous-at-the-kcc-2/2026-03-10/
LOCATION:Kiawanda Community Center\, 34600 Cape Kiwanda Dr\, Pacific City\, OR 97135\, OR\, United States
CATEGORIES:Fitness and Athletics
ATTACH;FMTTYPE=image/png:https://tillamookchamber.org/wp-content/uploads/2024/04/Fit-Fabulous.png
END:VEVENT
BEGIN:VEVENT
DTSTART;TZID=America/Los_Angeles:20260309T190000
DTEND;TZID=America/Los_Angeles:20260309T203000
DTSTAMP:20260425T042719
CREATED:20260224T180256Z
LAST-MODIFIED:20260224T180256Z
UID:10029562-1773082800-1773088200@tillamookchamber.org
SUMMARY:The Monday Musical Club of Tillamook March program  “Irish Music”
DESCRIPTION:Monday Musical Club of Tillamook will hold Its March program\, \non Monday March 9th at 7pm at St. John’s United Church of Christ. \nThe program “Irish Music”\, hosted by Judy Cooley\, will \nfeature a variety of vocal and instrumental Irish music! \nJudy says on St Patrick’s Day we all become Irish!! \nOn March 9th we will be celebrating the rich Irish heritage in our country. \nCome and bring a friend and enjoy a musical evening of live music \nby local musicians. \n.               There is no admission charge and it is open to the public.
URL:https://tillamookchamber.org/event/the-monday-musical-club-of-tillamook-march-program-irish-music/
LOCATION:St Johns United Church of Christ\, 602 Laurel Ave\, Tillamook 97141
CATEGORIES:Community,Live Music
ATTACH;FMTTYPE=image/jpeg:https://tillamookchamber.org/wp-content/uploads/2026/02/Mar-26-flyer1.1-M-scaled.jpg
END:VEVENT
BEGIN:VEVENT
DTSTART;TZID=America/Los_Angeles:20260309T103000
DTEND;TZID=America/Los_Angeles:20260309T123000
DTSTAMP:20260425T042719
CREATED:20250703T182108Z
LAST-MODIFIED:20250703T182108Z
UID:10022989-1773052200-1773059400@tillamookchamber.org
SUMMARY:Dungeons and Dragons at Tillamook Library
DESCRIPTION:Play a variety of tabletop RPGs with local storytellers at the library! Open to all!
URL:https://tillamookchamber.org/event/dungeons-and-dragons-at-tillamook-library/2026-03-09/
LOCATION:Tillamook County Library\, 1716 3rd Street Tillamook Oregon 97141
CATEGORIES:Community
ATTACH;FMTTYPE=image/png:https://tillamookchamber.org/wp-content/uploads/2025/07/Dungeons-Dragons-2025-TM-1.png
END:VEVENT
BEGIN:VEVENT
DTSTART;TZID=America/Los_Angeles:20260309T103000
DTEND;TZID=America/Los_Angeles:20260309T113000
DTSTAMP:20260425T042719
CREATED:20260309T160331Z
LAST-MODIFIED:20260309T160331Z
UID:10029585-1773052200-1773055800@tillamookchamber.org
SUMMARY:Musical Storytime at Manzanita Library
DESCRIPTION:Listen to and participate in a musical story with skilled musicians from North Coast Symphony at the Manzanita Library!
URL:https://tillamookchamber.org/event/musical-storytime-at-manzanita-library-2/
LOCATION:Manzanita Library\, 571 Laneda Ave Manzanita OR
CATEGORIES:Community
ATTACH;FMTTYPE=image/png:https://tillamookchamber.org/wp-content/uploads/2026/03/Music-Storytime-030926-TZ.png
END:VEVENT
BEGIN:VEVENT
DTSTART;TZID=America/Los_Angeles:20260309T100000
DTEND;TZID=America/Los_Angeles:20260309T110000
DTSTAMP:20260425T042719
CREATED:20240410T154635Z
LAST-MODIFIED:20240410T154635Z
UID:10011834-1773050400-1773054000@tillamookchamber.org
SUMMARY:Walking Wonders
DESCRIPTION:Join this active group rain or shine to get your steps in and around town.
URL:https://tillamookchamber.org/event/walking-wonders/2026-03-09/
LOCATION:Kiawanda Community Center\, 34600 Cape Kiwanda Dr\, Pacific City\, OR 97135\, OR\, United States
CATEGORIES:Fitness and Athletics
ATTACH;FMTTYPE=image/png:https://tillamookchamber.org/wp-content/uploads/2024/04/Walking-Wonders.png
END:VEVENT
BEGIN:VEVENT
DTSTART;TZID=America/Los_Angeles:20260309T090000
DTEND;TZID=America/Los_Angeles:20260309T100000
DTSTAMP:20260425T042719
CREATED:20250728T163640Z
LAST-MODIFIED:20250728T163640Z
UID:10023651-1773046800-1773050400@tillamookchamber.org
SUMMARY:Yoga With Dawn
DESCRIPTION:🧘‍♀️ Yoga with Dawn – Find Your Flow! 🧘‍♂️ \nStart your day with peace\, strength\, and positive energy 🌞Join Dawn for a refreshing yoga class every: \n🗓️ Monday\, Wednesday\, Friday & Saturday🕘 9:00 AM – 10:00 AM📍 Kiawanda Community Center \nAll levels are welcome—whether you’re new to yoga or a seasoned pro\, Dawn’s calm guidance and supportive atmosphere will leave you feeling refreshed and centered. \n✨ Bring a mat\, some water\, and a smile.No registration needed—just drop in and breathe it out with us! \n#YogaWithDawn #KiawandaCommunityCenter #MorningYoga #WellnessInPacificCity #MindBodySoul
URL:https://tillamookchamber.org/event/yoga-with-dawn/2026-03-09/
LOCATION:Kiawanda Community Center\, 34600 Cape Kiwanda Dr\, Pacific City\, OR 97135\, OR\, United States
CATEGORIES:Classes and Workshops,Community
ATTACH;FMTTYPE=image/jpeg:https://tillamookchamber.org/wp-content/uploads/2025/07/yoga.jpg
END:VEVENT
BEGIN:VEVENT
DTSTART;TZID=America/Los_Angeles:20260308T090000
DTEND;TZID=America/Los_Angeles:20260308T150000
DTSTAMP:20260425T042719
CREATED:20260220T191858Z
LAST-MODIFIED:20260220T191858Z
UID:10029546-1772960400-1772982000@tillamookchamber.org
SUMMARY:Nehalem Estuary Cleanup - 14th Biennial
DESCRIPTION:‘Tis the season of waterproof pants! Grab your family\, your friends\, and prepare to get muddy at the 14th Biennial Nehalem Estuary Cleanup! Register to join one of ten Zone teams in a community-wide effort to collect marine debris from Nehalem Bay. \nWhether you’re a regular rugged explorer or will have kids in tow\, there is a Zone with terrain for most! Zone Leaders will meet you out in the estuary at 9AM on Sunday\, March 8th\, to guide you through a section of the Bay’s edge before returning to Wheeler for a volunteer celebration you won’t want to miss. \nLearn more & register here: https://www.nehalemtrust.org/cleanup/
URL:https://tillamookchamber.org/event/nehalem-estuary-cleanup-14th-biennial/
CATEGORIES:Community,Family Fun,Outdoor
ATTACH;FMTTYPE=image/jpeg:https://tillamookchamber.org/wp-content/uploads/2026/02/Official-14-TH-Estuary-Cleanup-Poster.jpg
END:VEVENT
BEGIN:VEVENT
DTSTART;TZID=America/Los_Angeles:20260308T080000
DTEND;TZID=America/Los_Angeles:20260308T170000
DTSTAMP:20260425T042719
CREATED:20260309T155338Z
LAST-MODIFIED:20260309T155338Z
UID:10029592-1772956800-1772989200@tillamookchamber.org
SUMMARY:Reflecting on Resilience - Exhibit Opening
DESCRIPTION:For 75 years\, stewardship in the TSF has taken many forms – from the daily labor of rebuilding a burned landscape to welcoming visitors into a living classroom. Reflecting on Resilience explores the intertwined histories of service\, restoration\, and public engagement that connect South Fork Forest Camp and the Tillamook Forest Center. Through stories\, artifacts\, and never before publicly displayed photos\, this exhibit invites reflection on how forests\, and our relationship to them\, change over time\, and how today’s stewardship will define the forests of the future.
URL:https://tillamookchamber.org/event/reflecting-on-resilience-exhibit-opening-2/
LOCATION:Tillamook Forest Center\, 45500 Wilson River Hwy
CATEGORIES:Community,Education
ATTACH;FMTTYPE=image/jpeg:https://tillamookchamber.org/wp-content/uploads/2026/03/Film-Strip-website-small-scaled.jpg
END:VEVENT
BEGIN:VEVENT
DTSTART;TZID=America/Los_Angeles:20260307T200000
DTEND;TZID=America/Los_Angeles:20260307T235900
DTSTAMP:20260425T042719
CREATED:20260218T172924Z
LAST-MODIFIED:20260218T172924Z
UID:10029542-1772913600-1772927940@tillamookchamber.org
SUMMARY:Tillamook Elk’s Bull’s & Broncs After Party
DESCRIPTION:Don’t miss the “HOTTEST” party in town at the Tillamook Elk’s lodge. Saturday\, March 7th\, doors open at 8:00pm. Live music “Sweetwater Band”\, Ride the Mechanical Bull\, Line Dancing\, Food\, Beer\, Spirts. This is a 21+ event\, $10.00 cover charge.        “Get your Cowboy & Cowgirl on”…… See you there!!!!
URL:https://tillamookchamber.org/event/tillamook-elks-bulls-broncs-after-party/
CATEGORIES:Community,Live Music
END:VEVENT
BEGIN:VEVENT
DTSTART;TZID=America/Los_Angeles:20260307T200000
DTEND;TZID=America/Los_Angeles:20260307T200000
DTSTAMP:20260425T042719
CREATED:20260223T174325Z
LAST-MODIFIED:20260223T175752Z
UID:10029551-1772913600-1772913600@tillamookchamber.org
SUMMARY:Bulls and Broncs Rodeo After Party
DESCRIPTION:Don’t miss the “HOTTEST” party in town at the Tillamook Elk’s lodge. Saturday\, March 7th\, doors open at 8:00 pm. Live music “Sweetwater Band”\, Ride the Mechanical Bull\, Line Dancing\, Food\, Beer\, Spirts. This is a 21+ event\, with a $10.00 cover charge.  “Get your Cowboy & Cowgirl on”…… See you there!!!! \n\n1907 3rd Street\, doors open at 8pm.
URL:https://tillamookchamber.org/event/bulls-and-broncs-rodeo-after-party/
LOCATION:Tillamook Elks\, 1907 3rd Street\, Tillamook\, 97141
CATEGORIES:Festivals and Events,Live Music
ATTACH;FMTTYPE=image/jpeg:https://tillamookchamber.org/wp-content/uploads/2026/02/RenderedImage.jpeg
END:VEVENT
BEGIN:VEVENT
DTSTART;TZID=America/Los_Angeles:20260307T190000
DTEND;TZID=America/Los_Angeles:20260307T213000
DTSTAMP:20260425T042719
CREATED:20260223T224348Z
LAST-MODIFIED:20260223T224348Z
UID:10029561-1772910000-1772919000@tillamookchamber.org
SUMMARY:Bulls & Broncs
DESCRIPTION:Hold onto your hats! Bulls & Broncs is charging into the Tillamook County Fairgrounds March 7th with big bulls\, bold broncs\, and edge-of-your-seat excitement the whole family will love. Get ready for a fun-filled evening for all ages featuring tasty grub\, exciting merch\, and giveaways! And the best part? You’ll have a front-row seat to all the action at the Pavilion Indoor Arena\, where every seat feels like VIP! \nGet your tickets before it sells out: https://aftontickets.com/bullsandbroncs26 \n*all sales are final and non-refundable*
URL:https://tillamookchamber.org/event/bulls-broncs/
LOCATION:Tillamook County Fairgrounds\, 4603 3rd St\, Tillamook\, OR\, 97141\, United States
CATEGORIES:Community,Family Fun
ATTACH;FMTTYPE=image/jpeg:https://tillamookchamber.org/wp-content/uploads/2026/02/2026_BullsBroncs_Social-01.jpg
END:VEVENT
END:VCALENDAR