BEGIN:VCALENDAR
VERSION:2.0
PRODID:-//Tillamook Area Chamber of Commerce - ECPv6.15.20//NONSGML v1.0//EN
CALSCALE:GREGORIAN
METHOD:PUBLISH
X-ORIGINAL-URL:https://tillamookchamber.org
X-WR-CALDESC:Events for Tillamook Area Chamber of Commerce
REFRESH-INTERVAL;VALUE=DURATION:PT1H
X-Robots-Tag:noindex
X-PUBLISHED-TTL:PT1H
BEGIN:VTIMEZONE
TZID:America/Los_Angeles
BEGIN:DAYLIGHT
TZOFFSETFROM:-0800
TZOFFSETTO:-0700
TZNAME:PDT
DTSTART:20250309T100000
END:DAYLIGHT
BEGIN:STANDARD
TZOFFSETFROM:-0700
TZOFFSETTO:-0800
TZNAME:PST
DTSTART:20251102T090000
END:STANDARD
BEGIN:DAYLIGHT
TZOFFSETFROM:-0800
TZOFFSETTO:-0700
TZNAME:PDT
DTSTART:20260308T100000
END:DAYLIGHT
BEGIN:STANDARD
TZOFFSETFROM:-0700
TZOFFSETTO:-0800
TZNAME:PST
DTSTART:20261101T090000
END:STANDARD
BEGIN:DAYLIGHT
TZOFFSETFROM:-0800
TZOFFSETTO:-0700
TZNAME:PDT
DTSTART:20270314T100000
END:DAYLIGHT
BEGIN:STANDARD
TZOFFSETFROM:-0700
TZOFFSETTO:-0800
TZNAME:PST
DTSTART:20271107T090000
END:STANDARD
END:VTIMEZONE
BEGIN:VEVENT
DTSTART;TZID=America/Los_Angeles:20260313T100000
DTEND;TZID=America/Los_Angeles:20260313T190000
DTSTAMP:20260420T043758
CREATED:20260210T202159Z
LAST-MODIFIED:20260210T202159Z
UID:10029407-1773396000-1773428400@tillamookchamber.org
SUMMARY:ReCurrent's Store-Wide Clearance Sale
DESCRIPTION:ReCurrent is having a three day store-wide* clearance sale! Located at 2015 2nd Street in Tillamook. \n30% Off Friday March 13th\, 50% Off Saturday March 14th\, 75% Off Sunday March 15th \nKICK-OFF EVENT FRIDAY MARCH 13th 10am \nMimosas\, fresh locally made pastries\, and goodie bags for the first 10 people! Thirty percent off all day! \nSIP + SHOP FRIDAY MARCH 13th 5pm-7pm \nJoin us for happy hour! Get 30% off! \nFIFTY PERCENT OFF ALL DAY SATURDAY MARCH 14th! \nOpen 10am-5pm! Get 50% off! \n7TH BIRTHDAY BASH SUNDAY MARCH 15th 10am-5pm \nClose-out the weekend with cupcakes\, champagne\, and a free gift with every $25 purchase! Get 75% off! \n*excludes purple tags and showcases
URL:https://tillamookchamber.org/event/recurrents-store-wide-clearance-sale/2026-03-13/
LOCATION:Downtown Tillamook\, Tillamook\, OR\, 97141\, United States
CATEGORIES:Community,Shopping and Sales
ATTACH;FMTTYPE=image/jpeg:https://tillamookchamber.org/wp-content/uploads/2026/02/Copy-of-Copy-of-bag-sale-Postcard-US-1920-x-1080-px.jpg
END:VEVENT
BEGIN:VEVENT
DTSTART;TZID=America/Los_Angeles:20260313T120000
DTEND;TZID=America/Los_Angeles:20260313T190000
DTSTAMP:20260420T043758
CREATED:20260112T193911Z
LAST-MODIFIED:20260112T193911Z
UID:10029335-1773403200-1773428400@tillamookchamber.org
SUMMARY:Spring Bazaar
DESCRIPTION:Please join us at the Annual Spring Bazaar\, taking place at the Tillamook County Fairgrounds on March 13th and 14th\, 2026. The event hours are from 12:00 p.m. to 7:00 p.m. on Friday and from 10:00 a.m. to 5:00 p.m. on Saturday. Attendees can explore a diverse selection of vendors and enjoy lunch options on-site.
URL:https://tillamookchamber.org/event/spring-bazaar/2026-03-13/
LOCATION:Tillamook County Fairgrounds\, 4603 3rd St\, Tillamook\, OR\, 97141\, United States
CATEGORIES:Community,Shopping and Sales
ATTACH;FMTTYPE=image/jpeg:https://tillamookchamber.org/wp-content/uploads/2026/01/Spring-Bazaar-Flyer.jpg
END:VEVENT
BEGIN:VEVENT
DTSTART;TZID=America/Los_Angeles:20260313T170000
DTEND;TZID=America/Los_Angeles:20260313T190000
DTSTAMP:20260420T043758
CREATED:20260228T004129Z
LAST-MODIFIED:20260228T004129Z
UID:10029570-1773421200-1773428400@tillamookchamber.org
SUMMARY:March Sip + Shop
DESCRIPTION:
URL:https://tillamookchamber.org/event/march-sip-shop/
LOCATION:OR
CATEGORIES:Community,Shopping and Sales
END:VEVENT
BEGIN:VEVENT
DTSTART;TZID=America/Los_Angeles:20260314T100000
DTEND;TZID=America/Los_Angeles:20260314T170000
DTSTAMP:20260420T043758
CREATED:20260112T193911Z
LAST-MODIFIED:20260112T193911Z
UID:10029336-1773482400-1773507600@tillamookchamber.org
SUMMARY:Spring Bazaar
DESCRIPTION:Please join us at the Annual Spring Bazaar\, taking place at the Tillamook County Fairgrounds on March 13th and 14th\, 2026. The event hours are from 12:00 p.m. to 7:00 p.m. on Friday and from 10:00 a.m. to 5:00 p.m. on Saturday. Attendees can explore a diverse selection of vendors and enjoy lunch options on-site.
URL:https://tillamookchamber.org/event/spring-bazaar/2026-03-14/
LOCATION:Tillamook County Fairgrounds\, 4603 3rd St\, Tillamook\, OR\, 97141\, United States
CATEGORIES:Community,Shopping and Sales
ATTACH;FMTTYPE=image/jpeg:https://tillamookchamber.org/wp-content/uploads/2026/01/Spring-Bazaar-Flyer.jpg
END:VEVENT
BEGIN:VEVENT
DTSTART;TZID=America/Los_Angeles:20260314T100000
DTEND;TZID=America/Los_Angeles:20260314T170000
DTSTAMP:20260420T043758
CREATED:20260210T202159Z
LAST-MODIFIED:20260210T202159Z
UID:10029408-1773482400-1773507600@tillamookchamber.org
SUMMARY:ReCurrent's Store-Wide Clearance Sale
DESCRIPTION:ReCurrent is having a three day store-wide* clearance sale! Located at 2015 2nd Street in Tillamook. \n30% Off Friday March 13th\, 50% Off Saturday March 14th\, 75% Off Sunday March 15th \nKICK-OFF EVENT FRIDAY MARCH 13th 10am \nMimosas\, fresh locally made pastries\, and goodie bags for the first 10 people! Thirty percent off all day! \nSIP + SHOP FRIDAY MARCH 13th 5pm-7pm \nJoin us for happy hour! Get 30% off! \nFIFTY PERCENT OFF ALL DAY SATURDAY MARCH 14th! \nOpen 10am-5pm! Get 50% off! \n7TH BIRTHDAY BASH SUNDAY MARCH 15th 10am-5pm \nClose-out the weekend with cupcakes\, champagne\, and a free gift with every $25 purchase! Get 75% off! \n*excludes purple tags and showcases
URL:https://tillamookchamber.org/event/recurrents-store-wide-clearance-sale/2026-03-14/
LOCATION:Downtown Tillamook\, Tillamook\, OR\, 97141\, United States
CATEGORIES:Community,Shopping and Sales
ATTACH;FMTTYPE=image/jpeg:https://tillamookchamber.org/wp-content/uploads/2026/02/Copy-of-Copy-of-bag-sale-Postcard-US-1920-x-1080-px.jpg
END:VEVENT
BEGIN:VEVENT
DTSTART;TZID=America/Los_Angeles:20260315T100000
DTEND;TZID=America/Los_Angeles:20260315T170000
DTSTAMP:20260420T043758
CREATED:20260210T202159Z
LAST-MODIFIED:20260210T202159Z
UID:10029409-1773568800-1773594000@tillamookchamber.org
SUMMARY:ReCurrent's Store-Wide Clearance Sale
DESCRIPTION:ReCurrent is having a three day store-wide* clearance sale! Located at 2015 2nd Street in Tillamook. \n30% Off Friday March 13th\, 50% Off Saturday March 14th\, 75% Off Sunday March 15th \nKICK-OFF EVENT FRIDAY MARCH 13th 10am \nMimosas\, fresh locally made pastries\, and goodie bags for the first 10 people! Thirty percent off all day! \nSIP + SHOP FRIDAY MARCH 13th 5pm-7pm \nJoin us for happy hour! Get 30% off! \nFIFTY PERCENT OFF ALL DAY SATURDAY MARCH 14th! \nOpen 10am-5pm! Get 50% off! \n7TH BIRTHDAY BASH SUNDAY MARCH 15th 10am-5pm \nClose-out the weekend with cupcakes\, champagne\, and a free gift with every $25 purchase! Get 75% off! \n*excludes purple tags and showcases
URL:https://tillamookchamber.org/event/recurrents-store-wide-clearance-sale/2026-03-15/
LOCATION:Downtown Tillamook\, Tillamook\, OR\, 97141\, United States
CATEGORIES:Community,Shopping and Sales
ATTACH;FMTTYPE=image/jpeg:https://tillamookchamber.org/wp-content/uploads/2026/02/Copy-of-Copy-of-bag-sale-Postcard-US-1920-x-1080-px.jpg
END:VEVENT
BEGIN:VEVENT
DTSTART;TZID=America/Los_Angeles:20260320T163000
DTEND;TZID=America/Los_Angeles:20260320T180000
DTSTAMP:20260420T043758
CREATED:20260316T200723Z
LAST-MODIFIED:20260316T200723Z
UID:10029619-1774024200-1774029600@tillamookchamber.org
SUMMARY:Lainey and Company Grand Opening
DESCRIPTION:You’re Invited! Grand Opening & Ribbon Cutting at Lainey and Company! \nThe festivities begin this Friday\, March 20\, with a special Ribbon Cutting ceremony at 4:30 PM. Come explore the beautiful new space at 2018 Henson Plaza (located right on the corner of 2nd and Pacific Ave). \n  \n 
URL:https://tillamookchamber.org/event/lainey-and-company-grand-opening/
LOCATION:Downtown Tillamook\, Tillamook\, OR\, 97141\, United States
CATEGORIES:Shopping and Sales
ATTACH;FMTTYPE=image/png:https://tillamookchamber.org/wp-content/uploads/2026/03/MonM-image-pud-4.png
END:VEVENT
END:VCALENDAR