BEGIN:VCALENDAR
VERSION:2.0
PRODID:-//Tillamook Area Chamber of Commerce - ECPv6.15.20//NONSGML v1.0//EN
CALSCALE:GREGORIAN
METHOD:PUBLISH
X-WR-CALNAME:Tillamook Area Chamber of Commerce
X-ORIGINAL-URL:https://tillamookchamber.org
X-WR-CALDESC:Events for Tillamook Area Chamber of Commerce
REFRESH-INTERVAL;VALUE=DURATION:PT1H
X-Robots-Tag:noindex
X-PUBLISHED-TTL:PT1H
BEGIN:VTIMEZONE
TZID:America/Los_Angeles
BEGIN:DAYLIGHT
TZOFFSETFROM:-0800
TZOFFSETTO:-0700
TZNAME:PDT
DTSTART:20240310T100000
END:DAYLIGHT
BEGIN:STANDARD
TZOFFSETFROM:-0700
TZOFFSETTO:-0800
TZNAME:PST
DTSTART:20241103T090000
END:STANDARD
BEGIN:DAYLIGHT
TZOFFSETFROM:-0800
TZOFFSETTO:-0700
TZNAME:PDT
DTSTART:20250309T100000
END:DAYLIGHT
BEGIN:STANDARD
TZOFFSETFROM:-0700
TZOFFSETTO:-0800
TZNAME:PST
DTSTART:20251102T090000
END:STANDARD
BEGIN:DAYLIGHT
TZOFFSETFROM:-0800
TZOFFSETTO:-0700
TZNAME:PDT
DTSTART:20260308T100000
END:DAYLIGHT
BEGIN:STANDARD
TZOFFSETFROM:-0700
TZOFFSETTO:-0800
TZNAME:PST
DTSTART:20261101T090000
END:STANDARD
END:VTIMEZONE
BEGIN:VEVENT
DTSTART;TZID=America/Los_Angeles:20251206T110000
DTEND;TZID=America/Los_Angeles:20251206T150000
DTSTAMP:20260420T112338
CREATED:20251119T232311Z
LAST-MODIFIED:20251119T232311Z
UID:10028163-1765018800-1765033200@tillamookchamber.org
SUMMARY:Holiday Bazaar 12/6 11-3 White Clover Grange in Nehalem
DESCRIPTION:Join us on Saturday December 6th\, from 11am-3pm for our annual White Clover Grange Holiday Bazaar.  This traditional and ever popular event will feature a variety of homemade sweet treats\, craft items\, ceramics\, jewelry\, prints\, cards\, hand forged art\, knitted goods\, plus locally grown teas\, flowers\, fresh vegetables\, meats\, jams\, pickles\, and Christmas trees and wreaths. \nGnarly’s Tacos will have their popular food truck outside for a lunch treat! \nGrange bakers will be selling their delicious cookies and treats\, plus there will be cinnamon rolls from Handy Creek Bakery\, and Annie’s famous caramel corn. \nChristmas trees and hand made wreaths by Jose\, will be available outside. \nLocal vendors include Lance’s Farm Vittles\, Moon River Farm\, River City Flower Farm\, Little Wing Kinetics\, Lone Wolf Forge\, Murrelet Herb Farm\, Gingifer’s Kitchen\, Sweetheart Wheel\, Perch Handmade\, 3G Fiber Creations\, KelpMinerals\, and more. Upstairs and down\, vendors are selling a delightful array of locally grown and crafted goods including vegetables\, meats\, teas\, wool\, honey\, pickles\, jams and jellies\, ceramics\, felted art\, jewelry\, body care products\, solar lamps\, wreaths\, dried flowers\, copper wind sculptures\, pottery\, hand forged metal art\, beads\, buttons and crafts\, and more. \nWhite Clover Grange Holiday Bazaar \nSaturday December 6\, 2025 11am-3pm!  \n36585 Hwy 53\, about 2 miles east of Hwy 101. Look for Daisy the Cow!
URL:https://tillamookchamber.org/event/holiday-bazaar-12-6-11-3-white-clover-grange-in-nehalem/
LOCATION:White Clover Grange\, 36585 Highway 53 Nehalem OR 97131
CATEGORIES:Community,Holiday,Shopping and Sales
ATTACH;FMTTYPE=image/png:https://tillamookchamber.org/wp-content/uploads/2025/11/WCG-holiday-2025.png
END:VEVENT
BEGIN:VEVENT
DTSTART;TZID=America/Los_Angeles:20251212T170000
DTEND;TZID=America/Los_Angeles:20251212T190000
DTSTAMP:20260420T112338
CREATED:20251130T061929Z
LAST-MODIFIED:20251130T062046Z
UID:10028565-1765558800-1765566000@tillamookchamber.org
SUMMARY:December Sip + Shop
DESCRIPTION:Join us for Sip + Shop on Friday\, December 12th from 5 PM to 7 PM!\n\n\nStart your night at the Chamber Headquarters!\n\n\n\nWe’ll treat you to a complimentary glass (past participants\, please bring yours to reuse!) and your first delicious sip. Non-alcoholic options will be available.\n\n\n\nWe’ll give you a list of all the participating businesses to guide your shopping adventure!
URL:https://tillamookchamber.org/event/december-sip-shop/
LOCATION:OR
CATEGORIES:Community,Shopping and Sales
ATTACH;FMTTYPE=image/png:https://tillamookchamber.org/wp-content/uploads/2025/11/Sip-shop.png
END:VEVENT
BEGIN:VEVENT
DTSTART;TZID=America/Los_Angeles:20251212T170000
DTEND;TZID=America/Los_Angeles:20251212T190000
DTSTAMP:20260420T112338
CREATED:20251201T201254Z
LAST-MODIFIED:20251201T201254Z
UID:10028563-1765558800-1765566000@tillamookchamber.org
SUMMARY:December Sip + Shop: Free Museum Admission
DESCRIPTION:The Tillamook County Pioneer Museum is a stop for the Tillamook Area Chamber of Commerce’s Sip+Shop night! Free admission from 5-7 pm at the Museum. We’ll be pouring Pelican Brewing Company. \nYour adventure begins at the Chamber HQ for a complimentary glass and your first sip. You’ll receive a map of all the other fantastic participating businesses. It’s going to be an evening of great sips\, local shopping\, and good times. Cheers!
URL:https://tillamookchamber.org/event/december-sip-shop-free-museum-admission/
LOCATION:Tillamook County Pioneer Museum\, 2106 Second St\, Tillamook OR 97141
CATEGORIES:Community,Shopping and Sales
ATTACH;FMTTYPE=image/png:https://tillamookchamber.org/wp-content/uploads/2025/11/Sip-Shop-Facebook-post-6.png
END:VEVENT
END:VCALENDAR