BEGIN:VCALENDAR
VERSION:2.0
PRODID:-//Tillamook Area Chamber of Commerce - ECPv6.15.20//NONSGML v1.0//EN
CALSCALE:GREGORIAN
METHOD:PUBLISH
X-ORIGINAL-URL:https://tillamookchamber.org
X-WR-CALDESC:Events for Tillamook Area Chamber of Commerce
REFRESH-INTERVAL;VALUE=DURATION:PT1H
X-Robots-Tag:noindex
X-PUBLISHED-TTL:PT1H
BEGIN:VTIMEZONE
TZID:America/Los_Angeles
BEGIN:DAYLIGHT
TZOFFSETFROM:-0800
TZOFFSETTO:-0700
TZNAME:PDT
DTSTART:20240310T100000
END:DAYLIGHT
BEGIN:STANDARD
TZOFFSETFROM:-0700
TZOFFSETTO:-0800
TZNAME:PST
DTSTART:20241103T090000
END:STANDARD
BEGIN:DAYLIGHT
TZOFFSETFROM:-0800
TZOFFSETTO:-0700
TZNAME:PDT
DTSTART:20250309T100000
END:DAYLIGHT
BEGIN:STANDARD
TZOFFSETFROM:-0700
TZOFFSETTO:-0800
TZNAME:PST
DTSTART:20251102T090000
END:STANDARD
BEGIN:DAYLIGHT
TZOFFSETFROM:-0800
TZOFFSETTO:-0700
TZNAME:PDT
DTSTART:20260308T100000
END:DAYLIGHT
BEGIN:STANDARD
TZOFFSETFROM:-0700
TZOFFSETTO:-0800
TZNAME:PST
DTSTART:20261101T090000
END:STANDARD
END:VTIMEZONE
BEGIN:VEVENT
DTSTART;TZID=America/Los_Angeles:20251004T170000
DTEND;TZID=America/Los_Angeles:20251004T190000
DTSTAMP:20260420T165600
CREATED:20250926T174446Z
LAST-MODIFIED:20250926T174446Z
UID:10025630-1759597200-1759604400@tillamookchamber.org
SUMMARY:Green Coast Market & Crave the Coast
DESCRIPTION:As part of the North Coast Food Trail’s October “Crave the Coast” event series\, Green Coast Market is staying open until 7PM on Saturdays in October. Join us from 5-7PM for demos and tastings with local farmers and food producers. This event is free to all. Must be 21+ to participate in wine and cider tastings. Here is the lineup: \nOctober 4: Garden goodness from Brickyard Farms + mocktails made with ingredients available at Green Coast Market\nOctober 11: Wine tasting with Augustina Cellars + pasta and sauces from Manja Creations\nOctober 18: Cider tasting from Carola Wine & Cider +  cheese sampling\nOctober 25: Teas from Murrelet Herb Farm + toffee sampling
URL:https://tillamookchamber.org/event/green-coast-market-crave-the-coast/2025-10-04/
LOCATION:Green Coast Market\, 117 S Miller Street Rockaway Beach\, OR
CATEGORIES:Community,Shopping and Sales
END:VEVENT
BEGIN:VEVENT
DTSTART;TZID=America/Los_Angeles:20251010T170000
DTEND;TZID=America/Los_Angeles:20251010T190000
DTSTAMP:20260420T165600
CREATED:20250923T154329Z
LAST-MODIFIED:20250923T154329Z
UID:10025616-1760115600-1760122800@tillamookchamber.org
SUMMARY:Free Museum Admission: October Sip+Shop
DESCRIPTION:The Tillamook County Pioneer Museum is a stop for the Tillamook Area Chamber of Commerce’s Sip+Shop night!\n\nFree admission from 5-7 pm at the Museum. Pelican Brewing Company drinks will be served.\n\nYour adventure begins at the Chamber HQ for a complimentary glass and your first sip. You’ll receive a map of all the other fantastic participating businesses. It’s going to be an evening of great sips\, local shopping\, and good times. Cheers!
URL:https://tillamookchamber.org/event/free-museum-admission-october-sipshop/
LOCATION:Tillamook County Pioneer Museum\, 2106 Second St\, Tillamook OR 97141
CATEGORIES:Community,Shopping and Sales
ATTACH;FMTTYPE=image/png:https://tillamookchamber.org/wp-content/uploads/2025/09/Sip-Shop-Facebook-post-1.png
END:VEVENT
BEGIN:VEVENT
DTSTART;TZID=America/Los_Angeles:20251011T170000
DTEND;TZID=America/Los_Angeles:20251011T190000
DTSTAMP:20260420T165600
CREATED:20250926T174446Z
LAST-MODIFIED:20250926T174446Z
UID:10025631-1760202000-1760209200@tillamookchamber.org
SUMMARY:Green Coast Market & Crave the Coast
DESCRIPTION:As part of the North Coast Food Trail’s October “Crave the Coast” event series\, Green Coast Market is staying open until 7PM on Saturdays in October. Join us from 5-7PM for demos and tastings with local farmers and food producers. This event is free to all. Must be 21+ to participate in wine and cider tastings. Here is the lineup: \nOctober 4: Garden goodness from Brickyard Farms + mocktails made with ingredients available at Green Coast Market\nOctober 11: Wine tasting with Augustina Cellars + pasta and sauces from Manja Creations\nOctober 18: Cider tasting from Carola Wine & Cider +  cheese sampling\nOctober 25: Teas from Murrelet Herb Farm + toffee sampling
URL:https://tillamookchamber.org/event/green-coast-market-crave-the-coast/2025-10-11/
LOCATION:Green Coast Market\, 117 S Miller Street Rockaway Beach\, OR
CATEGORIES:Community,Shopping and Sales
END:VEVENT
BEGIN:VEVENT
DTSTART;TZID=America/Los_Angeles:20251018T170000
DTEND;TZID=America/Los_Angeles:20251018T190000
DTSTAMP:20260420T165600
CREATED:20250926T174446Z
LAST-MODIFIED:20250926T174446Z
UID:10025632-1760806800-1760814000@tillamookchamber.org
SUMMARY:Green Coast Market & Crave the Coast
DESCRIPTION:As part of the North Coast Food Trail’s October “Crave the Coast” event series\, Green Coast Market is staying open until 7PM on Saturdays in October. Join us from 5-7PM for demos and tastings with local farmers and food producers. This event is free to all. Must be 21+ to participate in wine and cider tastings. Here is the lineup: \nOctober 4: Garden goodness from Brickyard Farms + mocktails made with ingredients available at Green Coast Market\nOctober 11: Wine tasting with Augustina Cellars + pasta and sauces from Manja Creations\nOctober 18: Cider tasting from Carola Wine & Cider +  cheese sampling\nOctober 25: Teas from Murrelet Herb Farm + toffee sampling
URL:https://tillamookchamber.org/event/green-coast-market-crave-the-coast/2025-10-18/
LOCATION:Green Coast Market\, 117 S Miller Street Rockaway Beach\, OR
CATEGORIES:Community,Shopping and Sales
END:VEVENT
BEGIN:VEVENT
DTSTART;TZID=America/Los_Angeles:20251025T170000
DTEND;TZID=America/Los_Angeles:20251025T190000
DTSTAMP:20260420T165600
CREATED:20250926T174446Z
LAST-MODIFIED:20250926T174446Z
UID:10025633-1761411600-1761418800@tillamookchamber.org
SUMMARY:Green Coast Market & Crave the Coast
DESCRIPTION:As part of the North Coast Food Trail’s October “Crave the Coast” event series\, Green Coast Market is staying open until 7PM on Saturdays in October. Join us from 5-7PM for demos and tastings with local farmers and food producers. This event is free to all. Must be 21+ to participate in wine and cider tastings. Here is the lineup: \nOctober 4: Garden goodness from Brickyard Farms + mocktails made with ingredients available at Green Coast Market\nOctober 11: Wine tasting with Augustina Cellars + pasta and sauces from Manja Creations\nOctober 18: Cider tasting from Carola Wine & Cider +  cheese sampling\nOctober 25: Teas from Murrelet Herb Farm + toffee sampling
URL:https://tillamookchamber.org/event/green-coast-market-crave-the-coast/2025-10-25/
LOCATION:Green Coast Market\, 117 S Miller Street Rockaway Beach\, OR
CATEGORIES:Community,Shopping and Sales
END:VEVENT
END:VCALENDAR