BEGIN:VCALENDAR
VERSION:2.0
PRODID:-//Tillamook Area Chamber of Commerce - ECPv6.15.20//NONSGML v1.0//EN
CALSCALE:GREGORIAN
METHOD:PUBLISH
X-WR-CALNAME:Tillamook Area Chamber of Commerce
X-ORIGINAL-URL:https://tillamookchamber.org
X-WR-CALDESC:Events for Tillamook Area Chamber of Commerce
REFRESH-INTERVAL;VALUE=DURATION:PT1H
X-Robots-Tag:noindex
X-PUBLISHED-TTL:PT1H
BEGIN:VTIMEZONE
TZID:America/Los_Angeles
BEGIN:DAYLIGHT
TZOFFSETFROM:-0800
TZOFFSETTO:-0700
TZNAME:PDT
DTSTART:20240310T100000
END:DAYLIGHT
BEGIN:STANDARD
TZOFFSETFROM:-0700
TZOFFSETTO:-0800
TZNAME:PST
DTSTART:20241103T090000
END:STANDARD
BEGIN:DAYLIGHT
TZOFFSETFROM:-0800
TZOFFSETTO:-0700
TZNAME:PDT
DTSTART:20250309T100000
END:DAYLIGHT
BEGIN:STANDARD
TZOFFSETFROM:-0700
TZOFFSETTO:-0800
TZNAME:PST
DTSTART:20251102T090000
END:STANDARD
BEGIN:DAYLIGHT
TZOFFSETFROM:-0800
TZOFFSETTO:-0700
TZNAME:PDT
DTSTART:20260308T100000
END:DAYLIGHT
BEGIN:STANDARD
TZOFFSETFROM:-0700
TZOFFSETTO:-0800
TZNAME:PST
DTSTART:20261101T090000
END:STANDARD
END:VTIMEZONE
BEGIN:VEVENT
DTSTART;TZID=America/Los_Angeles:20250412T090000
DTEND;TZID=America/Los_Angeles:20250412T160000
DTSTAMP:20260422T032015
CREATED:20250326T184452Z
LAST-MODIFIED:20250326T184452Z
UID:10019314-1744448400-1744473600@tillamookchamber.org
SUMMARY:Tillamook Artisan Market
DESCRIPTION:Come check out the local artist and crafters! Many different items from lots of different artists! Hope to see you there
URL:https://tillamookchamber.org/event/tillamook-artisan-market-3/
LOCATION:Tillamook First Christian Church\, 2203 4th Street\, OR\, United States
CATEGORIES:Community,Shopping and Sales
END:VEVENT
BEGIN:VEVENT
DTSTART;TZID=America/Los_Angeles:20250426T090000
DTEND;TZID=America/Los_Angeles:20250426T160000
DTSTAMP:20260422T032015
CREATED:20250301T002235Z
LAST-MODIFIED:20250301T002235Z
UID:10018301-1745658000-1745683200@tillamookchamber.org
SUMMARY:Tillamook Headlight Herald Home & Garden Show
DESCRIPTION:https://www.tillamookheadlightherald.com/2025_tillamook_county_oregon_home_and_garden_show/
URL:https://tillamookchamber.org/event/tillamook-headlight-herald-home-garden-show/2025-04-26/
LOCATION:Tillamook County Fairgrounds\, 4603 3rd St\, Tillamook\, OR\, 97141\, United States
CATEGORIES:Community,Shopping and Sales
END:VEVENT
BEGIN:VEVENT
DTSTART;TZID=America/Los_Angeles:20250427T110000
DTEND;TZID=America/Los_Angeles:20250427T160000
DTSTAMP:20260422T032015
CREATED:20250301T002235Z
LAST-MODIFIED:20250301T002235Z
UID:10018302-1745751600-1745769600@tillamookchamber.org
SUMMARY:Tillamook Headlight Herald Home & Garden Show
DESCRIPTION:https://www.tillamookheadlightherald.com/2025_tillamook_county_oregon_home_and_garden_show/
URL:https://tillamookchamber.org/event/tillamook-headlight-herald-home-garden-show/2025-04-27/
LOCATION:Tillamook County Fairgrounds\, 4603 3rd St\, Tillamook\, OR\, 97141\, United States
CATEGORIES:Community,Shopping and Sales
END:VEVENT
END:VCALENDAR