BEGIN:VCALENDAR
VERSION:2.0
PRODID:-//Tillamook Area Chamber of Commerce - ECPv6.15.20//NONSGML v1.0//EN
CALSCALE:GREGORIAN
METHOD:PUBLISH
X-WR-CALNAME:Tillamook Area Chamber of Commerce
X-ORIGINAL-URL:https://tillamookchamber.org
X-WR-CALDESC:Events for Tillamook Area Chamber of Commerce
REFRESH-INTERVAL;VALUE=DURATION:PT1H
X-Robots-Tag:noindex
X-PUBLISHED-TTL:PT1H
BEGIN:VTIMEZONE
TZID:America/Los_Angeles
BEGIN:DAYLIGHT
TZOFFSETFROM:-0800
TZOFFSETTO:-0700
TZNAME:PDT
DTSTART:20250309T100000
END:DAYLIGHT
BEGIN:STANDARD
TZOFFSETFROM:-0700
TZOFFSETTO:-0800
TZNAME:PST
DTSTART:20251102T090000
END:STANDARD
BEGIN:DAYLIGHT
TZOFFSETFROM:-0800
TZOFFSETTO:-0700
TZNAME:PDT
DTSTART:20260308T100000
END:DAYLIGHT
BEGIN:STANDARD
TZOFFSETFROM:-0700
TZOFFSETTO:-0800
TZNAME:PST
DTSTART:20261101T090000
END:STANDARD
BEGIN:DAYLIGHT
TZOFFSETFROM:-0800
TZOFFSETTO:-0700
TZNAME:PDT
DTSTART:20270314T100000
END:DAYLIGHT
BEGIN:STANDARD
TZOFFSETFROM:-0700
TZOFFSETTO:-0800
TZNAME:PST
DTSTART:20271107T090000
END:STANDARD
END:VTIMEZONE
BEGIN:VEVENT
DTSTART;TZID=America/Los_Angeles:20260306T100000
DTEND;TZID=America/Los_Angeles:20260306T120000
DTSTAMP:20260420T225218
CREATED:20250916T194350Z
LAST-MODIFIED:20251207T144053Z
UID:10025551-1772791200-1772798400@tillamookchamber.org
SUMMARY:Trail Building in Nehalem Bay With LNCT!
DESCRIPTION:Every Friday\, volunteers gather on LNCT lands near Manzanita\, Nehalem and Wheeler to protect and restore habitat in the lower Nehalem watershed. We would love to see new faces out on the land!\n\n\n\nThese work parties are beginner friendly and an opportunity to learn about the engineering of hiking trails. We will be working on uneven ground\, bending\, and moving small rocks and brush during this process. Tools and gloves are provided\, new volunteers welcome and no prior experience needed. Join as frequently as you please.  Email shane@nehalemtrust.org for weekly updates on where to meet.\n\nAlder Creek Farm and Natural Area’s Nehalem Teaching Trail already supports an impressive variety of native plants and simulated ecosystems for community learning—but we’re looking to grow. This short trail will extend educational access into a different ecosystem and connect to the Natural Area’s pollinator meadow. We hope it will also add some variety to habitat access for bird watchers who visit the farm as a part of the Oregon Coast Birding Trail.
URL:https://tillamookchamber.org/event/trail-building-in-nehalem-bay-with-lnct/2026-03-06/
LOCATION:Lower Nehalem Community Trust
CATEGORIES:Community,Education,Outdoor
ATTACH;FMTTYPE=image/jpeg:https://tillamookchamber.org/wp-content/uploads/2025/09/LNCT-Stewardship-Poster-4.jpg
END:VEVENT
BEGIN:VEVENT
DTSTART;TZID=America/Los_Angeles:20260308T090000
DTEND;TZID=America/Los_Angeles:20260308T150000
DTSTAMP:20260420T225218
CREATED:20260220T191858Z
LAST-MODIFIED:20260220T191858Z
UID:10029546-1772960400-1772982000@tillamookchamber.org
SUMMARY:Nehalem Estuary Cleanup - 14th Biennial
DESCRIPTION:‘Tis the season of waterproof pants! Grab your family\, your friends\, and prepare to get muddy at the 14th Biennial Nehalem Estuary Cleanup! Register to join one of ten Zone teams in a community-wide effort to collect marine debris from Nehalem Bay. \nWhether you’re a regular rugged explorer or will have kids in tow\, there is a Zone with terrain for most! Zone Leaders will meet you out in the estuary at 9AM on Sunday\, March 8th\, to guide you through a section of the Bay’s edge before returning to Wheeler for a volunteer celebration you won’t want to miss. \nLearn more & register here: https://www.nehalemtrust.org/cleanup/
URL:https://tillamookchamber.org/event/nehalem-estuary-cleanup-14th-biennial/
LOCATION:OR
CATEGORIES:Community,Family Fun,Outdoor
ATTACH;FMTTYPE=image/jpeg:https://tillamookchamber.org/wp-content/uploads/2026/02/Official-14-TH-Estuary-Cleanup-Poster.jpg
END:VEVENT
BEGIN:VEVENT
DTSTART;TZID=America/Los_Angeles:20260313T100000
DTEND;TZID=America/Los_Angeles:20260313T120000
DTSTAMP:20260420T225218
CREATED:20250916T194350Z
LAST-MODIFIED:20251207T144053Z
UID:10025552-1773396000-1773403200@tillamookchamber.org
SUMMARY:Trail Building in Nehalem Bay With LNCT!
DESCRIPTION:Every Friday\, volunteers gather on LNCT lands near Manzanita\, Nehalem and Wheeler to protect and restore habitat in the lower Nehalem watershed. We would love to see new faces out on the land!\n\n\n\nThese work parties are beginner friendly and an opportunity to learn about the engineering of hiking trails. We will be working on uneven ground\, bending\, and moving small rocks and brush during this process. Tools and gloves are provided\, new volunteers welcome and no prior experience needed. Join as frequently as you please.  Email shane@nehalemtrust.org for weekly updates on where to meet.\n\nAlder Creek Farm and Natural Area’s Nehalem Teaching Trail already supports an impressive variety of native plants and simulated ecosystems for community learning—but we’re looking to grow. This short trail will extend educational access into a different ecosystem and connect to the Natural Area’s pollinator meadow. We hope it will also add some variety to habitat access for bird watchers who visit the farm as a part of the Oregon Coast Birding Trail.
URL:https://tillamookchamber.org/event/trail-building-in-nehalem-bay-with-lnct/2026-03-13/
LOCATION:Lower Nehalem Community Trust
CATEGORIES:Community,Education,Outdoor
ATTACH;FMTTYPE=image/jpeg:https://tillamookchamber.org/wp-content/uploads/2025/09/LNCT-Stewardship-Poster-4.jpg
END:VEVENT
BEGIN:VEVENT
DTSTART;TZID=America/Los_Angeles:20260314T093000
DTEND;TZID=America/Los_Angeles:20260314T120000
DTSTAMP:20260420T225218
CREATED:20260219T192655Z
LAST-MODIFIED:20260219T192655Z
UID:10029544-1773480600-1773489600@tillamookchamber.org
SUMMARY:Tillamook High Campus Out of the Darkness Walk
DESCRIPTION:Tillamook Family Counseling Center and Tillamook County Suicide Prevention Coalition have partnered with a THS Senior to bring a Campus Out of the Darkness Walk to Tillamook High and the wider community as their senior project.\n\nThis is a wonderful event that supports the American Foundation for Suicide Prevention and their efforts to #stopsuicide. The best part\, 50% of the proceeds will help fund future suicide prevention programming in our area. Yet there is no pressure to fundraise. You can register and choose to participate in the walk without having to raise any money. Yet we highly encourage you to try and raise at least $100 because that earns you a walk t-shirt that you can pick up at the walk!\n\nWant to fundraise? Great! You can do so individually or you can also form a team and fundraise with others from your work\, organization\, family\, club\, etc. You just need someone to register as your team captain then the rest of your team registers under them.\n\nAll ages are welcome to register\, we just ask that everyone register so we have an accurate count for our walk with AFSP. No pets allowed at the walk as it is on school grounds.\n\nYou can register here: https://afspwalks.donordrive.com/tillamookhigh\n\nWe will kick off our event at 9:30am with registration/t-shirt pick up\, a resource fair\, and other programming. The opening ceremonies will be at 10am and the event should be done by 12pm. This event will happen rain or shine. The resource fair and other events will be inside the Auxiliary Gym and the walk will take place on the track. Please dress for the weather. You can walk as long or as far as you like in the time frame of the walk. There is no minimum distance required as we want the walk to be accessible.\n\nIf you have any questions\, please email Walk Chair Amanda Ferrat at tcscpinfo@gmail.com or call/text her at (503) 812-7444.
URL:https://tillamookchamber.org/event/tillamook-high-campus-out-of-the-darkness-walk/
LOCATION:Tillamook High School
CATEGORIES:Community,Education,Outdoor
ATTACH;FMTTYPE=image/jpeg:https://tillamookchamber.org/wp-content/uploads/2026/02/OoDW-flyer.jpg
END:VEVENT
BEGIN:VEVENT
DTSTART;TZID=America/Los_Angeles:20260320T100000
DTEND;TZID=America/Los_Angeles:20260320T120000
DTSTAMP:20260420T225218
CREATED:20250916T194350Z
LAST-MODIFIED:20251207T144053Z
UID:10025553-1774000800-1774008000@tillamookchamber.org
SUMMARY:Trail Building in Nehalem Bay With LNCT!
DESCRIPTION:Every Friday\, volunteers gather on LNCT lands near Manzanita\, Nehalem and Wheeler to protect and restore habitat in the lower Nehalem watershed. We would love to see new faces out on the land!\n\n\n\nThese work parties are beginner friendly and an opportunity to learn about the engineering of hiking trails. We will be working on uneven ground\, bending\, and moving small rocks and brush during this process. Tools and gloves are provided\, new volunteers welcome and no prior experience needed. Join as frequently as you please.  Email shane@nehalemtrust.org for weekly updates on where to meet.\n\nAlder Creek Farm and Natural Area’s Nehalem Teaching Trail already supports an impressive variety of native plants and simulated ecosystems for community learning—but we’re looking to grow. This short trail will extend educational access into a different ecosystem and connect to the Natural Area’s pollinator meadow. We hope it will also add some variety to habitat access for bird watchers who visit the farm as a part of the Oregon Coast Birding Trail.
URL:https://tillamookchamber.org/event/trail-building-in-nehalem-bay-with-lnct/2026-03-20/
LOCATION:Lower Nehalem Community Trust
CATEGORIES:Community,Education,Outdoor
ATTACH;FMTTYPE=image/jpeg:https://tillamookchamber.org/wp-content/uploads/2025/09/LNCT-Stewardship-Poster-4.jpg
END:VEVENT
BEGIN:VEVENT
DTSTART;TZID=America/Los_Angeles:20260327T100000
DTEND;TZID=America/Los_Angeles:20260327T120000
DTSTAMP:20260420T225218
CREATED:20250916T194350Z
LAST-MODIFIED:20251207T144053Z
UID:10025554-1774605600-1774612800@tillamookchamber.org
SUMMARY:Trail Building in Nehalem Bay With LNCT!
DESCRIPTION:Every Friday\, volunteers gather on LNCT lands near Manzanita\, Nehalem and Wheeler to protect and restore habitat in the lower Nehalem watershed. We would love to see new faces out on the land!\n\n\n\nThese work parties are beginner friendly and an opportunity to learn about the engineering of hiking trails. We will be working on uneven ground\, bending\, and moving small rocks and brush during this process. Tools and gloves are provided\, new volunteers welcome and no prior experience needed. Join as frequently as you please.  Email shane@nehalemtrust.org for weekly updates on where to meet.\n\nAlder Creek Farm and Natural Area’s Nehalem Teaching Trail already supports an impressive variety of native plants and simulated ecosystems for community learning—but we’re looking to grow. This short trail will extend educational access into a different ecosystem and connect to the Natural Area’s pollinator meadow. We hope it will also add some variety to habitat access for bird watchers who visit the farm as a part of the Oregon Coast Birding Trail.
URL:https://tillamookchamber.org/event/trail-building-in-nehalem-bay-with-lnct/2026-03-27/
LOCATION:Lower Nehalem Community Trust
CATEGORIES:Community,Education,Outdoor
ATTACH;FMTTYPE=image/jpeg:https://tillamookchamber.org/wp-content/uploads/2025/09/LNCT-Stewardship-Poster-4.jpg
END:VEVENT
END:VCALENDAR