BEGIN:VCALENDAR
VERSION:2.0
PRODID:-//Tillamook Area Chamber of Commerce - ECPv6.15.20//NONSGML v1.0//EN
CALSCALE:GREGORIAN
METHOD:PUBLISH
X-ORIGINAL-URL:https://tillamookchamber.org
X-WR-CALDESC:Events for Tillamook Area Chamber of Commerce
REFRESH-INTERVAL;VALUE=DURATION:PT1H
X-Robots-Tag:noindex
X-PUBLISHED-TTL:PT1H
BEGIN:VTIMEZONE
TZID:America/Los_Angeles
BEGIN:DAYLIGHT
TZOFFSETFROM:-0800
TZOFFSETTO:-0700
TZNAME:PDT
DTSTART:20250309T100000
END:DAYLIGHT
BEGIN:STANDARD
TZOFFSETFROM:-0700
TZOFFSETTO:-0800
TZNAME:PST
DTSTART:20251102T090000
END:STANDARD
BEGIN:DAYLIGHT
TZOFFSETFROM:-0800
TZOFFSETTO:-0700
TZNAME:PDT
DTSTART:20260308T100000
END:DAYLIGHT
BEGIN:STANDARD
TZOFFSETFROM:-0700
TZOFFSETTO:-0800
TZNAME:PST
DTSTART:20261101T090000
END:STANDARD
BEGIN:DAYLIGHT
TZOFFSETFROM:-0800
TZOFFSETTO:-0700
TZNAME:PDT
DTSTART:20270314T100000
END:DAYLIGHT
BEGIN:STANDARD
TZOFFSETFROM:-0700
TZOFFSETTO:-0800
TZNAME:PST
DTSTART:20271107T090000
END:STANDARD
END:VTIMEZONE
BEGIN:VEVENT
DTSTART;TZID=America/Los_Angeles:20260206T100000
DTEND;TZID=America/Los_Angeles:20260206T120000
DTSTAMP:20260421T070955
CREATED:20250916T194350Z
LAST-MODIFIED:20251207T144053Z
UID:10025547-1770372000-1770379200@tillamookchamber.org
SUMMARY:Trail Building in Nehalem Bay With LNCT!
DESCRIPTION:Every Friday\, volunteers gather on LNCT lands near Manzanita\, Nehalem and Wheeler to protect and restore habitat in the lower Nehalem watershed. We would love to see new faces out on the land!\n\n\n\nThese work parties are beginner friendly and an opportunity to learn about the engineering of hiking trails. We will be working on uneven ground\, bending\, and moving small rocks and brush during this process. Tools and gloves are provided\, new volunteers welcome and no prior experience needed. Join as frequently as you please.  Email shane@nehalemtrust.org for weekly updates on where to meet.\n\nAlder Creek Farm and Natural Area’s Nehalem Teaching Trail already supports an impressive variety of native plants and simulated ecosystems for community learning—but we’re looking to grow. This short trail will extend educational access into a different ecosystem and connect to the Natural Area’s pollinator meadow. We hope it will also add some variety to habitat access for bird watchers who visit the farm as a part of the Oregon Coast Birding Trail.
URL:https://tillamookchamber.org/event/trail-building-in-nehalem-bay-with-lnct/2026-02-06/
LOCATION:Lower Nehalem Community Trust
CATEGORIES:Community,Education,Outdoor
ATTACH;FMTTYPE=image/jpeg:https://tillamookchamber.org/wp-content/uploads/2025/09/LNCT-Stewardship-Poster-4.jpg
END:VEVENT
BEGIN:VEVENT
DTSTART;TZID=America/Los_Angeles:20260213T100000
DTEND;TZID=America/Los_Angeles:20260213T120000
DTSTAMP:20260421T070955
CREATED:20250916T194350Z
LAST-MODIFIED:20251207T144053Z
UID:10025548-1770976800-1770984000@tillamookchamber.org
SUMMARY:Trail Building in Nehalem Bay With LNCT!
DESCRIPTION:Every Friday\, volunteers gather on LNCT lands near Manzanita\, Nehalem and Wheeler to protect and restore habitat in the lower Nehalem watershed. We would love to see new faces out on the land!\n\n\n\nThese work parties are beginner friendly and an opportunity to learn about the engineering of hiking trails. We will be working on uneven ground\, bending\, and moving small rocks and brush during this process. Tools and gloves are provided\, new volunteers welcome and no prior experience needed. Join as frequently as you please.  Email shane@nehalemtrust.org for weekly updates on where to meet.\n\nAlder Creek Farm and Natural Area’s Nehalem Teaching Trail already supports an impressive variety of native plants and simulated ecosystems for community learning—but we’re looking to grow. This short trail will extend educational access into a different ecosystem and connect to the Natural Area’s pollinator meadow. We hope it will also add some variety to habitat access for bird watchers who visit the farm as a part of the Oregon Coast Birding Trail.
URL:https://tillamookchamber.org/event/trail-building-in-nehalem-bay-with-lnct/2026-02-13/
LOCATION:Lower Nehalem Community Trust
CATEGORIES:Community,Education,Outdoor
ATTACH;FMTTYPE=image/jpeg:https://tillamookchamber.org/wp-content/uploads/2025/09/LNCT-Stewardship-Poster-4.jpg
END:VEVENT
BEGIN:VEVENT
DTSTART;TZID=America/Los_Angeles:20260220T100000
DTEND;TZID=America/Los_Angeles:20260220T120000
DTSTAMP:20260421T070955
CREATED:20250916T194350Z
LAST-MODIFIED:20251207T144053Z
UID:10025549-1771581600-1771588800@tillamookchamber.org
SUMMARY:Trail Building in Nehalem Bay With LNCT!
DESCRIPTION:Every Friday\, volunteers gather on LNCT lands near Manzanita\, Nehalem and Wheeler to protect and restore habitat in the lower Nehalem watershed. We would love to see new faces out on the land!\n\n\n\nThese work parties are beginner friendly and an opportunity to learn about the engineering of hiking trails. We will be working on uneven ground\, bending\, and moving small rocks and brush during this process. Tools and gloves are provided\, new volunteers welcome and no prior experience needed. Join as frequently as you please.  Email shane@nehalemtrust.org for weekly updates on where to meet.\n\nAlder Creek Farm and Natural Area’s Nehalem Teaching Trail already supports an impressive variety of native plants and simulated ecosystems for community learning—but we’re looking to grow. This short trail will extend educational access into a different ecosystem and connect to the Natural Area’s pollinator meadow. We hope it will also add some variety to habitat access for bird watchers who visit the farm as a part of the Oregon Coast Birding Trail.
URL:https://tillamookchamber.org/event/trail-building-in-nehalem-bay-with-lnct/2026-02-20/
LOCATION:Lower Nehalem Community Trust
CATEGORIES:Community,Education,Outdoor
ATTACH;FMTTYPE=image/jpeg:https://tillamookchamber.org/wp-content/uploads/2025/09/LNCT-Stewardship-Poster-4.jpg
END:VEVENT
BEGIN:VEVENT
DTSTART;TZID=America/Los_Angeles:20260227T100000
DTEND;TZID=America/Los_Angeles:20260227T120000
DTSTAMP:20260421T070955
CREATED:20250916T194350Z
LAST-MODIFIED:20251207T144053Z
UID:10025550-1772186400-1772193600@tillamookchamber.org
SUMMARY:Trail Building in Nehalem Bay With LNCT!
DESCRIPTION:Every Friday\, volunteers gather on LNCT lands near Manzanita\, Nehalem and Wheeler to protect and restore habitat in the lower Nehalem watershed. We would love to see new faces out on the land!\n\n\n\nThese work parties are beginner friendly and an opportunity to learn about the engineering of hiking trails. We will be working on uneven ground\, bending\, and moving small rocks and brush during this process. Tools and gloves are provided\, new volunteers welcome and no prior experience needed. Join as frequently as you please.  Email shane@nehalemtrust.org for weekly updates on where to meet.\n\nAlder Creek Farm and Natural Area’s Nehalem Teaching Trail already supports an impressive variety of native plants and simulated ecosystems for community learning—but we’re looking to grow. This short trail will extend educational access into a different ecosystem and connect to the Natural Area’s pollinator meadow. We hope it will also add some variety to habitat access for bird watchers who visit the farm as a part of the Oregon Coast Birding Trail.
URL:https://tillamookchamber.org/event/trail-building-in-nehalem-bay-with-lnct/2026-02-27/
LOCATION:Lower Nehalem Community Trust
CATEGORIES:Community,Education,Outdoor
ATTACH;FMTTYPE=image/jpeg:https://tillamookchamber.org/wp-content/uploads/2025/09/LNCT-Stewardship-Poster-4.jpg
END:VEVENT
BEGIN:VEVENT
DTSTART;TZID=America/Los_Angeles:20260228T073000
DTEND;TZID=America/Los_Angeles:20260228T170000
DTSTAMP:20260421T070955
CREATED:20260203T192023Z
LAST-MODIFIED:20260203T192023Z
UID:10029397-1772263800-1772298000@tillamookchamber.org
SUMMARY:Three Capes Marathon Relay
DESCRIPTION:The Three Capes Marathon Relay is a 26.2 mile course traveling the Three Capes Scenic Loop\, starting at Cape Meares Lake\, passing Cape Lookout\, and ending at Web County Park in Pacific City. \nThe rugged course\, with plenty of hills\, passes through or runs adjacent to six state parks\, two National Wildlife Refuges\, multiple Tillamook County Parks\, and boasts stunning vantage points of the Tillamook Bay\, Netarts Bay\, and the Pacific Ocean. Local spectators are encouraged to come out and cheer participants along\, but: “Caution: runners on the road!” \nThe course is separated into five legs which vary in distances from 4.37 miles to just under seven miles. Team categories include: family\, business\, school\, or Clydesdale. Starting and ending at sea level\, there is a significant elevation climb within the course\, offering a challenging racing venue. \nCost for registration is $339 for a five-person team\, $165 for a two-person team\, and the solo marathoner is $95. Every participant will receive a custom Three Capes Relay Medal when crossing the finish line. Register online at threecapesrelay.com or register at packet pick-up the night before the event.
URL:https://tillamookchamber.org/event/three-capes-marathon-relay/
LOCATION:OR
CATEGORIES:Community,Fitness and Athletics,Outdoor
ATTACH;FMTTYPE=image/jpeg:https://tillamookchamber.org/wp-content/uploads/2026/02/Three-Capes-1.jpg
END:VEVENT
END:VCALENDAR