BEGIN:VCALENDAR
VERSION:2.0
PRODID:-//Tillamook Area Chamber of Commerce - ECPv6.15.20//NONSGML v1.0//EN
CALSCALE:GREGORIAN
METHOD:PUBLISH
X-WR-CALNAME:Tillamook Area Chamber of Commerce
X-ORIGINAL-URL:https://tillamookchamber.org
X-WR-CALDESC:Events for Tillamook Area Chamber of Commerce
REFRESH-INTERVAL;VALUE=DURATION:PT1H
X-Robots-Tag:noindex
X-PUBLISHED-TTL:PT1H
BEGIN:VTIMEZONE
TZID:America/Los_Angeles
BEGIN:DAYLIGHT
TZOFFSETFROM:-0800
TZOFFSETTO:-0700
TZNAME:PDT
DTSTART:20240310T100000
END:DAYLIGHT
BEGIN:STANDARD
TZOFFSETFROM:-0700
TZOFFSETTO:-0800
TZNAME:PST
DTSTART:20241103T090000
END:STANDARD
BEGIN:DAYLIGHT
TZOFFSETFROM:-0800
TZOFFSETTO:-0700
TZNAME:PDT
DTSTART:20250309T100000
END:DAYLIGHT
BEGIN:STANDARD
TZOFFSETFROM:-0700
TZOFFSETTO:-0800
TZNAME:PST
DTSTART:20251102T090000
END:STANDARD
BEGIN:DAYLIGHT
TZOFFSETFROM:-0800
TZOFFSETTO:-0700
TZNAME:PDT
DTSTART:20260308T100000
END:DAYLIGHT
BEGIN:STANDARD
TZOFFSETFROM:-0700
TZOFFSETTO:-0800
TZNAME:PST
DTSTART:20261101T090000
END:STANDARD
END:VTIMEZONE
BEGIN:VEVENT
DTSTART;TZID=America/Los_Angeles:20250705T090000
DTEND;TZID=America/Los_Angeles:20250705T120000
DTSTAMP:20260423T015144
CREATED:20250702T172223Z
LAST-MODIFIED:20250702T172223Z
UID:10022692-1751706000-1751716800@tillamookchamber.org
SUMMARY:Netarts/Oceanside Beach Cleanup
DESCRIPTION:Join the Friends of Netarts Bay WEBS and Oceanside Action Partnership on Saturday\, July 5th to keep our coastal ecosystems clean and healthy. Our goal is to remove debris left by July 4th festivities on the coast before it has a chance to wash into the ocean\, and we need your help! We will meet at The Schooner Restuarant and then split into groups to cover as much area as possible. \nAs a special thank you\, volunteers will get 10% off their meal at The Schooner on the day of the event!
URL:https://tillamookchamber.org/event/netarts-oceanside-beach-cleanup/
LOCATION:The Schooner Restaurant\, 2065 NW Boat Basin Rd\, Netarts\, OR 97143
CATEGORIES:Community,Outdoor
ATTACH;FMTTYPE=image/jpeg:https://tillamookchamber.org/wp-content/uploads/2025/07/July-5th-Virtual-Flyer.jpg
END:VEVENT
BEGIN:VEVENT
DTSTART;TZID=America/Los_Angeles:20250712T110000
DTEND;TZID=America/Los_Angeles:20250712T150000
DTSTAMP:20260423T015144
CREATED:20250623T232609Z
LAST-MODIFIED:20250623T232609Z
UID:10022663-1752318000-1752332400@tillamookchamber.org
SUMMARY:Diving into Water Fun and Safety
DESCRIPTION:Dive Into Water Fun & Safety is a free\, family-friendly community event hosted by Tillamook Early Learning Center focused on promoting water and beach safety education. Now in its second year\, this event brings together local agencies\, nonprofits\, and emergency services to provide hands-on learning\, live demonstrations\, and safety resources—especially for families with young children. \nHighlights include: \n\n\nFree life jackets for the first 200 children (thanks to Greg’s Marine Service and Englund Marine & Industrial Supply/Honda Marine) \n\n\nLive music from beloved children’s performer Mo Phillips \n\n\nInteractive exhibits by partners like OMSI\, Oregon Coast Aquarium\, ODFW\, US Coast Guard\, and more \n\n\nCrafts\, snacks\, and giveaways hosted by TELC \n\n\nSafety education from marine patrol\, fire departments\, and first responders \n\n\nDate: Saturday\, July 12\, 2025Time: 11:00 AM – 3:00 PMLocation: Port of Garibaldi Event Tent \nThis fun summer kickoff is designed to raise awareness about the importance of life jackets and staying safe around cold water while strengthening connections between families and local community resources.
URL:https://tillamookchamber.org/event/diving-into-water-fun-and-safety/
LOCATION:Event Tent\, 107 Jerry Creasy Way\, Garibaldi\, OR 97118\, OR\, United States
CATEGORIES:Education,Family Fun,Outdoor
ATTACH;FMTTYPE=image/png:https://tillamookchamber.org/wp-content/uploads/2025/06/Dive-into-3-1.png
END:VEVENT
BEGIN:VEVENT
DTSTART;TZID=America/Los_Angeles:20250725T210000
DTEND;TZID=America/Los_Angeles:20250725T230000
DTSTAMP:20260423T015144
CREATED:20250630T235311Z
LAST-MODIFIED:20250630T235311Z
UID:10022687-1753477200-1753484400@tillamookchamber.org
SUMMARY:Movie Night in the Park
DESCRIPTION:🌺 Movie Night in the Park – Featuring Moana 2! 🌊Join the City of Tillamook for a magical evening under the stars! We’re hosting a free Movie Night in the Park on Friday\, July 25th\, 2025 at Goodspeed Park (3rd Street & Del Monte Ave). \nBring your blankets\, lawn chairs\, and your whole crew for a family-friendly showing of Moana 2. The movie will begin at sunset (approximately 9:15pm). \n🎬 Admission is FREE\, and we’ll be serving up FREE popcorn to enjoy during the show! \nDon’t miss this fun summer night with community\, adventure\, and a little ocean magic. See you there! \nCity of Tillamook website link: Movie Night in the Park | Tillamook\, Oregon
URL:https://tillamookchamber.org/event/movie-night-in-the-park/
LOCATION:Goodspeed Park\, Corner of 3rd Street & Delmonte Avenue
CATEGORIES:Community,Family Fun,Outdoor
ATTACH;FMTTYPE=image/jpeg:https://tillamookchamber.org/wp-content/uploads/2025/06/July-Movie-Night-in-Park-7.25.2025.jpg
END:VEVENT
BEGIN:VEVENT
DTSTART;TZID=America/Los_Angeles:20250727T140000
DTEND;TZID=America/Los_Angeles:20250727T160000
DTSTAMP:20260423T015144
CREATED:20250715T175103Z
LAST-MODIFIED:20250715T175103Z
UID:10023244-1753624800-1753632000@tillamookchamber.org
SUMMARY:Tide Pool Discovery Days With Friends of Netarts Bay\, Watershed\, Estuaries\, Beach and Sea\, (WEBS)
DESCRIPTION:CAPE LOOKOUT STEWARDSHIP DAYS  \nWITH FRIENDS OF NETARTS BAY – WATERSHED\, ESTUARIES\, BEACH AND SEA\, (WEBS)  \nCape Lookout Stewardship Days offers opportunities to volunteer\, give back and work to maintain our natural areas and restore healthy coastal landscapes. \nEvery year\, WEBS partners with Cape Lookout State Park to offer opportunities to give back\, maintain our natural areas\, and restore healthy coastal landscapes. Our efforts to remove ivy and establish new native plants have made a huge impact in the park over the last few years. \nThis year\, with the help of volunteers\, WEBS will continue our efforts with ivy removal and native plant maintenance. “Events like this not only offer an opportunity to give back\, participants can connect with others in the community\, enjoy a day outdoors and hear about the successes and challenges for maintaining the health of Cape Lookout State Park” shares Marina Dreeben\, WEBS Stewardship Coordinator.  Volunteer and join the fun on any or all of these dates: July 27th\, August 13th and August 24th! \nActivities are designed to accommodate a variety of skill levels. Families are welcome. \nWhat to Bring: \n\nWater bottle and snacks\nLong pants and sturdy boots\nRain gear and layers to stay warm and comfortable working on the Oregon Coast\n\n\nWork gloves\, hand pruners\, shovels\, and trowels if you have them! (WEBS will also provide tools)\n\nGet more information and find a link to register on our website at: \nhttps://www.netartsbaywebs.org/events \nConsider donating:   \nFriends of Netarts Bay WEBS is committed to offering high-quality\, nature-based events led by experts\, while also reducing the financial barrier of outdoor recreation. We do this by offering our events and programs at no cost to participants.  \nYour donation helps in supporting the work of our organization. Every little bit helps!  As a non-profit organization\, we rely on donations and grants to keep us going\, and growing.   \nIf you would like to donate\, please visit our website. \nWEBS and partners are hosting this event as part of the Explore Nature series of hikes\, walks\, paddles\, and outdoor adventures. Led by a consortium of volunteer community and non-profit organizations\, these meaningful nature-based experiences highlight the unique beauty of Tillamook County and the work being done to preserve and conserve the area’s natural resources and natural resource-based economy. Learn more about Explore Nature at www.explorenaturetillamookcoast.com. \nStay social with Friends of Netarts Bay WEBS online @netartsbaywebs
URL:https://tillamookchamber.org/event/tide-pool-discovery-days-with-friends-of-netarts-bay-watershed-estuaries-beach-and-sea-webs/
LOCATION:Cape Lookout State Park\, 13000 Whiskey Creek Road Tillamook\, 97141
CATEGORIES:Community,Outdoor
ATTACH;FMTTYPE=image/png:https://tillamookchamber.org/wp-content/uploads/2025/07/Stewardship-Day-image-summer-of-2025.png
END:VEVENT
END:VCALENDAR