BEGIN:VCALENDAR
VERSION:2.0
PRODID:-//Tillamook Area Chamber of Commerce - ECPv6.15.20//NONSGML v1.0//EN
CALSCALE:GREGORIAN
METHOD:PUBLISH
X-ORIGINAL-URL:https://tillamookchamber.org
X-WR-CALDESC:Events for Tillamook Area Chamber of Commerce
REFRESH-INTERVAL;VALUE=DURATION:PT1H
X-Robots-Tag:noindex
X-PUBLISHED-TTL:PT1H
BEGIN:VTIMEZONE
TZID:America/Los_Angeles
BEGIN:DAYLIGHT
TZOFFSETFROM:-0800
TZOFFSETTO:-0700
TZNAME:PDT
DTSTART:20240310T100000
END:DAYLIGHT
BEGIN:STANDARD
TZOFFSETFROM:-0700
TZOFFSETTO:-0800
TZNAME:PST
DTSTART:20241103T090000
END:STANDARD
BEGIN:DAYLIGHT
TZOFFSETFROM:-0800
TZOFFSETTO:-0700
TZNAME:PDT
DTSTART:20250309T100000
END:DAYLIGHT
BEGIN:STANDARD
TZOFFSETFROM:-0700
TZOFFSETTO:-0800
TZNAME:PST
DTSTART:20251102T090000
END:STANDARD
BEGIN:DAYLIGHT
TZOFFSETFROM:-0800
TZOFFSETTO:-0700
TZNAME:PDT
DTSTART:20260308T100000
END:DAYLIGHT
BEGIN:STANDARD
TZOFFSETFROM:-0700
TZOFFSETTO:-0800
TZNAME:PST
DTSTART:20261101T090000
END:STANDARD
END:VTIMEZONE
BEGIN:VEVENT
DTSTART;TZID=America/Los_Angeles:20250607T090000
DTEND;TZID=America/Los_Angeles:20250607T170000
DTSTAMP:20260423T072613
CREATED:20250514T223650Z
LAST-MODIFIED:20250514T223650Z
UID:10021397-1749286800-1749315600@tillamookchamber.org
SUMMARY:The Nehalem Bay Crab Derby 2025
DESCRIPTION:Mark your calendars for Saturday\, June 7th for a chance to win $1\,000! \nScheduled to coincide with Free Fishing Weekend\, the Crab Derby is a fundraising event for two local charities – the MuddNick Foundation of Manzanita\, OR –  and North Tillamook County and Animal Haven By The Sea Rescue in Nehalem\, OR. Hosted by Kelly’s Brighton Marina\, this unique event is one of the favorite summer activites for outdoor enthusiasts and families alike! \nKelly’s Brighton Marina will release 26 tagged crabs on Saturday at 9am and a $10 per ticket entry fee is required to participate in the Crab Derby\, with proceeds from ticket sales going to the sponsored charities. All captured tagged crabs must be returned to the marina by 5:00pm and a drawing will be held to determine the top prize of $1\,000 cash. Games\, crafts\, many great vendors\, raffles\, and a wide array of prizes round out an exciting event. \nThe Band “Uncle Jerry” will perform live that evening at 6:00pm to end our amazing day! \nA huge shout out to the many Oregon businesses who have donated for our raffles (all proceeds will go to the above charities): \nBeach Crafters \nCaptain Kid Amusement Park \nColumbia Distributing \nFort George Brewery \nGrumpy’s Cafe \nMo’s Restaurant\, Cannon Beach \nMt Hood Meadows Ski Resort \nThe Olive Branch \nOregon Coast Surf Adventures \nReCurrent\, Tillamook \nRiverbend Players\, Nehalem \nSeaside Aquarium \nSeaside Surf Shop \nTillamook Creamery \nTillamook Ice \nWanda’s Cafe & Bakery \nWings and Waves Waterpark\, McMinnville
URL:https://tillamookchamber.org/event/the-nehalem-bay-crab-derby-2025/
LOCATION:Kelly’s Brighton Marina\, 29200 Hwy 101 N\, OR\, United States
CATEGORIES:Community,Family Fun,Outdoor
ATTACH;FMTTYPE=image/png:https://tillamookchamber.org/wp-content/uploads/2025/05/2025-Crab-Derby-Poster.png
END:VEVENT
BEGIN:VEVENT
DTSTART;TZID=America/Los_Angeles:20250613T100000
DTEND;TZID=America/Los_Angeles:20250613T113000
DTSTAMP:20260423T072613
CREATED:20250522T174550Z
LAST-MODIFIED:20250522T174550Z
UID:10021500-1749808800-1749814200@tillamookchamber.org
SUMMARY:Discover Oregon Seafood Tour - Garibaldi
DESCRIPTION:Join Oregon Sea Grant experts on a guided walk along Port of Garibaldi commercial docks. \n\nLearn about Oregon’s vibrant commercial fishing industry and the sustainable seafood they bring back to the dock.\nLearn how seafood is harvested in Garibaldi and how to distinguish the different types of fishing vessels and gear. We might even meet a fisherman or two along the way!\nReserve your spot!\nFind out more at https://seagrant.oregonstate.edu/outreach-and-engagement/shop-dock\n\nWhat to expect: \n\nEach tour will last about 90 minutes. Participants should expect to be walking or standing the entire tour. Total walking distance will be approximately 1/2 mile.\nTours will start at 10 am and 1 pm.\nEach participant will receive a complimentary gift tote bag with informational resources and local seafood products.\n\nWhat to bring: \n\nDress for the weather.\nComfortable\, closed-toes shoes recommended.\n\nParking: \n\nThe Port of Garibaldi commercial docks along Mooring Dr has plenty of parking.\n\nQuestions and Accommodations: \nIf you have any questions or need disability accommodations\, please email dock.tours@oregonstate.edu at least one week in advance of your tour. \nWalk-ins accommodated as space allows on a first-come\, first-served basis.
URL:https://tillamookchamber.org/event/discover-oregon-seafood-tour-garibaldi/2025-06-13/1/
LOCATION:The Spot Seafood Market & Port of Garibaldi\, 304 Mooring Basin Drive\, Garibaldi\, OR 97118
CATEGORIES:Community,Education,Outdoor
ATTACH;FMTTYPE=image/jpeg:https://tillamookchamber.org/wp-content/uploads/2025/05/48862109417_6fec7dbea0_k.jpg
END:VEVENT
BEGIN:VEVENT
DTSTART;TZID=America/Los_Angeles:20250613T130000
DTEND;TZID=America/Los_Angeles:20250613T143000
DTSTAMP:20260423T072613
CREATED:20250522T174550Z
LAST-MODIFIED:20250522T174550Z
UID:10021501-1749819600-1749825000@tillamookchamber.org
SUMMARY:Discover Oregon Seafood Tour - Garibaldi
DESCRIPTION:Join Oregon Sea Grant experts on a guided walk along Port of Garibaldi commercial docks. \n\nLearn about Oregon’s vibrant commercial fishing industry and the sustainable seafood they bring back to the dock.\nLearn how seafood is harvested in Garibaldi and how to distinguish the different types of fishing vessels and gear. We might even meet a fisherman or two along the way!\nReserve your spot!\nFind out more at https://seagrant.oregonstate.edu/outreach-and-engagement/shop-dock\n\nWhat to expect: \n\nEach tour will last about 90 minutes. Participants should expect to be walking or standing the entire tour. Total walking distance will be approximately 1/2 mile.\nTours will start at 10 am and 1 pm.\nEach participant will receive a complimentary gift tote bag with informational resources and local seafood products.\n\nWhat to bring: \n\nDress for the weather.\nComfortable\, closed-toes shoes recommended.\n\nParking: \n\nThe Port of Garibaldi commercial docks along Mooring Dr has plenty of parking.\n\nQuestions and Accommodations: \nIf you have any questions or need disability accommodations\, please email dock.tours@oregonstate.edu at least one week in advance of your tour. \nWalk-ins accommodated as space allows on a first-come\, first-served basis.
URL:https://tillamookchamber.org/event/discover-oregon-seafood-tour-garibaldi/2025-06-13/2/
LOCATION:The Spot Seafood Market & Port of Garibaldi\, 304 Mooring Basin Drive\, Garibaldi\, OR 97118
CATEGORIES:Community,Education,Outdoor
ATTACH;FMTTYPE=image/jpeg:https://tillamookchamber.org/wp-content/uploads/2025/05/48862109417_6fec7dbea0_k.jpg
END:VEVENT
BEGIN:VEVENT
DTSTART;TZID=America/Los_Angeles:20250626T110000
DTEND;TZID=America/Los_Angeles:20250626T150000
DTSTAMP:20260423T072613
CREATED:20250523T001309Z
LAST-MODIFIED:20250523T001309Z
UID:10021510-1750935600-1750950000@tillamookchamber.org
SUMMARY:3rd Annual Summer Picnic
DESCRIPTION:Hosted by the Community Developmental Disabilities Program’s Advisory Council and the Community Developmental Disabilities Program itself.  Our picnic is proving to be a fantastic way for the community with and without intellectual/developmental delays (ID/DD) to get to know one another and allows an experience for everyone to learn the benefits of community inclusion. \nIt will be held at Phyillis Baker City Park in Rockaway Beach on June 26th from 11:00am-3:00pm- We provide a hot dog/hamburger BBQ lunch\, karaoke\, basketball\, arts and crafts\, photo booth as well as our local 1st responders and community partners sharing information.
URL:https://tillamookchamber.org/event/3rd-annual-summer-picnic/
LOCATION:Phyllis Baker City Park\, 341 N. Falcon St.\, Rockaway Beach\, 97136
CATEGORIES:Community,Family Fun,Outdoor
ATTACH;FMTTYPE=image/jpeg:https://tillamookchamber.org/wp-content/uploads/2025/05/Picnic-2025.jpg
END:VEVENT
BEGIN:VEVENT
DTSTART;TZID=America/Los_Angeles:20250628T110000
DTEND;TZID=America/Los_Angeles:20250628T130000
DTSTAMP:20260423T072613
CREATED:20250519T173134Z
LAST-MODIFIED:20250519T173134Z
UID:10021490-1751108400-1751115600@tillamookchamber.org
SUMMARY:Tillamook June Dairy Parade
DESCRIPTION:Get ready\, Tillamook! As the days get longer and summer vibes roll in\, the Tillamook Chamber is already buzzing with excitement for our annual June Dairy Parade! Mark your calendars for Saturday\, June 28th\, 2025\, because Downtown Tillamook is about to come alive! \nGet set for the 68th Annual June Dairy Parade\, kicking off at 11:00 AM! Expect the usual magic: dazzling floats\, dynamic dancers\, graceful horses\, and all your favorite parade traditions bringing smiles to every face along the route. \nThis year\, we’re Moovin’ Thru the Seasons’! Time to let your imagination bloom! Dream up dazzling floats\, trucks\, and tractors that capture the unique beauty and spirit of each season – from the fresh blossoms of spring to the cozy hues of autumn and the sparkling wonder of winter! \nReady to roll? Participating in the parade is FREE and easy! Just head to https://tillamookchamber.org/junedairy/ and fill out the quick entry form before the June 10th deadline. Early sign-ups get the best spots so don’t miss this incredible chance to put your business\, program\, or organization in the spotlight for the community! \nWe need your help! Don’t forget to nominate an outstanding individual to be our June Dairy Parade Grand Marshal! We’re seeking individuals who exemplify the spirit of our industry and have a proven track record of leadership and volunteerism. The nomination form and details are waiting for you at https://tillamookchamber.org/grandmarshal/. Please submit your nominations by June 10th – let’s collectively recognize an exceptional member of our dairy family! \nWhether you’re crafting a ‘Moovin’ Thru the Seasons’ masterpiece on a float or waving from the curb\, the June Dairy Parade is pure Tillamook County community spirit in action! Join your neighbors as we proudly celebrate our rich dairy heritage and the wonderful feeling of coming together!
URL:https://tillamookchamber.org/event/tillamook-june-dairy-parade/
LOCATION:Downtown Tillamook\, Tillamook\, OR\, 97141\, United States
CATEGORIES:Community,Family Fun,Outdoor
ATTACH;FMTTYPE=image/jpeg:https://tillamookchamber.org/wp-content/uploads/2025/03/486968438_1067875122046651_1375104005977227657_n.jpg
END:VEVENT
END:VCALENDAR