BEGIN:VCALENDAR
VERSION:2.0
PRODID:-//Tillamook Area Chamber of Commerce - ECPv6.15.20//NONSGML v1.0//EN
CALSCALE:GREGORIAN
METHOD:PUBLISH
X-ORIGINAL-URL:https://tillamookchamber.org
X-WR-CALDESC:Events for Tillamook Area Chamber of Commerce
REFRESH-INTERVAL;VALUE=DURATION:PT1H
X-Robots-Tag:noindex
X-PUBLISHED-TTL:PT1H
BEGIN:VTIMEZONE
TZID:America/Los_Angeles
BEGIN:DAYLIGHT
TZOFFSETFROM:-0800
TZOFFSETTO:-0700
TZNAME:PDT
DTSTART:20240310T100000
END:DAYLIGHT
BEGIN:STANDARD
TZOFFSETFROM:-0700
TZOFFSETTO:-0800
TZNAME:PST
DTSTART:20241103T090000
END:STANDARD
BEGIN:DAYLIGHT
TZOFFSETFROM:-0800
TZOFFSETTO:-0700
TZNAME:PDT
DTSTART:20250309T100000
END:DAYLIGHT
BEGIN:STANDARD
TZOFFSETFROM:-0700
TZOFFSETTO:-0800
TZNAME:PST
DTSTART:20251102T090000
END:STANDARD
BEGIN:DAYLIGHT
TZOFFSETFROM:-0800
TZOFFSETTO:-0700
TZNAME:PDT
DTSTART:20260308T100000
END:DAYLIGHT
BEGIN:STANDARD
TZOFFSETFROM:-0700
TZOFFSETTO:-0800
TZNAME:PST
DTSTART:20261101T090000
END:STANDARD
END:VTIMEZONE
BEGIN:VEVENT
DTSTART;TZID=America/Los_Angeles:20250517T090000
DTEND;TZID=America/Los_Angeles:20250517T150000
DTSTAMP:20260423T102013
CREATED:20250421T163309Z
LAST-MODIFIED:20250421T163309Z
UID:10020613-1747472400-1747494000@tillamookchamber.org
SUMMARY:TillaWheels Car Club
DESCRIPTION:TillaWheels Car Club is having there annual Show & Shine at O’Reilly Auto Parts in Tillamook.  We will be having a Cruise In on Friday from 4 – 6 pm starting at NAPA in Tillamook
URL:https://tillamookchamber.org/event/tillawheels-car-club/
LOCATION:O’Reilly Auto Parts\, 2205 N Main\, Tillamook\, OR\, 97141\, United States
CATEGORIES:Community,Family Fun,Outdoor
ATTACH;FMTTYPE=image/jpeg:https://tillamookchamber.org/wp-content/uploads/2025/04/A-New-Design-Made-with-PosterMyWall-11.jpg
END:VEVENT
BEGIN:VEVENT
DTSTART;TZID=America/Los_Angeles:20250531T100000
DTEND;TZID=America/Los_Angeles:20250531T140000
DTSTAMP:20260423T102013
CREATED:20250522T174327Z
LAST-MODIFIED:20250522T174327Z
UID:10021508-1748685600-1748700000@tillamookchamber.org
SUMMARY:Tillamook County Family Health Day & Bike Events
DESCRIPTION:Join us at Family Health Day! A fun-filled day focused on health\, wellness\, and community resources. \nFeaturing the 3rd annual Bike Rodeo and Adopt-a-Bike Events! Where kids can learn bike skills and community members of all ages can take home a free bike (while supplies last!). \nWhen: May 31st\, 2025 \nTime: 10:00am-2:00pm \nAdopt-a-Bike: 10:00am-noon \nBike Rodeo: noon-2:00pm \nWhere: Pastega Activity Center and Tillamook Jr. High Field\, 3906 Alder Ln
URL:https://tillamookchamber.org/event/tillamook-county-family-health-day-bike-events/
LOCATION:OR
CATEGORIES:Community,Family Fun,Outdoor
ATTACH;FMTTYPE=image/png:https://tillamookchamber.org/wp-content/uploads/2025/05/TCW-Family-Health-Day-Flyer-English.png
END:VEVENT
END:VCALENDAR