BEGIN:VCALENDAR
VERSION:2.0
PRODID:-//Tillamook Area Chamber of Commerce - ECPv6.15.20//NONSGML v1.0//EN
CALSCALE:GREGORIAN
METHOD:PUBLISH
X-ORIGINAL-URL:https://tillamookchamber.org
X-WR-CALDESC:Events for Tillamook Area Chamber of Commerce
REFRESH-INTERVAL;VALUE=DURATION:PT1H
X-Robots-Tag:noindex
X-PUBLISHED-TTL:PT1H
BEGIN:VTIMEZONE
TZID:America/Los_Angeles
BEGIN:DAYLIGHT
TZOFFSETFROM:-0800
TZOFFSETTO:-0700
TZNAME:PDT
DTSTART:20280312T100000
END:DAYLIGHT
BEGIN:STANDARD
TZOFFSETFROM:-0700
TZOFFSETTO:-0800
TZNAME:PST
DTSTART:20281105T090000
END:STANDARD
BEGIN:DAYLIGHT
TZOFFSETFROM:-0800
TZOFFSETTO:-0700
TZNAME:PDT
DTSTART:20290311T100000
END:DAYLIGHT
BEGIN:STANDARD
TZOFFSETFROM:-0700
TZOFFSETTO:-0800
TZNAME:PST
DTSTART:20291104T090000
END:STANDARD
BEGIN:DAYLIGHT
TZOFFSETFROM:-0800
TZOFFSETTO:-0700
TZNAME:PDT
DTSTART:20300310T100000
END:DAYLIGHT
BEGIN:STANDARD
TZOFFSETFROM:-0700
TZOFFSETTO:-0800
TZNAME:PST
DTSTART:20301103T090000
END:STANDARD
BEGIN:DAYLIGHT
TZOFFSETFROM:-0800
TZOFFSETTO:-0700
TZNAME:PDT
DTSTART:20310309T100000
END:DAYLIGHT
BEGIN:STANDARD
TZOFFSETFROM:-0700
TZOFFSETTO:-0800
TZNAME:PST
DTSTART:20311102T090000
END:STANDARD
END:VTIMEZONE
BEGIN:VEVENT
DTSTART;TZID=America/Los_Angeles:20290209T190000
DTEND;TZID=America/Los_Angeles:20290209T210000
DTSTAMP:20260420T230536
CREATED:20220114T194639Z
LAST-MODIFIED:20220114T194639Z
UID:10019298-1865358000-1865365200@tillamookchamber.org
SUMMARY:Artist/Music Showcase
DESCRIPTION:Local and visiting musicans perform a free concert at the Tillamook Fairview Grange\, featuring Eric Sappington and other musicans and artists monthly. Relax and take in music in one of the best local performance halls.
URL:https://tillamookchamber.org/event/artist-music-showcase/2029-02-09/
LOCATION:Tillamook Fairview Grange\, 5620 E. 3rd Street\, Tillamook\, OR 97141\, OR
CATEGORIES:Community,Live Music
ATTACH;FMTTYPE=image/jpeg:https://tillamookchamber.org/wp-content/uploads/2022/01/eric-at-grange.jpg
ORGANIZER;CN="Tillamook Fairview Grange":MAILTO:mary.mcginnis05@gmail.com
END:VEVENT
BEGIN:VEVENT
DTSTART;TZID=America/Los_Angeles:20290309T190000
DTEND;TZID=America/Los_Angeles:20290309T210000
DTSTAMP:20260420T230536
CREATED:20220114T194639Z
LAST-MODIFIED:20220114T194639Z
UID:10019299-1867777200-1867784400@tillamookchamber.org
SUMMARY:Artist/Music Showcase
DESCRIPTION:Local and visiting musicans perform a free concert at the Tillamook Fairview Grange\, featuring Eric Sappington and other musicans and artists monthly. Relax and take in music in one of the best local performance halls.
URL:https://tillamookchamber.org/event/artist-music-showcase/2029-03-09/
LOCATION:Tillamook Fairview Grange\, 5620 E. 3rd Street\, Tillamook\, OR 97141\, OR
CATEGORIES:Community,Live Music
ATTACH;FMTTYPE=image/jpeg:https://tillamookchamber.org/wp-content/uploads/2022/01/eric-at-grange.jpg
ORGANIZER;CN="Tillamook Fairview Grange":MAILTO:mary.mcginnis05@gmail.com
END:VEVENT
BEGIN:VEVENT
DTSTART;TZID=America/Los_Angeles:20290413T190000
DTEND;TZID=America/Los_Angeles:20290413T210000
DTSTAMP:20260420T230536
CREATED:20220114T194639Z
LAST-MODIFIED:20220114T194639Z
UID:10019300-1870801200-1870808400@tillamookchamber.org
SUMMARY:Artist/Music Showcase
DESCRIPTION:Local and visiting musicans perform a free concert at the Tillamook Fairview Grange\, featuring Eric Sappington and other musicans and artists monthly. Relax and take in music in one of the best local performance halls.
URL:https://tillamookchamber.org/event/artist-music-showcase/2029-04-13/
LOCATION:Tillamook Fairview Grange\, 5620 E. 3rd Street\, Tillamook\, OR 97141\, OR
CATEGORIES:Community,Live Music
ATTACH;FMTTYPE=image/jpeg:https://tillamookchamber.org/wp-content/uploads/2022/01/eric-at-grange.jpg
ORGANIZER;CN="Tillamook Fairview Grange":MAILTO:mary.mcginnis05@gmail.com
END:VEVENT
BEGIN:VEVENT
DTSTART;TZID=America/Los_Angeles:20290511T190000
DTEND;TZID=America/Los_Angeles:20290511T210000
DTSTAMP:20260420T230536
CREATED:20220114T194639Z
LAST-MODIFIED:20220114T194639Z
UID:10019301-1873220400-1873227600@tillamookchamber.org
SUMMARY:Artist/Music Showcase
DESCRIPTION:Local and visiting musicans perform a free concert at the Tillamook Fairview Grange\, featuring Eric Sappington and other musicans and artists monthly. Relax and take in music in one of the best local performance halls.
URL:https://tillamookchamber.org/event/artist-music-showcase/2029-05-11/
LOCATION:Tillamook Fairview Grange\, 5620 E. 3rd Street\, Tillamook\, OR 97141\, OR
CATEGORIES:Community,Live Music
ATTACH;FMTTYPE=image/jpeg:https://tillamookchamber.org/wp-content/uploads/2022/01/eric-at-grange.jpg
ORGANIZER;CN="Tillamook Fairview Grange":MAILTO:mary.mcginnis05@gmail.com
END:VEVENT
BEGIN:VEVENT
DTSTART;TZID=America/Los_Angeles:20290608T190000
DTEND;TZID=America/Los_Angeles:20290608T210000
DTSTAMP:20260420T230536
CREATED:20220114T194639Z
LAST-MODIFIED:20220114T194639Z
UID:10019302-1875639600-1875646800@tillamookchamber.org
SUMMARY:Artist/Music Showcase
DESCRIPTION:Local and visiting musicans perform a free concert at the Tillamook Fairview Grange\, featuring Eric Sappington and other musicans and artists monthly. Relax and take in music in one of the best local performance halls.
URL:https://tillamookchamber.org/event/artist-music-showcase/2029-06-08/
LOCATION:Tillamook Fairview Grange\, 5620 E. 3rd Street\, Tillamook\, OR 97141\, OR
CATEGORIES:Community,Live Music
ATTACH;FMTTYPE=image/jpeg:https://tillamookchamber.org/wp-content/uploads/2022/01/eric-at-grange.jpg
ORGANIZER;CN="Tillamook Fairview Grange":MAILTO:mary.mcginnis05@gmail.com
END:VEVENT
BEGIN:VEVENT
DTSTART;TZID=America/Los_Angeles:20290713T190000
DTEND;TZID=America/Los_Angeles:20290713T210000
DTSTAMP:20260420T230536
CREATED:20220114T194639Z
LAST-MODIFIED:20220114T194639Z
UID:10019303-1878663600-1878670800@tillamookchamber.org
SUMMARY:Artist/Music Showcase
DESCRIPTION:Local and visiting musicans perform a free concert at the Tillamook Fairview Grange\, featuring Eric Sappington and other musicans and artists monthly. Relax and take in music in one of the best local performance halls.
URL:https://tillamookchamber.org/event/artist-music-showcase/2029-07-13/
LOCATION:Tillamook Fairview Grange\, 5620 E. 3rd Street\, Tillamook\, OR 97141\, OR
CATEGORIES:Community,Live Music
ATTACH;FMTTYPE=image/jpeg:https://tillamookchamber.org/wp-content/uploads/2022/01/eric-at-grange.jpg
ORGANIZER;CN="Tillamook Fairview Grange":MAILTO:mary.mcginnis05@gmail.com
END:VEVENT
BEGIN:VEVENT
DTSTART;TZID=America/Los_Angeles:20290810T190000
DTEND;TZID=America/Los_Angeles:20290810T210000
DTSTAMP:20260420T230536
CREATED:20220114T194639Z
LAST-MODIFIED:20220114T194639Z
UID:10019304-1881082800-1881090000@tillamookchamber.org
SUMMARY:Artist/Music Showcase
DESCRIPTION:Local and visiting musicans perform a free concert at the Tillamook Fairview Grange\, featuring Eric Sappington and other musicans and artists monthly. Relax and take in music in one of the best local performance halls.
URL:https://tillamookchamber.org/event/artist-music-showcase/2029-08-10/
LOCATION:Tillamook Fairview Grange\, 5620 E. 3rd Street\, Tillamook\, OR 97141\, OR
CATEGORIES:Community,Live Music
ATTACH;FMTTYPE=image/jpeg:https://tillamookchamber.org/wp-content/uploads/2022/01/eric-at-grange.jpg
ORGANIZER;CN="Tillamook Fairview Grange":MAILTO:mary.mcginnis05@gmail.com
END:VEVENT
BEGIN:VEVENT
DTSTART;TZID=America/Los_Angeles:20290914T190000
DTEND;TZID=America/Los_Angeles:20290914T210000
DTSTAMP:20260420T230536
CREATED:20220114T194639Z
LAST-MODIFIED:20220114T194639Z
UID:10019305-1884106800-1884114000@tillamookchamber.org
SUMMARY:Artist/Music Showcase
DESCRIPTION:Local and visiting musicans perform a free concert at the Tillamook Fairview Grange\, featuring Eric Sappington and other musicans and artists monthly. Relax and take in music in one of the best local performance halls.
URL:https://tillamookchamber.org/event/artist-music-showcase/2029-09-14/
LOCATION:Tillamook Fairview Grange\, 5620 E. 3rd Street\, Tillamook\, OR 97141\, OR
CATEGORIES:Community,Live Music
ATTACH;FMTTYPE=image/jpeg:https://tillamookchamber.org/wp-content/uploads/2022/01/eric-at-grange.jpg
ORGANIZER;CN="Tillamook Fairview Grange":MAILTO:mary.mcginnis05@gmail.com
END:VEVENT
BEGIN:VEVENT
DTSTART;TZID=America/Los_Angeles:20291012T190000
DTEND;TZID=America/Los_Angeles:20291012T210000
DTSTAMP:20260420T230536
CREATED:20220114T194639Z
LAST-MODIFIED:20220114T194639Z
UID:10019306-1886526000-1886533200@tillamookchamber.org
SUMMARY:Artist/Music Showcase
DESCRIPTION:Local and visiting musicans perform a free concert at the Tillamook Fairview Grange\, featuring Eric Sappington and other musicans and artists monthly. Relax and take in music in one of the best local performance halls.
URL:https://tillamookchamber.org/event/artist-music-showcase/2029-10-12/
LOCATION:Tillamook Fairview Grange\, 5620 E. 3rd Street\, Tillamook\, OR 97141\, OR
CATEGORIES:Community,Live Music
ATTACH;FMTTYPE=image/jpeg:https://tillamookchamber.org/wp-content/uploads/2022/01/eric-at-grange.jpg
ORGANIZER;CN="Tillamook Fairview Grange":MAILTO:mary.mcginnis05@gmail.com
END:VEVENT
BEGIN:VEVENT
DTSTART;TZID=America/Los_Angeles:20291109T190000
DTEND;TZID=America/Los_Angeles:20291109T210000
DTSTAMP:20260420T230536
CREATED:20220114T194639Z
LAST-MODIFIED:20220114T194639Z
UID:10019307-1888945200-1888952400@tillamookchamber.org
SUMMARY:Artist/Music Showcase
DESCRIPTION:Local and visiting musicans perform a free concert at the Tillamook Fairview Grange\, featuring Eric Sappington and other musicans and artists monthly. Relax and take in music in one of the best local performance halls.
URL:https://tillamookchamber.org/event/artist-music-showcase/2029-11-09/
LOCATION:Tillamook Fairview Grange\, 5620 E. 3rd Street\, Tillamook\, OR 97141\, OR
CATEGORIES:Community,Live Music
ATTACH;FMTTYPE=image/jpeg:https://tillamookchamber.org/wp-content/uploads/2022/01/eric-at-grange.jpg
ORGANIZER;CN="Tillamook Fairview Grange":MAILTO:mary.mcginnis05@gmail.com
END:VEVENT
BEGIN:VEVENT
DTSTART;TZID=America/Los_Angeles:20291214T190000
DTEND;TZID=America/Los_Angeles:20291214T210000
DTSTAMP:20260420T230536
CREATED:20220114T194639Z
LAST-MODIFIED:20220114T194639Z
UID:10019308-1891969200-1891976400@tillamookchamber.org
SUMMARY:Artist/Music Showcase
DESCRIPTION:Local and visiting musicans perform a free concert at the Tillamook Fairview Grange\, featuring Eric Sappington and other musicans and artists monthly. Relax and take in music in one of the best local performance halls.
URL:https://tillamookchamber.org/event/artist-music-showcase/2029-12-14/
LOCATION:Tillamook Fairview Grange\, 5620 E. 3rd Street\, Tillamook\, OR 97141\, OR
CATEGORIES:Community,Live Music
ATTACH;FMTTYPE=image/jpeg:https://tillamookchamber.org/wp-content/uploads/2022/01/eric-at-grange.jpg
ORGANIZER;CN="Tillamook Fairview Grange":MAILTO:mary.mcginnis05@gmail.com
END:VEVENT
BEGIN:VEVENT
DTSTART;TZID=America/Los_Angeles:20300111T190000
DTEND;TZID=America/Los_Angeles:20300111T210000
DTSTAMP:20260420T230536
CREATED:20220114T194639Z
LAST-MODIFIED:20220114T194639Z
UID:10019309-1894388400-1894395600@tillamookchamber.org
SUMMARY:Artist/Music Showcase
DESCRIPTION:Local and visiting musicans perform a free concert at the Tillamook Fairview Grange\, featuring Eric Sappington and other musicans and artists monthly. Relax and take in music in one of the best local performance halls.
URL:https://tillamookchamber.org/event/artist-music-showcase/2030-01-11/
LOCATION:Tillamook Fairview Grange\, 5620 E. 3rd Street\, Tillamook\, OR 97141\, OR
CATEGORIES:Community,Live Music
ATTACH;FMTTYPE=image/jpeg:https://tillamookchamber.org/wp-content/uploads/2022/01/eric-at-grange.jpg
ORGANIZER;CN="Tillamook Fairview Grange":MAILTO:mary.mcginnis05@gmail.com
END:VEVENT
BEGIN:VEVENT
DTSTART;TZID=America/Los_Angeles:20300208T190000
DTEND;TZID=America/Los_Angeles:20300208T210000
DTSTAMP:20260420T230536
CREATED:20220114T194639Z
LAST-MODIFIED:20220114T194639Z
UID:10019310-1896807600-1896814800@tillamookchamber.org
SUMMARY:Artist/Music Showcase
DESCRIPTION:Local and visiting musicans perform a free concert at the Tillamook Fairview Grange\, featuring Eric Sappington and other musicans and artists monthly. Relax and take in music in one of the best local performance halls.
URL:https://tillamookchamber.org/event/artist-music-showcase/2030-02-08/
LOCATION:Tillamook Fairview Grange\, 5620 E. 3rd Street\, Tillamook\, OR 97141\, OR
CATEGORIES:Community,Live Music
ATTACH;FMTTYPE=image/jpeg:https://tillamookchamber.org/wp-content/uploads/2022/01/eric-at-grange.jpg
ORGANIZER;CN="Tillamook Fairview Grange":MAILTO:mary.mcginnis05@gmail.com
END:VEVENT
BEGIN:VEVENT
DTSTART;TZID=America/Los_Angeles:20300308T190000
DTEND;TZID=America/Los_Angeles:20300308T210000
DTSTAMP:20260420T230536
CREATED:20220114T194639Z
LAST-MODIFIED:20220114T194639Z
UID:10019311-1899226800-1899234000@tillamookchamber.org
SUMMARY:Artist/Music Showcase
DESCRIPTION:Local and visiting musicans perform a free concert at the Tillamook Fairview Grange\, featuring Eric Sappington and other musicans and artists monthly. Relax and take in music in one of the best local performance halls.
URL:https://tillamookchamber.org/event/artist-music-showcase/2030-03-08/
LOCATION:Tillamook Fairview Grange\, 5620 E. 3rd Street\, Tillamook\, OR 97141\, OR
CATEGORIES:Community,Live Music
ATTACH;FMTTYPE=image/jpeg:https://tillamookchamber.org/wp-content/uploads/2022/01/eric-at-grange.jpg
ORGANIZER;CN="Tillamook Fairview Grange":MAILTO:mary.mcginnis05@gmail.com
END:VEVENT
BEGIN:VEVENT
DTSTART;TZID=America/Los_Angeles:20300412T190000
DTEND;TZID=America/Los_Angeles:20300412T210000
DTSTAMP:20260420T230536
CREATED:20220114T194639Z
LAST-MODIFIED:20220114T194639Z
UID:10020332-1902250800-1902258000@tillamookchamber.org
SUMMARY:Artist/Music Showcase
DESCRIPTION:Local and visiting musicans perform a free concert at the Tillamook Fairview Grange\, featuring Eric Sappington and other musicans and artists monthly. Relax and take in music in one of the best local performance halls.
URL:https://tillamookchamber.org/event/artist-music-showcase/2030-04-12/
LOCATION:Tillamook Fairview Grange\, 5620 E. 3rd Street\, Tillamook\, OR 97141\, OR
CATEGORIES:Community,Live Music
ATTACH;FMTTYPE=image/jpeg:https://tillamookchamber.org/wp-content/uploads/2022/01/eric-at-grange.jpg
ORGANIZER;CN="Tillamook Fairview Grange":MAILTO:mary.mcginnis05@gmail.com
END:VEVENT
BEGIN:VEVENT
DTSTART;TZID=America/Los_Angeles:20300510T190000
DTEND;TZID=America/Los_Angeles:20300510T210000
DTSTAMP:20260420T230536
CREATED:20220114T194639Z
LAST-MODIFIED:20220114T194639Z
UID:10021353-1904670000-1904677200@tillamookchamber.org
SUMMARY:Artist/Music Showcase
DESCRIPTION:Local and visiting musicans perform a free concert at the Tillamook Fairview Grange\, featuring Eric Sappington and other musicans and artists monthly. Relax and take in music in one of the best local performance halls.
URL:https://tillamookchamber.org/event/artist-music-showcase/2030-05-10/
LOCATION:Tillamook Fairview Grange\, 5620 E. 3rd Street\, Tillamook\, OR 97141\, OR
CATEGORIES:Community,Live Music
ATTACH;FMTTYPE=image/jpeg:https://tillamookchamber.org/wp-content/uploads/2022/01/eric-at-grange.jpg
ORGANIZER;CN="Tillamook Fairview Grange":MAILTO:mary.mcginnis05@gmail.com
END:VEVENT
END:VCALENDAR