BEGIN:VCALENDAR
VERSION:2.0
PRODID:-//Tillamook Area Chamber of Commerce - ECPv6.15.20//NONSGML v1.0//EN
CALSCALE:GREGORIAN
METHOD:PUBLISH
X-WR-CALNAME:Tillamook Area Chamber of Commerce
X-ORIGINAL-URL:https://tillamookchamber.org
X-WR-CALDESC:Events for Tillamook Area Chamber of Commerce
REFRESH-INTERVAL;VALUE=DURATION:PT1H
X-Robots-Tag:noindex
X-PUBLISHED-TTL:PT1H
BEGIN:VTIMEZONE
TZID:America/Los_Angeles
BEGIN:DAYLIGHT
TZOFFSETFROM:-0800
TZOFFSETTO:-0700
TZNAME:PDT
DTSTART:20250309T100000
END:DAYLIGHT
BEGIN:STANDARD
TZOFFSETFROM:-0700
TZOFFSETTO:-0800
TZNAME:PST
DTSTART:20251102T090000
END:STANDARD
BEGIN:DAYLIGHT
TZOFFSETFROM:-0800
TZOFFSETTO:-0700
TZNAME:PDT
DTSTART:20260308T100000
END:DAYLIGHT
BEGIN:STANDARD
TZOFFSETFROM:-0700
TZOFFSETTO:-0800
TZNAME:PST
DTSTART:20261101T090000
END:STANDARD
BEGIN:DAYLIGHT
TZOFFSETFROM:-0800
TZOFFSETTO:-0700
TZNAME:PDT
DTSTART:20270314T100000
END:DAYLIGHT
BEGIN:STANDARD
TZOFFSETFROM:-0700
TZOFFSETTO:-0800
TZNAME:PST
DTSTART:20271107T090000
END:STANDARD
BEGIN:DAYLIGHT
TZOFFSETFROM:-0800
TZOFFSETTO:-0700
TZNAME:PDT
DTSTART:20280312T100000
END:DAYLIGHT
BEGIN:STANDARD
TZOFFSETFROM:-0700
TZOFFSETTO:-0800
TZNAME:PST
DTSTART:20281105T090000
END:STANDARD
BEGIN:DAYLIGHT
TZOFFSETFROM:-0800
TZOFFSETTO:-0700
TZNAME:PDT
DTSTART:20290311T100000
END:DAYLIGHT
BEGIN:STANDARD
TZOFFSETFROM:-0700
TZOFFSETTO:-0800
TZNAME:PST
DTSTART:20291104T090000
END:STANDARD
END:VTIMEZONE
BEGIN:VEVENT
DTSTART;TZID=America/Los_Angeles:20261031T190000
DTEND;TZID=America/Los_Angeles:20261031T210000
DTSTAMP:20260420T175230
CREATED:20250523T204532Z
LAST-MODIFIED:20250529T195335Z
UID:10022014-1793473200-1793480400@tillamookchamber.org
SUMMARY:Live Music!
DESCRIPTION:Live music every Saturday from 7–9pm in The Schooner Lounge—because your weekend deserves a soundtrack. \nKick back to the sounds of local musicians\, stay for the crave-worthy eats\, craft cocktails\, cold beers\, and our fabulous crew who always bring the good vibes. \nCurious who’s playing? Check out our lineup of Oregon-grown talent on our website!
URL:https://tillamookchamber.org/event/live-music/2026-10-31/
LOCATION:The Schooner Restaurant & Lounge\, 2065 Boat Basin Rd
CATEGORIES:Arts and Culture,Live Music
ATTACH;FMTTYPE=image/jpeg:https://tillamookchamber.org/wp-content/uploads/2025/05/Schooner-music-scaled.jpeg
END:VEVENT
BEGIN:VEVENT
DTSTART;TZID=America/Los_Angeles:20261107T190000
DTEND;TZID=America/Los_Angeles:20261107T210000
DTSTAMP:20260420T175230
CREATED:20250523T204532Z
LAST-MODIFIED:20250529T195335Z
UID:10022015-1794078000-1794085200@tillamookchamber.org
SUMMARY:Live Music!
DESCRIPTION:Live music every Saturday from 7–9pm in The Schooner Lounge—because your weekend deserves a soundtrack. \nKick back to the sounds of local musicians\, stay for the crave-worthy eats\, craft cocktails\, cold beers\, and our fabulous crew who always bring the good vibes. \nCurious who’s playing? Check out our lineup of Oregon-grown talent on our website!
URL:https://tillamookchamber.org/event/live-music/2026-11-07/
LOCATION:The Schooner Restaurant & Lounge\, 2065 Boat Basin Rd
CATEGORIES:Arts and Culture,Live Music
ATTACH;FMTTYPE=image/jpeg:https://tillamookchamber.org/wp-content/uploads/2025/05/Schooner-music-scaled.jpeg
END:VEVENT
BEGIN:VEVENT
DTSTART;TZID=America/Los_Angeles:20261113T190000
DTEND;TZID=America/Los_Angeles:20261113T210000
DTSTAMP:20260420T175230
CREATED:20220114T194639Z
LAST-MODIFIED:20220114T194639Z
UID:10019271-1794596400-1794603600@tillamookchamber.org
SUMMARY:Artist/Music Showcase
DESCRIPTION:Local and visiting musicans perform a free concert at the Tillamook Fairview Grange\, featuring Eric Sappington and other musicans and artists monthly. Relax and take in music in one of the best local performance halls.
URL:https://tillamookchamber.org/event/artist-music-showcase/2026-11-13/
LOCATION:Tillamook Fairview Grange\, 5620 E. 3rd Street\, Tillamook\, OR 97141\, OR
CATEGORIES:Community,Live Music
ATTACH;FMTTYPE=image/jpeg:https://tillamookchamber.org/wp-content/uploads/2022/01/eric-at-grange.jpg
ORGANIZER;CN="Tillamook Fairview Grange":MAILTO:mary.mcginnis05@gmail.com
END:VEVENT
BEGIN:VEVENT
DTSTART;TZID=America/Los_Angeles:20261114T190000
DTEND;TZID=America/Los_Angeles:20261114T210000
DTSTAMP:20260420T175230
CREATED:20250523T204532Z
LAST-MODIFIED:20250529T195335Z
UID:10022016-1794682800-1794690000@tillamookchamber.org
SUMMARY:Live Music!
DESCRIPTION:Live music every Saturday from 7–9pm in The Schooner Lounge—because your weekend deserves a soundtrack. \nKick back to the sounds of local musicians\, stay for the crave-worthy eats\, craft cocktails\, cold beers\, and our fabulous crew who always bring the good vibes. \nCurious who’s playing? Check out our lineup of Oregon-grown talent on our website!
URL:https://tillamookchamber.org/event/live-music/2026-11-14/
LOCATION:The Schooner Restaurant & Lounge\, 2065 Boat Basin Rd
CATEGORIES:Arts and Culture,Live Music
ATTACH;FMTTYPE=image/jpeg:https://tillamookchamber.org/wp-content/uploads/2025/05/Schooner-music-scaled.jpeg
END:VEVENT
BEGIN:VEVENT
DTSTART;TZID=America/Los_Angeles:20261121T190000
DTEND;TZID=America/Los_Angeles:20261121T210000
DTSTAMP:20260420T175230
CREATED:20250523T204532Z
LAST-MODIFIED:20250529T195335Z
UID:10022017-1795287600-1795294800@tillamookchamber.org
SUMMARY:Live Music!
DESCRIPTION:Live music every Saturday from 7–9pm in The Schooner Lounge—because your weekend deserves a soundtrack. \nKick back to the sounds of local musicians\, stay for the crave-worthy eats\, craft cocktails\, cold beers\, and our fabulous crew who always bring the good vibes. \nCurious who’s playing? Check out our lineup of Oregon-grown talent on our website!
URL:https://tillamookchamber.org/event/live-music/2026-11-21/
LOCATION:The Schooner Restaurant & Lounge\, 2065 Boat Basin Rd
CATEGORIES:Arts and Culture,Live Music
ATTACH;FMTTYPE=image/jpeg:https://tillamookchamber.org/wp-content/uploads/2025/05/Schooner-music-scaled.jpeg
END:VEVENT
BEGIN:VEVENT
DTSTART;TZID=America/Los_Angeles:20261128T190000
DTEND;TZID=America/Los_Angeles:20261128T210000
DTSTAMP:20260420T175230
CREATED:20250523T204532Z
LAST-MODIFIED:20250529T195335Z
UID:10022018-1795892400-1795899600@tillamookchamber.org
SUMMARY:Live Music!
DESCRIPTION:Live music every Saturday from 7–9pm in The Schooner Lounge—because your weekend deserves a soundtrack. \nKick back to the sounds of local musicians\, stay for the crave-worthy eats\, craft cocktails\, cold beers\, and our fabulous crew who always bring the good vibes. \nCurious who’s playing? Check out our lineup of Oregon-grown talent on our website!
URL:https://tillamookchamber.org/event/live-music/2026-11-28/
LOCATION:The Schooner Restaurant & Lounge\, 2065 Boat Basin Rd
CATEGORIES:Arts and Culture,Live Music
ATTACH;FMTTYPE=image/jpeg:https://tillamookchamber.org/wp-content/uploads/2025/05/Schooner-music-scaled.jpeg
END:VEVENT
BEGIN:VEVENT
DTSTART;TZID=America/Los_Angeles:20261205T190000
DTEND;TZID=America/Los_Angeles:20261205T210000
DTSTAMP:20260420T175230
CREATED:20250523T204532Z
LAST-MODIFIED:20250529T195335Z
UID:10022019-1796497200-1796504400@tillamookchamber.org
SUMMARY:Live Music!
DESCRIPTION:Live music every Saturday from 7–9pm in The Schooner Lounge—because your weekend deserves a soundtrack. \nKick back to the sounds of local musicians\, stay for the crave-worthy eats\, craft cocktails\, cold beers\, and our fabulous crew who always bring the good vibes. \nCurious who’s playing? Check out our lineup of Oregon-grown talent on our website!
URL:https://tillamookchamber.org/event/live-music/2026-12-05/
LOCATION:The Schooner Restaurant & Lounge\, 2065 Boat Basin Rd
CATEGORIES:Arts and Culture,Live Music
ATTACH;FMTTYPE=image/jpeg:https://tillamookchamber.org/wp-content/uploads/2025/05/Schooner-music-scaled.jpeg
END:VEVENT
BEGIN:VEVENT
DTSTART;TZID=America/Los_Angeles:20261211T190000
DTEND;TZID=America/Los_Angeles:20261211T210000
DTSTAMP:20260420T175230
CREATED:20220114T194639Z
LAST-MODIFIED:20220114T194639Z
UID:10019272-1797015600-1797022800@tillamookchamber.org
SUMMARY:Artist/Music Showcase
DESCRIPTION:Local and visiting musicans perform a free concert at the Tillamook Fairview Grange\, featuring Eric Sappington and other musicans and artists monthly. Relax and take in music in one of the best local performance halls.
URL:https://tillamookchamber.org/event/artist-music-showcase/2026-12-11/
LOCATION:Tillamook Fairview Grange\, 5620 E. 3rd Street\, Tillamook\, OR 97141\, OR
CATEGORIES:Community,Live Music
ATTACH;FMTTYPE=image/jpeg:https://tillamookchamber.org/wp-content/uploads/2022/01/eric-at-grange.jpg
ORGANIZER;CN="Tillamook Fairview Grange":MAILTO:mary.mcginnis05@gmail.com
END:VEVENT
BEGIN:VEVENT
DTSTART;TZID=America/Los_Angeles:20261212T190000
DTEND;TZID=America/Los_Angeles:20261212T210000
DTSTAMP:20260420T175230
CREATED:20250523T204532Z
LAST-MODIFIED:20250529T195335Z
UID:10022020-1797102000-1797109200@tillamookchamber.org
SUMMARY:Live Music!
DESCRIPTION:Live music every Saturday from 7–9pm in The Schooner Lounge—because your weekend deserves a soundtrack. \nKick back to the sounds of local musicians\, stay for the crave-worthy eats\, craft cocktails\, cold beers\, and our fabulous crew who always bring the good vibes. \nCurious who’s playing? Check out our lineup of Oregon-grown talent on our website!
URL:https://tillamookchamber.org/event/live-music/2026-12-12/
LOCATION:The Schooner Restaurant & Lounge\, 2065 Boat Basin Rd
CATEGORIES:Arts and Culture,Live Music
ATTACH;FMTTYPE=image/jpeg:https://tillamookchamber.org/wp-content/uploads/2025/05/Schooner-music-scaled.jpeg
END:VEVENT
BEGIN:VEVENT
DTSTART;TZID=America/Los_Angeles:20261219T190000
DTEND;TZID=America/Los_Angeles:20261219T210000
DTSTAMP:20260420T175230
CREATED:20250523T204532Z
LAST-MODIFIED:20250529T195335Z
UID:10022021-1797706800-1797714000@tillamookchamber.org
SUMMARY:Live Music!
DESCRIPTION:Live music every Saturday from 7–9pm in The Schooner Lounge—because your weekend deserves a soundtrack. \nKick back to the sounds of local musicians\, stay for the crave-worthy eats\, craft cocktails\, cold beers\, and our fabulous crew who always bring the good vibes. \nCurious who’s playing? Check out our lineup of Oregon-grown talent on our website!
URL:https://tillamookchamber.org/event/live-music/2026-12-19/
LOCATION:The Schooner Restaurant & Lounge\, 2065 Boat Basin Rd
CATEGORIES:Arts and Culture,Live Music
ATTACH;FMTTYPE=image/jpeg:https://tillamookchamber.org/wp-content/uploads/2025/05/Schooner-music-scaled.jpeg
END:VEVENT
BEGIN:VEVENT
DTSTART;TZID=America/Los_Angeles:20261226T190000
DTEND;TZID=America/Los_Angeles:20261226T210000
DTSTAMP:20260420T175230
CREATED:20250523T204532Z
LAST-MODIFIED:20250529T195335Z
UID:10022022-1798311600-1798318800@tillamookchamber.org
SUMMARY:Live Music!
DESCRIPTION:Live music every Saturday from 7–9pm in The Schooner Lounge—because your weekend deserves a soundtrack. \nKick back to the sounds of local musicians\, stay for the crave-worthy eats\, craft cocktails\, cold beers\, and our fabulous crew who always bring the good vibes. \nCurious who’s playing? Check out our lineup of Oregon-grown talent on our website!
URL:https://tillamookchamber.org/event/live-music/2026-12-26/
LOCATION:The Schooner Restaurant & Lounge\, 2065 Boat Basin Rd
CATEGORIES:Arts and Culture,Live Music
ATTACH;FMTTYPE=image/jpeg:https://tillamookchamber.org/wp-content/uploads/2025/05/Schooner-music-scaled.jpeg
END:VEVENT
BEGIN:VEVENT
DTSTART;TZID=America/Los_Angeles:20270108T190000
DTEND;TZID=America/Los_Angeles:20270108T210000
DTSTAMP:20260420T175230
CREATED:20220114T194639Z
LAST-MODIFIED:20220114T194639Z
UID:10019273-1799434800-1799442000@tillamookchamber.org
SUMMARY:Artist/Music Showcase
DESCRIPTION:Local and visiting musicans perform a free concert at the Tillamook Fairview Grange\, featuring Eric Sappington and other musicans and artists monthly. Relax and take in music in one of the best local performance halls.
URL:https://tillamookchamber.org/event/artist-music-showcase/2027-01-08/
LOCATION:Tillamook Fairview Grange\, 5620 E. 3rd Street\, Tillamook\, OR 97141\, OR
CATEGORIES:Community,Live Music
ATTACH;FMTTYPE=image/jpeg:https://tillamookchamber.org/wp-content/uploads/2022/01/eric-at-grange.jpg
ORGANIZER;CN="Tillamook Fairview Grange":MAILTO:mary.mcginnis05@gmail.com
END:VEVENT
BEGIN:VEVENT
DTSTART;TZID=America/Los_Angeles:20270212T190000
DTEND;TZID=America/Los_Angeles:20270212T210000
DTSTAMP:20260420T175230
CREATED:20220114T194639Z
LAST-MODIFIED:20220114T194639Z
UID:10019274-1802458800-1802466000@tillamookchamber.org
SUMMARY:Artist/Music Showcase
DESCRIPTION:Local and visiting musicans perform a free concert at the Tillamook Fairview Grange\, featuring Eric Sappington and other musicans and artists monthly. Relax and take in music in one of the best local performance halls.
URL:https://tillamookchamber.org/event/artist-music-showcase/2027-02-12/
LOCATION:Tillamook Fairview Grange\, 5620 E. 3rd Street\, Tillamook\, OR 97141\, OR
CATEGORIES:Community,Live Music
ATTACH;FMTTYPE=image/jpeg:https://tillamookchamber.org/wp-content/uploads/2022/01/eric-at-grange.jpg
ORGANIZER;CN="Tillamook Fairview Grange":MAILTO:mary.mcginnis05@gmail.com
END:VEVENT
BEGIN:VEVENT
DTSTART;TZID=America/Los_Angeles:20270312T190000
DTEND;TZID=America/Los_Angeles:20270312T210000
DTSTAMP:20260420T175230
CREATED:20220114T194639Z
LAST-MODIFIED:20220114T194639Z
UID:10019275-1804878000-1804885200@tillamookchamber.org
SUMMARY:Artist/Music Showcase
DESCRIPTION:Local and visiting musicans perform a free concert at the Tillamook Fairview Grange\, featuring Eric Sappington and other musicans and artists monthly. Relax and take in music in one of the best local performance halls.
URL:https://tillamookchamber.org/event/artist-music-showcase/2027-03-12/
LOCATION:Tillamook Fairview Grange\, 5620 E. 3rd Street\, Tillamook\, OR 97141\, OR
CATEGORIES:Community,Live Music
ATTACH;FMTTYPE=image/jpeg:https://tillamookchamber.org/wp-content/uploads/2022/01/eric-at-grange.jpg
ORGANIZER;CN="Tillamook Fairview Grange":MAILTO:mary.mcginnis05@gmail.com
END:VEVENT
BEGIN:VEVENT
DTSTART;TZID=America/Los_Angeles:20270409T190000
DTEND;TZID=America/Los_Angeles:20270409T210000
DTSTAMP:20260420T175230
CREATED:20220114T194639Z
LAST-MODIFIED:20220114T194639Z
UID:10019276-1807297200-1807304400@tillamookchamber.org
SUMMARY:Artist/Music Showcase
DESCRIPTION:Local and visiting musicans perform a free concert at the Tillamook Fairview Grange\, featuring Eric Sappington and other musicans and artists monthly. Relax and take in music in one of the best local performance halls.
URL:https://tillamookchamber.org/event/artist-music-showcase/2027-04-09/
LOCATION:Tillamook Fairview Grange\, 5620 E. 3rd Street\, Tillamook\, OR 97141\, OR
CATEGORIES:Community,Live Music
ATTACH;FMTTYPE=image/jpeg:https://tillamookchamber.org/wp-content/uploads/2022/01/eric-at-grange.jpg
ORGANIZER;CN="Tillamook Fairview Grange":MAILTO:mary.mcginnis05@gmail.com
END:VEVENT
BEGIN:VEVENT
DTSTART;TZID=America/Los_Angeles:20270514T190000
DTEND;TZID=America/Los_Angeles:20270514T210000
DTSTAMP:20260420T175230
CREATED:20220114T194639Z
LAST-MODIFIED:20220114T194639Z
UID:10019277-1810321200-1810328400@tillamookchamber.org
SUMMARY:Artist/Music Showcase
DESCRIPTION:Local and visiting musicans perform a free concert at the Tillamook Fairview Grange\, featuring Eric Sappington and other musicans and artists monthly. Relax and take in music in one of the best local performance halls.
URL:https://tillamookchamber.org/event/artist-music-showcase/2027-05-14/
LOCATION:Tillamook Fairview Grange\, 5620 E. 3rd Street\, Tillamook\, OR 97141\, OR
CATEGORIES:Community,Live Music
ATTACH;FMTTYPE=image/jpeg:https://tillamookchamber.org/wp-content/uploads/2022/01/eric-at-grange.jpg
ORGANIZER;CN="Tillamook Fairview Grange":MAILTO:mary.mcginnis05@gmail.com
END:VEVENT
BEGIN:VEVENT
DTSTART;TZID=America/Los_Angeles:20270611T190000
DTEND;TZID=America/Los_Angeles:20270611T210000
DTSTAMP:20260420T175230
CREATED:20220114T194639Z
LAST-MODIFIED:20220114T194639Z
UID:10019278-1812740400-1812747600@tillamookchamber.org
SUMMARY:Artist/Music Showcase
DESCRIPTION:Local and visiting musicans perform a free concert at the Tillamook Fairview Grange\, featuring Eric Sappington and other musicans and artists monthly. Relax and take in music in one of the best local performance halls.
URL:https://tillamookchamber.org/event/artist-music-showcase/2027-06-11/
LOCATION:Tillamook Fairview Grange\, 5620 E. 3rd Street\, Tillamook\, OR 97141\, OR
CATEGORIES:Community,Live Music
ATTACH;FMTTYPE=image/jpeg:https://tillamookchamber.org/wp-content/uploads/2022/01/eric-at-grange.jpg
ORGANIZER;CN="Tillamook Fairview Grange":MAILTO:mary.mcginnis05@gmail.com
END:VEVENT
BEGIN:VEVENT
DTSTART;TZID=America/Los_Angeles:20270709T190000
DTEND;TZID=America/Los_Angeles:20270709T210000
DTSTAMP:20260420T175230
CREATED:20220114T194639Z
LAST-MODIFIED:20220114T194639Z
UID:10019279-1815159600-1815166800@tillamookchamber.org
SUMMARY:Artist/Music Showcase
DESCRIPTION:Local and visiting musicans perform a free concert at the Tillamook Fairview Grange\, featuring Eric Sappington and other musicans and artists monthly. Relax and take in music in one of the best local performance halls.
URL:https://tillamookchamber.org/event/artist-music-showcase/2027-07-09/
LOCATION:Tillamook Fairview Grange\, 5620 E. 3rd Street\, Tillamook\, OR 97141\, OR
CATEGORIES:Community,Live Music
ATTACH;FMTTYPE=image/jpeg:https://tillamookchamber.org/wp-content/uploads/2022/01/eric-at-grange.jpg
ORGANIZER;CN="Tillamook Fairview Grange":MAILTO:mary.mcginnis05@gmail.com
END:VEVENT
BEGIN:VEVENT
DTSTART;TZID=America/Los_Angeles:20270813T190000
DTEND;TZID=America/Los_Angeles:20270813T210000
DTSTAMP:20260420T175230
CREATED:20220114T194639Z
LAST-MODIFIED:20220114T194639Z
UID:10019280-1818183600-1818190800@tillamookchamber.org
SUMMARY:Artist/Music Showcase
DESCRIPTION:Local and visiting musicans perform a free concert at the Tillamook Fairview Grange\, featuring Eric Sappington and other musicans and artists monthly. Relax and take in music in one of the best local performance halls.
URL:https://tillamookchamber.org/event/artist-music-showcase/2027-08-13/
LOCATION:Tillamook Fairview Grange\, 5620 E. 3rd Street\, Tillamook\, OR 97141\, OR
CATEGORIES:Community,Live Music
ATTACH;FMTTYPE=image/jpeg:https://tillamookchamber.org/wp-content/uploads/2022/01/eric-at-grange.jpg
ORGANIZER;CN="Tillamook Fairview Grange":MAILTO:mary.mcginnis05@gmail.com
END:VEVENT
BEGIN:VEVENT
DTSTART;TZID=America/Los_Angeles:20270910T190000
DTEND;TZID=America/Los_Angeles:20270910T210000
DTSTAMP:20260420T175230
CREATED:20220114T194639Z
LAST-MODIFIED:20220114T194639Z
UID:10019281-1820602800-1820610000@tillamookchamber.org
SUMMARY:Artist/Music Showcase
DESCRIPTION:Local and visiting musicans perform a free concert at the Tillamook Fairview Grange\, featuring Eric Sappington and other musicans and artists monthly. Relax and take in music in one of the best local performance halls.
URL:https://tillamookchamber.org/event/artist-music-showcase/2027-09-10/
LOCATION:Tillamook Fairview Grange\, 5620 E. 3rd Street\, Tillamook\, OR 97141\, OR
CATEGORIES:Community,Live Music
ATTACH;FMTTYPE=image/jpeg:https://tillamookchamber.org/wp-content/uploads/2022/01/eric-at-grange.jpg
ORGANIZER;CN="Tillamook Fairview Grange":MAILTO:mary.mcginnis05@gmail.com
END:VEVENT
BEGIN:VEVENT
DTSTART;TZID=America/Los_Angeles:20271008T190000
DTEND;TZID=America/Los_Angeles:20271008T210000
DTSTAMP:20260420T175230
CREATED:20220114T194639Z
LAST-MODIFIED:20220114T194639Z
UID:10019282-1823022000-1823029200@tillamookchamber.org
SUMMARY:Artist/Music Showcase
DESCRIPTION:Local and visiting musicans perform a free concert at the Tillamook Fairview Grange\, featuring Eric Sappington and other musicans and artists monthly. Relax and take in music in one of the best local performance halls.
URL:https://tillamookchamber.org/event/artist-music-showcase/2027-10-08/
LOCATION:Tillamook Fairview Grange\, 5620 E. 3rd Street\, Tillamook\, OR 97141\, OR
CATEGORIES:Community,Live Music
ATTACH;FMTTYPE=image/jpeg:https://tillamookchamber.org/wp-content/uploads/2022/01/eric-at-grange.jpg
ORGANIZER;CN="Tillamook Fairview Grange":MAILTO:mary.mcginnis05@gmail.com
END:VEVENT
BEGIN:VEVENT
DTSTART;TZID=America/Los_Angeles:20271112T190000
DTEND;TZID=America/Los_Angeles:20271112T210000
DTSTAMP:20260420T175230
CREATED:20220114T194639Z
LAST-MODIFIED:20220114T194639Z
UID:10019283-1826046000-1826053200@tillamookchamber.org
SUMMARY:Artist/Music Showcase
DESCRIPTION:Local and visiting musicans perform a free concert at the Tillamook Fairview Grange\, featuring Eric Sappington and other musicans and artists monthly. Relax and take in music in one of the best local performance halls.
URL:https://tillamookchamber.org/event/artist-music-showcase/2027-11-12/
LOCATION:Tillamook Fairview Grange\, 5620 E. 3rd Street\, Tillamook\, OR 97141\, OR
CATEGORIES:Community,Live Music
ATTACH;FMTTYPE=image/jpeg:https://tillamookchamber.org/wp-content/uploads/2022/01/eric-at-grange.jpg
ORGANIZER;CN="Tillamook Fairview Grange":MAILTO:mary.mcginnis05@gmail.com
END:VEVENT
BEGIN:VEVENT
DTSTART;TZID=America/Los_Angeles:20271210T190000
DTEND;TZID=America/Los_Angeles:20271210T210000
DTSTAMP:20260420T175230
CREATED:20220114T194639Z
LAST-MODIFIED:20220114T194639Z
UID:10019284-1828465200-1828472400@tillamookchamber.org
SUMMARY:Artist/Music Showcase
DESCRIPTION:Local and visiting musicans perform a free concert at the Tillamook Fairview Grange\, featuring Eric Sappington and other musicans and artists monthly. Relax and take in music in one of the best local performance halls.
URL:https://tillamookchamber.org/event/artist-music-showcase/2027-12-10/
LOCATION:Tillamook Fairview Grange\, 5620 E. 3rd Street\, Tillamook\, OR 97141\, OR
CATEGORIES:Community,Live Music
ATTACH;FMTTYPE=image/jpeg:https://tillamookchamber.org/wp-content/uploads/2022/01/eric-at-grange.jpg
ORGANIZER;CN="Tillamook Fairview Grange":MAILTO:mary.mcginnis05@gmail.com
END:VEVENT
BEGIN:VEVENT
DTSTART;TZID=America/Los_Angeles:20280114T190000
DTEND;TZID=America/Los_Angeles:20280114T210000
DTSTAMP:20260420T175230
CREATED:20220114T194639Z
LAST-MODIFIED:20220114T194639Z
UID:10019285-1831489200-1831496400@tillamookchamber.org
SUMMARY:Artist/Music Showcase
DESCRIPTION:Local and visiting musicans perform a free concert at the Tillamook Fairview Grange\, featuring Eric Sappington and other musicans and artists monthly. Relax and take in music in one of the best local performance halls.
URL:https://tillamookchamber.org/event/artist-music-showcase/2028-01-14/
LOCATION:Tillamook Fairview Grange\, 5620 E. 3rd Street\, Tillamook\, OR 97141\, OR
CATEGORIES:Community,Live Music
ATTACH;FMTTYPE=image/jpeg:https://tillamookchamber.org/wp-content/uploads/2022/01/eric-at-grange.jpg
ORGANIZER;CN="Tillamook Fairview Grange":MAILTO:mary.mcginnis05@gmail.com
END:VEVENT
BEGIN:VEVENT
DTSTART;TZID=America/Los_Angeles:20280211T190000
DTEND;TZID=America/Los_Angeles:20280211T210000
DTSTAMP:20260420T175230
CREATED:20220114T194639Z
LAST-MODIFIED:20220114T194639Z
UID:10019286-1833908400-1833915600@tillamookchamber.org
SUMMARY:Artist/Music Showcase
DESCRIPTION:Local and visiting musicans perform a free concert at the Tillamook Fairview Grange\, featuring Eric Sappington and other musicans and artists monthly. Relax and take in music in one of the best local performance halls.
URL:https://tillamookchamber.org/event/artist-music-showcase/2028-02-11/
LOCATION:Tillamook Fairview Grange\, 5620 E. 3rd Street\, Tillamook\, OR 97141\, OR
CATEGORIES:Community,Live Music
ATTACH;FMTTYPE=image/jpeg:https://tillamookchamber.org/wp-content/uploads/2022/01/eric-at-grange.jpg
ORGANIZER;CN="Tillamook Fairview Grange":MAILTO:mary.mcginnis05@gmail.com
END:VEVENT
BEGIN:VEVENT
DTSTART;TZID=America/Los_Angeles:20280310T190000
DTEND;TZID=America/Los_Angeles:20280310T210000
DTSTAMP:20260420T175230
CREATED:20220114T194639Z
LAST-MODIFIED:20220114T194639Z
UID:10019287-1836327600-1836334800@tillamookchamber.org
SUMMARY:Artist/Music Showcase
DESCRIPTION:Local and visiting musicans perform a free concert at the Tillamook Fairview Grange\, featuring Eric Sappington and other musicans and artists monthly. Relax and take in music in one of the best local performance halls.
URL:https://tillamookchamber.org/event/artist-music-showcase/2028-03-10/
LOCATION:Tillamook Fairview Grange\, 5620 E. 3rd Street\, Tillamook\, OR 97141\, OR
CATEGORIES:Community,Live Music
ATTACH;FMTTYPE=image/jpeg:https://tillamookchamber.org/wp-content/uploads/2022/01/eric-at-grange.jpg
ORGANIZER;CN="Tillamook Fairview Grange":MAILTO:mary.mcginnis05@gmail.com
END:VEVENT
BEGIN:VEVENT
DTSTART;TZID=America/Los_Angeles:20280414T190000
DTEND;TZID=America/Los_Angeles:20280414T210000
DTSTAMP:20260420T175230
CREATED:20220114T194639Z
LAST-MODIFIED:20220114T194639Z
UID:10019288-1839351600-1839358800@tillamookchamber.org
SUMMARY:Artist/Music Showcase
DESCRIPTION:Local and visiting musicans perform a free concert at the Tillamook Fairview Grange\, featuring Eric Sappington and other musicans and artists monthly. Relax and take in music in one of the best local performance halls.
URL:https://tillamookchamber.org/event/artist-music-showcase/2028-04-14/
LOCATION:Tillamook Fairview Grange\, 5620 E. 3rd Street\, Tillamook\, OR 97141\, OR
CATEGORIES:Community,Live Music
ATTACH;FMTTYPE=image/jpeg:https://tillamookchamber.org/wp-content/uploads/2022/01/eric-at-grange.jpg
ORGANIZER;CN="Tillamook Fairview Grange":MAILTO:mary.mcginnis05@gmail.com
END:VEVENT
BEGIN:VEVENT
DTSTART;TZID=America/Los_Angeles:20280512T190000
DTEND;TZID=America/Los_Angeles:20280512T210000
DTSTAMP:20260420T175230
CREATED:20220114T194639Z
LAST-MODIFIED:20220114T194639Z
UID:10019289-1841770800-1841778000@tillamookchamber.org
SUMMARY:Artist/Music Showcase
DESCRIPTION:Local and visiting musicans perform a free concert at the Tillamook Fairview Grange\, featuring Eric Sappington and other musicans and artists monthly. Relax and take in music in one of the best local performance halls.
URL:https://tillamookchamber.org/event/artist-music-showcase/2028-05-12/
LOCATION:Tillamook Fairview Grange\, 5620 E. 3rd Street\, Tillamook\, OR 97141\, OR
CATEGORIES:Community,Live Music
ATTACH;FMTTYPE=image/jpeg:https://tillamookchamber.org/wp-content/uploads/2022/01/eric-at-grange.jpg
ORGANIZER;CN="Tillamook Fairview Grange":MAILTO:mary.mcginnis05@gmail.com
END:VEVENT
BEGIN:VEVENT
DTSTART;TZID=America/Los_Angeles:20280609T190000
DTEND;TZID=America/Los_Angeles:20280609T210000
DTSTAMP:20260420T175230
CREATED:20220114T194639Z
LAST-MODIFIED:20220114T194639Z
UID:10019290-1844190000-1844197200@tillamookchamber.org
SUMMARY:Artist/Music Showcase
DESCRIPTION:Local and visiting musicans perform a free concert at the Tillamook Fairview Grange\, featuring Eric Sappington and other musicans and artists monthly. Relax and take in music in one of the best local performance halls.
URL:https://tillamookchamber.org/event/artist-music-showcase/2028-06-09/
LOCATION:Tillamook Fairview Grange\, 5620 E. 3rd Street\, Tillamook\, OR 97141\, OR
CATEGORIES:Community,Live Music
ATTACH;FMTTYPE=image/jpeg:https://tillamookchamber.org/wp-content/uploads/2022/01/eric-at-grange.jpg
ORGANIZER;CN="Tillamook Fairview Grange":MAILTO:mary.mcginnis05@gmail.com
END:VEVENT
BEGIN:VEVENT
DTSTART;TZID=America/Los_Angeles:20280714T190000
DTEND;TZID=America/Los_Angeles:20280714T210000
DTSTAMP:20260420T175230
CREATED:20220114T194639Z
LAST-MODIFIED:20220114T194639Z
UID:10019291-1847214000-1847221200@tillamookchamber.org
SUMMARY:Artist/Music Showcase
DESCRIPTION:Local and visiting musicans perform a free concert at the Tillamook Fairview Grange\, featuring Eric Sappington and other musicans and artists monthly. Relax and take in music in one of the best local performance halls.
URL:https://tillamookchamber.org/event/artist-music-showcase/2028-07-14/
LOCATION:Tillamook Fairview Grange\, 5620 E. 3rd Street\, Tillamook\, OR 97141\, OR
CATEGORIES:Community,Live Music
ATTACH;FMTTYPE=image/jpeg:https://tillamookchamber.org/wp-content/uploads/2022/01/eric-at-grange.jpg
ORGANIZER;CN="Tillamook Fairview Grange":MAILTO:mary.mcginnis05@gmail.com
END:VEVENT
END:VCALENDAR