BEGIN:VCALENDAR
VERSION:2.0
PRODID:-//Tillamook Area Chamber of Commerce - ECPv6.15.20//NONSGML v1.0//EN
CALSCALE:GREGORIAN
METHOD:PUBLISH
X-WR-CALNAME:Tillamook Area Chamber of Commerce
X-ORIGINAL-URL:https://tillamookchamber.org
X-WR-CALDESC:Events for Tillamook Area Chamber of Commerce
REFRESH-INTERVAL;VALUE=DURATION:PT1H
X-Robots-Tag:noindex
X-PUBLISHED-TTL:PT1H
BEGIN:VTIMEZONE
TZID:America/Los_Angeles
BEGIN:DAYLIGHT
TZOFFSETFROM:-0800
TZOFFSETTO:-0700
TZNAME:PDT
DTSTART:20250309T100000
END:DAYLIGHT
BEGIN:STANDARD
TZOFFSETFROM:-0700
TZOFFSETTO:-0800
TZNAME:PST
DTSTART:20251102T090000
END:STANDARD
BEGIN:DAYLIGHT
TZOFFSETFROM:-0800
TZOFFSETTO:-0700
TZNAME:PDT
DTSTART:20260308T100000
END:DAYLIGHT
BEGIN:STANDARD
TZOFFSETFROM:-0700
TZOFFSETTO:-0800
TZNAME:PST
DTSTART:20261101T090000
END:STANDARD
BEGIN:DAYLIGHT
TZOFFSETFROM:-0800
TZOFFSETTO:-0700
TZNAME:PDT
DTSTART:20270314T100000
END:DAYLIGHT
BEGIN:STANDARD
TZOFFSETFROM:-0700
TZOFFSETTO:-0800
TZNAME:PST
DTSTART:20271107T090000
END:STANDARD
END:VTIMEZONE
BEGIN:VEVENT
DTSTART;TZID=America/Los_Angeles:20260206T080000
DTEND;TZID=America/Los_Angeles:20260206T170000
DTSTAMP:20260420T190442
CREATED:20260121T235205Z
LAST-MODIFIED:20260121T235205Z
UID:10029362-1770364800-1770397200@tillamookchamber.org
SUMMARY:Bay City Arts Center’s First Friday Gallery Opening A Winter Glimpse of the Beloved Ocean Celebration!
DESCRIPTION:Join local communities and visitors alike this February and experience the spirit of the beloved annual Ocean Celebration—traditionally held each August at Cape Lookout—through two special events at the Bay City Arts Center. The events highlight the work of Eduardo Cruz\, a self-taught mixed-media artist\, performer\, and the founder of Huehca Omeyocan\, the cultural group behind the “Ocean Celebration”.  \nTaking place on Friday\, February 6 and Saturday\, February 7\, the events offer two distinct ways to engage—through visual art and live performance. Attendees are welcome to join one or both events to celebrate Eduardo’s artwork\, experience cultural performance\, and learn more about the Ocean Celebration’s decade-long legacy as it approaches its 10th anniversary in 2026. \nOn Friday\, February 6\, Eduardo Cruz will be featured as February’s Artist of the Month during the Bay City Arts Center’s First Friday gallery opening. The exhibit will showcase his visually striking wood-burning artwork\, alongside cultural artifacts from the Ocean Celebration.The evening will also include participation from local environmental partners who help organize the celebration—such as Friends of Netarts Bay WEBS and Oregon Shores—highlighting the powerful intersection of art\, culture\, and environmental stewardship. \nThe celebration continues on Saturday\, February 7\, with a ticketed live performance at the Bay City Arts Center. Huehca Omeyocan\, led by Eduardo Cruz\, will present an Ancestral Music & Dance Celebration\, featuring traditional drumming\, Aztec dance\, and interactive audience participation. “This immersive experience honors the living traditions of Anahuac (Mesoamerican) culture\,” says Cruz. “The performance includes a beautifully curated display of instruments and artifacts from cultures across Mesoamérica\, inviting audiences to engage\, immerse\, and connect with the rhythms and stories of these ancestral traditions.” \nTogether\, these two events offer a rare winter opportunity to experience the creativity\, cultural depth\, and community partnerships that have made the Ocean Celebration a meaningful annual tradition on the Oregon coast. \nEvent Details \n\nGallery Opening: Friday\, February 6\, 5-7 p.m.\, 2026\nLive Performance: Saturday\, February 7\, 6-8:30 p.m.\, 2026\nTickets for Saturday’s live performance are $20. For more information and to purchase tickets online go to:  netartsbaywebs.org/events or https://www.baycityartscenter.com\nLocation: Bay City Arts Center\, 5680 A Street\, Bay City\, OR 97107\n\nStay connected \nEduardo Cruz on instagram: @huehcaomeyocan \nBay City Arts Center: https://baycityartscenter.com  \nFriends of Netarts Bay: https://netartsbaywebs.org Social: @netartsbaywebs \nOregon Shores: https://www.oregonshores.org \nOregon State Parks: https://stateparks.oregon.gov
URL:https://tillamookchamber.org/event/bay-city-arts-centers-first-friday-gallery-opening-a-winter-glimpse-of-the-beloved-ocean-celebration/2026-02-06/1/
LOCATION:Bay City Arts Center\, 5680 A Street\, Bay City\, Oregon 97107
CATEGORIES:Community,Live Music
ATTACH;FMTTYPE=image/png:https://tillamookchamber.org/wp-content/uploads/2026/01/Friday-Event.png
END:VEVENT
BEGIN:VEVENT
DTSTART;TZID=America/Los_Angeles:20260206T163000
DTEND;TZID=America/Los_Angeles:20260206T200000
DTSTAMP:20260420T190442
CREATED:20260119T161321Z
LAST-MODIFIED:20260119T161609Z
UID:10029351-1770395400-1770408000@tillamookchamber.org
SUMMARY:February First Friday at the Blue Heron
DESCRIPTION:Join us for February’s First Friday on February 6th from 4:30 – 8:00 PM! Whether you’re celebrating an early Valentine’s date or just looking for a cozy night out\, we’ve got the perfect atmosphere waiting for you.\n\n\n\nYou can settle in and enjoy the local talents of Eric Sappington performing live while sharing our featured dinner special\, a delicious Fondue for Two. To make the evening even sweeter\, there will be samplings of a decadent Chocolate Bar Port for you to enjoy.\n\n\n\nGrab your favorite person and join us for an evening of great tunes\, amazing food\, and sweet sips—we can’t wait to see you there!
URL:https://tillamookchamber.org/event/february-first-friday/
LOCATION:Blue Heron French Cheese Co.\, 2001 Blue Heron Rd A\, Tillamook\, OR 97141\, OR
CATEGORIES:Community,Live Music
ATTACH;FMTTYPE=image/png:https://tillamookchamber.org/wp-content/uploads/2026/01/January_FF_Instagram-.png
END:VEVENT
BEGIN:VEVENT
DTSTART;TZID=America/Los_Angeles:20260206T170000
DTEND;TZID=America/Los_Angeles:20260206T190000
DTSTAMP:20260420T190442
CREATED:20260121T235205Z
LAST-MODIFIED:20260121T235205Z
UID:10029363-1770397200-1770404400@tillamookchamber.org
SUMMARY:Bay City Arts Center’s First Friday Gallery Opening A Winter Glimpse of the Beloved Ocean Celebration!
DESCRIPTION:Join local communities and visitors alike this February and experience the spirit of the beloved annual Ocean Celebration—traditionally held each August at Cape Lookout—through two special events at the Bay City Arts Center. The events highlight the work of Eduardo Cruz\, a self-taught mixed-media artist\, performer\, and the founder of Huehca Omeyocan\, the cultural group behind the “Ocean Celebration”.  \nTaking place on Friday\, February 6 and Saturday\, February 7\, the events offer two distinct ways to engage—through visual art and live performance. Attendees are welcome to join one or both events to celebrate Eduardo’s artwork\, experience cultural performance\, and learn more about the Ocean Celebration’s decade-long legacy as it approaches its 10th anniversary in 2026. \nOn Friday\, February 6\, Eduardo Cruz will be featured as February’s Artist of the Month during the Bay City Arts Center’s First Friday gallery opening. The exhibit will showcase his visually striking wood-burning artwork\, alongside cultural artifacts from the Ocean Celebration.The evening will also include participation from local environmental partners who help organize the celebration—such as Friends of Netarts Bay WEBS and Oregon Shores—highlighting the powerful intersection of art\, culture\, and environmental stewardship. \nThe celebration continues on Saturday\, February 7\, with a ticketed live performance at the Bay City Arts Center. Huehca Omeyocan\, led by Eduardo Cruz\, will present an Ancestral Music & Dance Celebration\, featuring traditional drumming\, Aztec dance\, and interactive audience participation. “This immersive experience honors the living traditions of Anahuac (Mesoamerican) culture\,” says Cruz. “The performance includes a beautifully curated display of instruments and artifacts from cultures across Mesoamérica\, inviting audiences to engage\, immerse\, and connect with the rhythms and stories of these ancestral traditions.” \nTogether\, these two events offer a rare winter opportunity to experience the creativity\, cultural depth\, and community partnerships that have made the Ocean Celebration a meaningful annual tradition on the Oregon coast. \nEvent Details \n\nGallery Opening: Friday\, February 6\, 5-7 p.m.\, 2026\nLive Performance: Saturday\, February 7\, 6-8:30 p.m.\, 2026\nTickets for Saturday’s live performance are $20. For more information and to purchase tickets online go to:  netartsbaywebs.org/events or https://www.baycityartscenter.com\nLocation: Bay City Arts Center\, 5680 A Street\, Bay City\, OR 97107\n\nStay connected \nEduardo Cruz on instagram: @huehcaomeyocan \nBay City Arts Center: https://baycityartscenter.com  \nFriends of Netarts Bay: https://netartsbaywebs.org Social: @netartsbaywebs \nOregon Shores: https://www.oregonshores.org \nOregon State Parks: https://stateparks.oregon.gov
URL:https://tillamookchamber.org/event/bay-city-arts-centers-first-friday-gallery-opening-a-winter-glimpse-of-the-beloved-ocean-celebration/2026-02-06/2/
LOCATION:Bay City Arts Center\, 5680 A Street\, Bay City\, Oregon 97107
CATEGORIES:Community,Live Music
ATTACH;FMTTYPE=image/png:https://tillamookchamber.org/wp-content/uploads/2026/01/Friday-Event.png
END:VEVENT
BEGIN:VEVENT
DTSTART;TZID=America/Los_Angeles:20260207T180000
DTEND;TZID=America/Los_Angeles:20260208T203000
DTSTAMP:20260420T190442
CREATED:20260121T235205Z
LAST-MODIFIED:20260121T235205Z
UID:10029364-1770487200-1770582600@tillamookchamber.org
SUMMARY:Bay City Arts Center’s First Friday Gallery Opening A Winter Glimpse of the Beloved Ocean Celebration!
DESCRIPTION:Join local communities and visitors alike this February and experience the spirit of the beloved annual Ocean Celebration—traditionally held each August at Cape Lookout—through two special events at the Bay City Arts Center. The events highlight the work of Eduardo Cruz\, a self-taught mixed-media artist\, performer\, and the founder of Huehca Omeyocan\, the cultural group behind the “Ocean Celebration”.  \nTaking place on Friday\, February 6 and Saturday\, February 7\, the events offer two distinct ways to engage—through visual art and live performance. Attendees are welcome to join one or both events to celebrate Eduardo’s artwork\, experience cultural performance\, and learn more about the Ocean Celebration’s decade-long legacy as it approaches its 10th anniversary in 2026. \nOn Friday\, February 6\, Eduardo Cruz will be featured as February’s Artist of the Month during the Bay City Arts Center’s First Friday gallery opening. The exhibit will showcase his visually striking wood-burning artwork\, alongside cultural artifacts from the Ocean Celebration.The evening will also include participation from local environmental partners who help organize the celebration—such as Friends of Netarts Bay WEBS and Oregon Shores—highlighting the powerful intersection of art\, culture\, and environmental stewardship. \nThe celebration continues on Saturday\, February 7\, with a ticketed live performance at the Bay City Arts Center. Huehca Omeyocan\, led by Eduardo Cruz\, will present an Ancestral Music & Dance Celebration\, featuring traditional drumming\, Aztec dance\, and interactive audience participation. “This immersive experience honors the living traditions of Anahuac (Mesoamerican) culture\,” says Cruz. “The performance includes a beautifully curated display of instruments and artifacts from cultures across Mesoamérica\, inviting audiences to engage\, immerse\, and connect with the rhythms and stories of these ancestral traditions.” \nTogether\, these two events offer a rare winter opportunity to experience the creativity\, cultural depth\, and community partnerships that have made the Ocean Celebration a meaningful annual tradition on the Oregon coast. \nEvent Details \n\nGallery Opening: Friday\, February 6\, 5-7 p.m.\, 2026\nLive Performance: Saturday\, February 7\, 6-8:30 p.m.\, 2026\nTickets for Saturday’s live performance are $20. For more information and to purchase tickets online go to:  netartsbaywebs.org/events or https://www.baycityartscenter.com\nLocation: Bay City Arts Center\, 5680 A Street\, Bay City\, OR 97107\n\nStay connected \nEduardo Cruz on instagram: @huehcaomeyocan \nBay City Arts Center: https://baycityartscenter.com  \nFriends of Netarts Bay: https://netartsbaywebs.org Social: @netartsbaywebs \nOregon Shores: https://www.oregonshores.org \nOregon State Parks: https://stateparks.oregon.gov
URL:https://tillamookchamber.org/event/bay-city-arts-centers-first-friday-gallery-opening-a-winter-glimpse-of-the-beloved-ocean-celebration/2026-02-07/
LOCATION:Bay City Arts Center\, 5680 A Street\, Bay City\, Oregon 97107
CATEGORIES:Community,Live Music
ATTACH;FMTTYPE=image/png:https://tillamookchamber.org/wp-content/uploads/2026/01/Friday-Event.png
END:VEVENT
BEGIN:VEVENT
DTSTART;TZID=America/Los_Angeles:20260207T190000
DTEND;TZID=America/Los_Angeles:20260207T210000
DTSTAMP:20260420T190442
CREATED:20250523T204532Z
LAST-MODIFIED:20250529T195335Z
UID:10021976-1770490800-1770498000@tillamookchamber.org
SUMMARY:Live Music!
DESCRIPTION:Live music every Saturday from 7–9pm in The Schooner Lounge—because your weekend deserves a soundtrack. \nKick back to the sounds of local musicians\, stay for the crave-worthy eats\, craft cocktails\, cold beers\, and our fabulous crew who always bring the good vibes. \nCurious who’s playing? Check out our lineup of Oregon-grown talent on our website!
URL:https://tillamookchamber.org/event/live-music/2026-02-07/
LOCATION:The Schooner Restaurant & Lounge\, 2065 Boat Basin Rd
CATEGORIES:Arts and Culture,Live Music
ATTACH;FMTTYPE=image/jpeg:https://tillamookchamber.org/wp-content/uploads/2025/05/Schooner-music-scaled.jpeg
END:VEVENT
BEGIN:VEVENT
DTSTART;TZID=America/Los_Angeles:20260209T080000
DTEND;TZID=America/Los_Angeles:20260209T170000
DTSTAMP:20260420T190442
CREATED:20260127T173929Z
LAST-MODIFIED:20260128T231450Z
UID:10029371-1770624000-1770656400@tillamookchamber.org
SUMMARY:Monday Musical Club of Tillamook  February Program "Love at the Movies"
DESCRIPTION:Monday Musical Club of Tillamook will hold Its February program\, \non Monday February 9th at 7pm at the First Christian Church on \n2203 4th Street. \nAn  “Love at the Movies” will feature love songs and \nmovie clips from favorite romantic movies. \nCome and bring a friend and enjoy a musical evening of live music \nby  local musicians. \nThere is no admission charge and it is open to the public
URL:https://tillamookchamber.org/event/monday-musical-club-of-tillamook-february-program-love-at-the-movies/
LOCATION:First Christian Church\, 2203 4th Street\, OR\, United States
CATEGORIES:Community,Live Music
ATTACH;FMTTYPE=image/jpeg:https://tillamookchamber.org/wp-content/uploads/2026/01/Feb-26-Love-at-the-Movies-.98MB.jpg
END:VEVENT
BEGIN:VEVENT
DTSTART;TZID=America/Los_Angeles:20260209T190000
DTEND;TZID=America/Los_Angeles:20260209T203000
DTSTAMP:20260420T190442
CREATED:20260127T173929Z
LAST-MODIFIED:20260128T231450Z
UID:10029372-1770663600-1770669000@tillamookchamber.org
SUMMARY:Monday Musical Club of Tillamook  February Program "Love at the Movies"
DESCRIPTION:Monday Musical Club of Tillamook will hold Its February program\, \non Monday February 9th at 7pm at the First Christian Church on \n2203 4th Street. \nAn  “Love at the Movies” will feature love songs and \nmovie clips from favorite romantic movies. \nCome and bring a friend and enjoy a musical evening of live music \nby  local musicians. \nThere is no admission charge and it is open to the public
URL:https://tillamookchamber.org/event/monday-musical-club-of-tillamook-february-program-love-at-the-movies/
LOCATION:First Christian Church\, 2203 4th Street\, OR\, United States
CATEGORIES:Community,Live Music
ATTACH;FMTTYPE=image/jpeg:https://tillamookchamber.org/wp-content/uploads/2026/01/Feb-26-Love-at-the-Movies-.98MB.jpg
END:VEVENT
BEGIN:VEVENT
DTSTART;TZID=America/Los_Angeles:20260213T190000
DTEND;TZID=America/Los_Angeles:20260213T210000
DTSTAMP:20260420T190442
CREATED:20220114T194639Z
LAST-MODIFIED:20220114T194639Z
UID:10019262-1771009200-1771016400@tillamookchamber.org
SUMMARY:Artist/Music Showcase
DESCRIPTION:Local and visiting musicans perform a free concert at the Tillamook Fairview Grange\, featuring Eric Sappington and other musicans and artists monthly. Relax and take in music in one of the best local performance halls.
URL:https://tillamookchamber.org/event/artist-music-showcase/2026-02-13/
LOCATION:Tillamook Fairview Grange\, 5620 E. 3rd Street\, Tillamook\, OR 97141\, OR
CATEGORIES:Community,Live Music
ATTACH;FMTTYPE=image/jpeg:https://tillamookchamber.org/wp-content/uploads/2022/01/eric-at-grange.jpg
ORGANIZER;CN="Tillamook Fairview Grange":MAILTO:mary.mcginnis05@gmail.com
END:VEVENT
BEGIN:VEVENT
DTSTART;TZID=America/Los_Angeles:20260214T190000
DTEND;TZID=America/Los_Angeles:20260214T210000
DTSTAMP:20260420T190442
CREATED:20250523T204532Z
LAST-MODIFIED:20250529T195335Z
UID:10021977-1771095600-1771102800@tillamookchamber.org
SUMMARY:Live Music!
DESCRIPTION:Live music every Saturday from 7–9pm in The Schooner Lounge—because your weekend deserves a soundtrack. \nKick back to the sounds of local musicians\, stay for the crave-worthy eats\, craft cocktails\, cold beers\, and our fabulous crew who always bring the good vibes. \nCurious who’s playing? Check out our lineup of Oregon-grown talent on our website!
URL:https://tillamookchamber.org/event/live-music/2026-02-14/
LOCATION:The Schooner Restaurant & Lounge\, 2065 Boat Basin Rd
CATEGORIES:Arts and Culture,Live Music
ATTACH;FMTTYPE=image/jpeg:https://tillamookchamber.org/wp-content/uploads/2025/05/Schooner-music-scaled.jpeg
END:VEVENT
BEGIN:VEVENT
DTSTART;TZID=America/Los_Angeles:20260214T190000
DTEND;TZID=America/Los_Angeles:20260214T210000
DTSTAMP:20260420T190442
CREATED:20260127T174902Z
LAST-MODIFIED:20260127T174902Z
UID:10029373-1771095600-1771102800@tillamookchamber.org
SUMMARY:A Valentine's Show
DESCRIPTION:Love Me\, Love Me Not \nEnjoy an evening of Gutsy Folk by Mana Stanaway and Indie Folk Rock by Katelyn Convery. \nTake your Valentine out or just come and enjoy some great music\, February 14th starting at 7:00 pm. at Fairview Grange\, 5520 3rd St.\, Tillamook \nGet advanced tickets at Hygge Kitchen (110 Stillwell Ave.) Advance tickets $20\, at the door $25 \n 
URL:https://tillamookchamber.org/event/a-valentines-show/
LOCATION:Fairview Grange\, 5520 3rd St\, Tillamook\, OR\, United States\, Oregon
CATEGORIES:Community,Holiday,Live Music
ATTACH;FMTTYPE=application/pdf:https://tillamookchamber.org/wp-content/uploads/2026/01/Valentines-Poster-2026.pdf
END:VEVENT
BEGIN:VEVENT
DTSTART;TZID=America/Los_Angeles:20260221T190000
DTEND;TZID=America/Los_Angeles:20260221T210000
DTSTAMP:20260420T190442
CREATED:20250523T204532Z
LAST-MODIFIED:20250529T195335Z
UID:10021978-1771700400-1771707600@tillamookchamber.org
SUMMARY:Live Music!
DESCRIPTION:Live music every Saturday from 7–9pm in The Schooner Lounge—because your weekend deserves a soundtrack. \nKick back to the sounds of local musicians\, stay for the crave-worthy eats\, craft cocktails\, cold beers\, and our fabulous crew who always bring the good vibes. \nCurious who’s playing? Check out our lineup of Oregon-grown talent on our website!
URL:https://tillamookchamber.org/event/live-music/2026-02-21/
LOCATION:The Schooner Restaurant & Lounge\, 2065 Boat Basin Rd
CATEGORIES:Arts and Culture,Live Music
ATTACH;FMTTYPE=image/jpeg:https://tillamookchamber.org/wp-content/uploads/2025/05/Schooner-music-scaled.jpeg
END:VEVENT
BEGIN:VEVENT
DTSTART;TZID=America/Los_Angeles:20260227T180000
DTEND;TZID=America/Los_Angeles:20260227T200000
DTSTAMP:20260420T190442
CREATED:20260220T163617Z
LAST-MODIFIED:20260220T163617Z
UID:10029545-1772215200-1772222400@tillamookchamber.org
SUMMARY:After the Fire Benefit Concert for Scott Casey & Cosmo Jones
DESCRIPTION:Some good friends experienced a huge fire at the end of January and lost all the contents of a building on their property\, which contained two recording studios\, a myriad of musical instruments\, stage equipment\, lights\, computers\, and their livelihoods. Moss Creek Studios\, Coastal AV\, and Crow Cane Studios were completely destroyed.\n\nA bunch of us who love them would really like to provide support to cover the cost of things insurance will not provide. All of the people involved are the kind of people who have helped everyone around them in multiple ways\, on multiple occasions. They are a big part of the heart of our community. Money won’t replace the lost treasures and memories\, but it can help lighten the pain of starting over. Suggested donation is $10 for this event\, plus we are raffling off a brand new Taylor Guitar to one lucky person!
URL:https://tillamookchamber.org/event/after-the-fire-benefit-concert-for-scott-casey-cosmo-jones/
LOCATION:Tillamook Eagles #2144\, 209 Stillwell Ave
CATEGORIES:Community,Fundraisers,Live Music
ATTACH;FMTTYPE=image/jpeg:https://tillamookchamber.org/wp-content/uploads/2026/02/After-the-Fire.jpg
END:VEVENT
BEGIN:VEVENT
DTSTART;TZID=America/Los_Angeles:20260228T190000
DTEND;TZID=America/Los_Angeles:20260228T210000
DTSTAMP:20260420T190442
CREATED:20250523T204532Z
LAST-MODIFIED:20250529T195335Z
UID:10021979-1772305200-1772312400@tillamookchamber.org
SUMMARY:Live Music!
DESCRIPTION:Live music every Saturday from 7–9pm in The Schooner Lounge—because your weekend deserves a soundtrack. \nKick back to the sounds of local musicians\, stay for the crave-worthy eats\, craft cocktails\, cold beers\, and our fabulous crew who always bring the good vibes. \nCurious who’s playing? Check out our lineup of Oregon-grown talent on our website!
URL:https://tillamookchamber.org/event/live-music/2026-02-28/
LOCATION:The Schooner Restaurant & Lounge\, 2065 Boat Basin Rd
CATEGORIES:Arts and Culture,Live Music
ATTACH;FMTTYPE=image/jpeg:https://tillamookchamber.org/wp-content/uploads/2025/05/Schooner-music-scaled.jpeg
END:VEVENT
END:VCALENDAR