BEGIN:VCALENDAR
VERSION:2.0
PRODID:-//Tillamook Area Chamber of Commerce - ECPv6.15.20//NONSGML v1.0//EN
CALSCALE:GREGORIAN
METHOD:PUBLISH
X-ORIGINAL-URL:https://tillamookchamber.org
X-WR-CALDESC:Events for Tillamook Area Chamber of Commerce
REFRESH-INTERVAL;VALUE=DURATION:PT1H
X-Robots-Tag:noindex
X-PUBLISHED-TTL:PT1H
BEGIN:VTIMEZONE
TZID:America/Los_Angeles
BEGIN:DAYLIGHT
TZOFFSETFROM:-0800
TZOFFSETTO:-0700
TZNAME:PDT
DTSTART:20240310T100000
END:DAYLIGHT
BEGIN:STANDARD
TZOFFSETFROM:-0700
TZOFFSETTO:-0800
TZNAME:PST
DTSTART:20241103T090000
END:STANDARD
BEGIN:DAYLIGHT
TZOFFSETFROM:-0800
TZOFFSETTO:-0700
TZNAME:PDT
DTSTART:20250309T100000
END:DAYLIGHT
BEGIN:STANDARD
TZOFFSETFROM:-0700
TZOFFSETTO:-0800
TZNAME:PST
DTSTART:20251102T090000
END:STANDARD
BEGIN:DAYLIGHT
TZOFFSETFROM:-0800
TZOFFSETTO:-0700
TZNAME:PDT
DTSTART:20260308T100000
END:DAYLIGHT
BEGIN:STANDARD
TZOFFSETFROM:-0700
TZOFFSETTO:-0800
TZNAME:PST
DTSTART:20261101T090000
END:STANDARD
END:VTIMEZONE
BEGIN:VEVENT
DTSTART;TZID=America/Los_Angeles:20250607T190000
DTEND;TZID=America/Los_Angeles:20250607T210000
DTSTAMP:20260421T080449
CREATED:20250523T204532Z
LAST-MODIFIED:20250529T195335Z
UID:10021941-1749322800-1749330000@tillamookchamber.org
SUMMARY:Live Music!
DESCRIPTION:Live music every Saturday from 7–9pm in The Schooner Lounge—because your weekend deserves a soundtrack. \nKick back to the sounds of local musicians\, stay for the crave-worthy eats\, craft cocktails\, cold beers\, and our fabulous crew who always bring the good vibes. \nCurious who’s playing? Check out our lineup of Oregon-grown talent on our website!
URL:https://tillamookchamber.org/event/live-music/2025-06-07/
LOCATION:The Schooner Restaurant & Lounge\, 2065 Boat Basin Rd
CATEGORIES:Arts and Culture,Live Music
ATTACH;FMTTYPE=image/jpeg:https://tillamookchamber.org/wp-content/uploads/2025/05/Schooner-music-scaled.jpeg
END:VEVENT
BEGIN:VEVENT
DTSTART;TZID=America/Los_Angeles:20250613T190000
DTEND;TZID=America/Los_Angeles:20250613T210000
DTSTAMP:20260421T080449
CREATED:20220114T194639Z
LAST-MODIFIED:20220114T194639Z
UID:10019254-1749841200-1749848400@tillamookchamber.org
SUMMARY:Artist/Music Showcase
DESCRIPTION:Local and visiting musicans perform a free concert at the Tillamook Fairview Grange\, featuring Eric Sappington and other musicans and artists monthly. Relax and take in music in one of the best local performance halls.
URL:https://tillamookchamber.org/event/artist-music-showcase/2025-06-13/
LOCATION:Tillamook Fairview Grange\, 5620 E. 3rd Street\, Tillamook\, OR 97141\, OR
CATEGORIES:Community,Live Music
ATTACH;FMTTYPE=image/jpeg:https://tillamookchamber.org/wp-content/uploads/2022/01/eric-at-grange.jpg
ORGANIZER;CN="Tillamook Fairview Grange":MAILTO:mary.mcginnis05@gmail.com
END:VEVENT
BEGIN:VEVENT
DTSTART;TZID=America/Los_Angeles:20250614T150000
DTEND;TZID=America/Los_Angeles:20250614T170000
DTSTAMP:20260421T080449
CREATED:20250514T211727Z
LAST-MODIFIED:20250514T211727Z
UID:10021396-1749913200-1749920400@tillamookchamber.org
SUMMARY:Symphony presents concerts in June
DESCRIPTION:The North Oregon Coast Symphony finishes its 2024-2025 season with two concerts in June titled “Echoes of the New World.” The programs will feature Antonín Dvořák’s beloved Symphony #9\, also known as the New World Symphony. \nAlso featured will be two pieces spotlighting NOCS’s graduating high school seniors.  Dylan Morrow will be the soloist for Max Bruch’s Kol Nidrei for Cello and Orchestra\, and violinist Audrey Cereghino for Soon Hee Newbold’s Invicta. \nJohann Strauss Jr.’s Emperor Waltz will round out this concert series. \nThe first concert will take place on Saturday\, June 14 at the Nehalem Elementary School Gym (36300 8th St.\, Nehalem\, OR) beginning at 3:00 pm. \nThe second concert will be on Sunday\, June 15\, at the Charlene Larsen Center for the Performing Arts (588 16th St.\, Astoria\, OR) at 3:00 pm. \n  \nAdmission for both concerts will be: $10 Adults\, ages 18 and under FREE (children 12 and under with adult supervision).   \nTickets will be available at the door for the Nehalem concert (cash and personal checks only.) \nTickets for the Astoria concert will be sold online at charlenelarsencenter.org or by phone at 503 338 9132.  Cookies and refreshments will be available at both concerts during intermission. \n  \nThis non-profit orchestra\, under the direction of conductor Cory Pederson\, brings together musicians from the north Oregon and south Washington coast to perform classical music for local audiences.  For more information\, please visit the the NOCS website nocsymphony.org.
URL:https://tillamookchamber.org/event/symphony-presents-concerts-in-june/
LOCATION:Nehalem Elementary School Gym\, 36300 8th St.\, Nehalem
CATEGORIES:Community,Live Music
END:VEVENT
BEGIN:VEVENT
DTSTART;TZID=America/Los_Angeles:20250614T170000
DTEND;TZID=America/Los_Angeles:20250614T190000
DTSTAMP:20260421T080449
CREATED:20250117T225012Z
LAST-MODIFIED:20250117T225012Z
UID:10017770-1749920400-1749927600@tillamookchamber.org
SUMMARY:Live Music at the Pelican Brewing Taproom
DESCRIPTION:Enjoy your favorite brews on the patio while enjoying local favorite Indie Southern Rock MOJO HOLLER
URL:https://tillamookchamber.org/event/live-music-at-the-pelican-brewing-taproom-8/
LOCATION:Pelican Brewing Tillamook Taproom\, 1708 First Street
CATEGORIES:Community,Live Music
ATTACH;FMTTYPE=image/png:https://tillamookchamber.org/wp-content/uploads/2025/01/Picture2.png
END:VEVENT
BEGIN:VEVENT
DTSTART;TZID=America/Los_Angeles:20250614T190000
DTEND;TZID=America/Los_Angeles:20250614T210000
DTSTAMP:20260421T080449
CREATED:20250523T204532Z
LAST-MODIFIED:20250529T195335Z
UID:10021942-1749927600-1749934800@tillamookchamber.org
SUMMARY:Live Music!
DESCRIPTION:Live music every Saturday from 7–9pm in The Schooner Lounge—because your weekend deserves a soundtrack. \nKick back to the sounds of local musicians\, stay for the crave-worthy eats\, craft cocktails\, cold beers\, and our fabulous crew who always bring the good vibes. \nCurious who’s playing? Check out our lineup of Oregon-grown talent on our website!
URL:https://tillamookchamber.org/event/live-music/2025-06-14/
LOCATION:The Schooner Restaurant & Lounge\, 2065 Boat Basin Rd
CATEGORIES:Arts and Culture,Live Music
ATTACH;FMTTYPE=image/jpeg:https://tillamookchamber.org/wp-content/uploads/2025/05/Schooner-music-scaled.jpeg
END:VEVENT
BEGIN:VEVENT
DTSTART;TZID=America/Los_Angeles:20250621T190000
DTEND;TZID=America/Los_Angeles:20250621T210000
DTSTAMP:20260421T080449
CREATED:20250523T204532Z
LAST-MODIFIED:20250529T195335Z
UID:10021943-1750532400-1750539600@tillamookchamber.org
SUMMARY:Live Music!
DESCRIPTION:Live music every Saturday from 7–9pm in The Schooner Lounge—because your weekend deserves a soundtrack. \nKick back to the sounds of local musicians\, stay for the crave-worthy eats\, craft cocktails\, cold beers\, and our fabulous crew who always bring the good vibes. \nCurious who’s playing? Check out our lineup of Oregon-grown talent on our website!
URL:https://tillamookchamber.org/event/live-music/2025-06-21/
LOCATION:The Schooner Restaurant & Lounge\, 2065 Boat Basin Rd
CATEGORIES:Arts and Culture,Live Music
ATTACH;FMTTYPE=image/jpeg:https://tillamookchamber.org/wp-content/uploads/2025/05/Schooner-music-scaled.jpeg
END:VEVENT
BEGIN:VEVENT
DTSTART;TZID=America/Los_Angeles:20250628T190000
DTEND;TZID=America/Los_Angeles:20250628T210000
DTSTAMP:20260421T080449
CREATED:20250523T204532Z
LAST-MODIFIED:20250529T195335Z
UID:10021944-1751137200-1751144400@tillamookchamber.org
SUMMARY:Live Music!
DESCRIPTION:Live music every Saturday from 7–9pm in The Schooner Lounge—because your weekend deserves a soundtrack. \nKick back to the sounds of local musicians\, stay for the crave-worthy eats\, craft cocktails\, cold beers\, and our fabulous crew who always bring the good vibes. \nCurious who’s playing? Check out our lineup of Oregon-grown talent on our website!
URL:https://tillamookchamber.org/event/live-music/2025-06-28/
LOCATION:The Schooner Restaurant & Lounge\, 2065 Boat Basin Rd
CATEGORIES:Arts and Culture,Live Music
ATTACH;FMTTYPE=image/jpeg:https://tillamookchamber.org/wp-content/uploads/2025/05/Schooner-music-scaled.jpeg
END:VEVENT
END:VCALENDAR