BEGIN:VCALENDAR
VERSION:2.0
PRODID:-//Tillamook Area Chamber of Commerce - ECPv6.15.20//NONSGML v1.0//EN
CALSCALE:GREGORIAN
METHOD:PUBLISH
X-ORIGINAL-URL:https://tillamookchamber.org
X-WR-CALDESC:Events for Tillamook Area Chamber of Commerce
REFRESH-INTERVAL;VALUE=DURATION:PT1H
X-Robots-Tag:noindex
X-PUBLISHED-TTL:PT1H
BEGIN:VTIMEZONE
TZID:America/Los_Angeles
BEGIN:DAYLIGHT
TZOFFSETFROM:-0800
TZOFFSETTO:-0700
TZNAME:PDT
DTSTART:20240310T100000
END:DAYLIGHT
BEGIN:STANDARD
TZOFFSETFROM:-0700
TZOFFSETTO:-0800
TZNAME:PST
DTSTART:20241103T090000
END:STANDARD
BEGIN:DAYLIGHT
TZOFFSETFROM:-0800
TZOFFSETTO:-0700
TZNAME:PDT
DTSTART:20250309T100000
END:DAYLIGHT
BEGIN:STANDARD
TZOFFSETFROM:-0700
TZOFFSETTO:-0800
TZNAME:PST
DTSTART:20251102T090000
END:STANDARD
BEGIN:DAYLIGHT
TZOFFSETFROM:-0800
TZOFFSETTO:-0700
TZNAME:PDT
DTSTART:20260308T100000
END:DAYLIGHT
BEGIN:STANDARD
TZOFFSETFROM:-0700
TZOFFSETTO:-0800
TZNAME:PST
DTSTART:20261101T090000
END:STANDARD
END:VTIMEZONE
BEGIN:VEVENT
DTSTART;TZID=America/Los_Angeles:20250502T170000
DTEND;TZID=America/Los_Angeles:20250502T190000
DTSTAMP:20260421T110556
CREATED:20250117T224934Z
LAST-MODIFIED:20250422T225956Z
UID:10017769-1746205200-1746212400@tillamookchamber.org
SUMMARY:Live Music at the Pelican Brewing Taproom
DESCRIPTION:Enjoy your favorite brew on our patio while enjoying the country & western stylings of Woody Davidson
URL:https://tillamookchamber.org/event/live-music-at-the-pelican-brewing-taproom-7/
LOCATION:Pelican Brewing Tillamook Taproom\, 1708 First Street
CATEGORIES:Community,Live Music
ATTACH;FMTTYPE=image/png:https://tillamookchamber.org/wp-content/uploads/2025/01/Picture1.png
END:VEVENT
BEGIN:VEVENT
DTSTART;TZID=America/Los_Angeles:20250503T120000
DTEND;TZID=America/Los_Angeles:20250503T180000
DTSTAMP:20260421T110556
CREATED:20250313T224112Z
LAST-MODIFIED:20250313T224126Z
UID:10019080-1746273600-1746295200@tillamookchamber.org
SUMMARY:de Garde's 12th Anniversary Invitational
DESCRIPTION:We’re throwing a party like no other. \nThe event will be a celebration of place\, as well as of beer. There will be live music performed by some of the best regional artists throughout the event\, as well as excellent food vendors representing the diverse culinary delights of our area. \nMore details & tickets available here: https://12thanniversaryinvitational.eventbrite.com/
URL:https://tillamookchamber.org/event/de-gardes-12th-anniversary-invitational/
LOCATION:Tillamook County Fairgrounds\, 4603 3rd St\, Tillamook\, OR\, 97141\, United States
CATEGORIES:Community,Festivals and Events,Live Music
END:VEVENT
BEGIN:VEVENT
DTSTART;TZID=America/Los_Angeles:20250504T030000
DTEND;TZID=America/Los_Angeles:20250504T170000
DTSTAMP:20260421T110556
CREATED:20250418T223945Z
LAST-MODIFIED:20250418T223945Z
UID:10020345-1746327600-1746378000@tillamookchamber.org
SUMMARY:Cannon Beach Chorus Presents Spring Concert in Nehalem
DESCRIPTION:  \nCannon Beach Chorus’s 2025 spring concert celebrates its 37th year of performing fine choral music.   The “Dancing Through Life” concert will be held at Nehalem Bay Methodist Church. \nThe program will include Dancing Through Life (from “Wicked”)\, Both Sides Now\, When I Am 64\, and many more family-friendly musical favorites. Several pieces feature chorus members as soloists.  Roy Sieber directs and Carson Schulte provides piano accompaniment. The chorus’s singers hail from Astoria to Oceanside. \nAn intermission with light refreshments will be offered. Donation tickets are sold at the door:  $15 adults\, children under 16 free. \nPhoto credit: Travis Williams\, Broken Banjo Photograph
URL:https://tillamookchamber.org/event/cannon-beach-chorus-presents-spring-concert-in-nehalem/
LOCATION:OR
CATEGORIES:Community,Live Music
END:VEVENT
BEGIN:VEVENT
DTSTART;TZID=America/Los_Angeles:20250504T080000
DTEND;TZID=America/Los_Angeles:20250504T170000
DTSTAMP:20260421T110556
CREATED:20250407T232236Z
LAST-MODIFIED:20250407T232236Z
UID:10020325-1746345600-1746378000@tillamookchamber.org
SUMMARY:Pacifica String Quartet
DESCRIPTION:With a career spanning nearly three decades\, the multiple Grammy Award-winning Pacifica Quartet has achieved international recogni tion as one of the finest chamber ensembles performing today. The Quartet is known for its virtuosity\, exuberant performance style\, and often-daring repertory choices. Having served as quartet-in-residence at Indiana University’s Jacobs School of Music for the past decade\, the Quartet also leads the Center for Advanced Quartet Studies at the Aspen Music Festival and School\, and was previously the quartet-in residence at the Metropolitan Museum of Art. In 2021\, the Pacifica Quartet received a second Grammy Award for Contemporary Voices\, an exploration of music by three Pulitzer Prize-winning composers: Shulamit Ran\, Jennifer Higdon\, and Ellen Taaffe Zwilich. \n​Formed in 1994\, the Pacifica Quartet quickly won chamber music’s top competitions\, including the 1998 Naumburg Chamber Music Award. In 2002 the ensemble was honored with Chamber Music America’s Cleveland Quartet Award and the appointment to Lincoln Center’s The Bowers Program (formerly CMS Two)\, and in 2006 was awarded a prestigious Avery Fisher Career Grant. With its powerful energy and captivating\, cohesive sound\, the Pacifica has established itself as the embodiment of the senior American quartet sound.
URL:https://tillamookchamber.org/event/pacifica-string-quartet/
LOCATION:Chapel of Wi-Ne-Ma Christian Camp\, 5195 Winema Road
CATEGORIES:Community,Live Music
ATTACH;FMTTYPE=image/jpeg:https://tillamookchamber.org/wp-content/uploads/2025/04/8007_orig.jpg
END:VEVENT
BEGIN:VEVENT
DTSTART;TZID=America/Los_Angeles:20250509T160000
DTEND;TZID=America/Los_Angeles:20250509T170000
DTSTAMP:20260421T110556
CREATED:20250404T182041Z
LAST-MODIFIED:20250404T182041Z
UID:10020315-1746806400-1746810000@tillamookchamber.org
SUMMARY:Sean Gaskell West African Kora Music at Tillamook Main
DESCRIPTION:The performance will take place at the Tillamook County Library\, 1716 3rd St. in Tillamook\, OR on Friday\, May 9th\, 2025 at 4pm. \nSean Gaskell features songs on the kora- a 21 stringed West African harp. He studied under the extensive instruction of Moriba Kuyateh and the late Malamini Jobarteh in Gambia\, and both Youssoupha Cissokho and Mamadou Cissokho in Senegal. The kora is traditionally played by oral historians known as Griots. Many songs featured on the kora preserve an 800 year history dating back to the founding of the Mande empire. Gaskell has presented adult\, youth and family programs at over 400 libraries and a multitude of k-12 schools\, colleges\, universities and assisted living facilities throughout the United States and Canada.
URL:https://tillamookchamber.org/event/sean-gaskell-west-african-kora-music-at-tillamook-main/
LOCATION:Tillamook County Library\, 1716 3rd Street Tillamook Oregon 97141
CATEGORIES:Community,Live Music
END:VEVENT
BEGIN:VEVENT
DTSTART;TZID=America/Los_Angeles:20250509T190000
DTEND;TZID=America/Los_Angeles:20250509T210000
DTSTAMP:20260421T110556
CREATED:20220114T194639Z
LAST-MODIFIED:20220114T194639Z
UID:10019253-1746817200-1746824400@tillamookchamber.org
SUMMARY:Artist/Music Showcase
DESCRIPTION:Local and visiting musicans perform a free concert at the Tillamook Fairview Grange\, featuring Eric Sappington and other musicans and artists monthly. Relax and take in music in one of the best local performance halls.
URL:https://tillamookchamber.org/event/artist-music-showcase/2025-05-09/
LOCATION:Tillamook Fairview Grange\, 5620 E. 3rd Street\, Tillamook\, OR 97141\, OR
CATEGORIES:Community,Live Music
ATTACH;FMTTYPE=image/jpeg:https://tillamookchamber.org/wp-content/uploads/2022/01/eric-at-grange.jpg
ORGANIZER;CN="Tillamook Fairview Grange":MAILTO:mary.mcginnis05@gmail.com
END:VEVENT
BEGIN:VEVENT
DTSTART;TZID=America/Los_Angeles:20250510T160000
DTEND;TZID=America/Los_Angeles:20250510T170000
DTSTAMP:20260421T110556
CREATED:20250415T161946Z
LAST-MODIFIED:20250415T161946Z
UID:10020330-1746892800-1746896400@tillamookchamber.org
SUMMARY:Bay Ocean Community Chorus Spring Concert
DESCRIPTION:Bay Ocean Community Chorus presents it’s Spring Concert – Birds\, Bees and Broadway \nOur mission statement – Music is a powerful force for good in the world. It is unique in its ability to inspire people and bring them together. Bay Ocean Community Chorus seeks to foster a community of compassion and understanding crossing generations and cultures through the beauty and power of choral music.
URL:https://tillamookchamber.org/event/bay-ocean-community-chorus-spring-concert/
LOCATION:Tillamook United Methodist Church\, 3808 12th Street\, Tillamook\, OR. 97141\, OR\, United States
CATEGORIES:Community,Live Music
END:VEVENT
BEGIN:VEVENT
DTSTART;TZID=America/Los_Angeles:20250510T160000
DTEND;TZID=America/Los_Angeles:20250510T170000
DTSTAMP:20260421T110556
CREATED:20250415T233604Z
LAST-MODIFIED:20250415T233604Z
UID:10020339-1746892800-1746896400@tillamookchamber.org
SUMMARY:Bay Ocean Community Chorus Spring Concert
DESCRIPTION:Mission Statement ~ Music is a powerful force for good in the world. It is unique in its ability to inspire people and bring them together. Bay Ocean Community Chorus seeks to foster a community of compassion and understanding crossing generations and cultures through the beauty and power of choral music.
URL:https://tillamookchamber.org/event/bay-ocean-community-chorus-spring-concert-2/
LOCATION:Tillamook United Methodist Church\, 3808 12th Street\, Tillamook\, OR. 97141\, OR\, United States
CATEGORIES:Community,Live Music
END:VEVENT
BEGIN:VEVENT
DTSTART;TZID=America/Los_Angeles:20250524T190000
DTEND;TZID=America/Los_Angeles:20250524T210000
DTSTAMP:20260421T110556
CREATED:20250523T204532Z
LAST-MODIFIED:20250529T195335Z
UID:10021512-1748113200-1748120400@tillamookchamber.org
SUMMARY:Live Music!
DESCRIPTION:Live music every Saturday from 7–9pm in The Schooner Lounge—because your weekend deserves a soundtrack. \nKick back to the sounds of local musicians\, stay for the crave-worthy eats\, craft cocktails\, cold beers\, and our fabulous crew who always bring the good vibes. \nCurious who’s playing? Check out our lineup of Oregon-grown talent on our website!
URL:https://tillamookchamber.org/event/live-music/2025-05-24/
LOCATION:The Schooner Restaurant & Lounge\, 2065 Boat Basin Rd
CATEGORIES:Arts and Culture,Live Music
ATTACH;FMTTYPE=image/jpeg:https://tillamookchamber.org/wp-content/uploads/2025/05/Schooner-music-scaled.jpeg
END:VEVENT
BEGIN:VEVENT
DTSTART;TZID=America/Los_Angeles:20250531T190000
DTEND;TZID=America/Los_Angeles:20250531T210000
DTSTAMP:20260421T110556
CREATED:20250523T204532Z
LAST-MODIFIED:20250529T195335Z
UID:10021940-1748718000-1748725200@tillamookchamber.org
SUMMARY:Live Music!
DESCRIPTION:Live music every Saturday from 7–9pm in The Schooner Lounge—because your weekend deserves a soundtrack. \nKick back to the sounds of local musicians\, stay for the crave-worthy eats\, craft cocktails\, cold beers\, and our fabulous crew who always bring the good vibes. \nCurious who’s playing? Check out our lineup of Oregon-grown talent on our website!
URL:https://tillamookchamber.org/event/live-music/2025-05-31/
LOCATION:The Schooner Restaurant & Lounge\, 2065 Boat Basin Rd
CATEGORIES:Arts and Culture,Live Music
ATTACH;FMTTYPE=image/jpeg:https://tillamookchamber.org/wp-content/uploads/2025/05/Schooner-music-scaled.jpeg
END:VEVENT
END:VCALENDAR