BEGIN:VCALENDAR
VERSION:2.0
PRODID:-//Tillamook Area Chamber of Commerce - ECPv6.15.20//NONSGML v1.0//EN
CALSCALE:GREGORIAN
METHOD:PUBLISH
X-ORIGINAL-URL:https://tillamookchamber.org
X-WR-CALDESC:Events for Tillamook Area Chamber of Commerce
REFRESH-INTERVAL;VALUE=DURATION:PT1H
X-Robots-Tag:noindex
X-PUBLISHED-TTL:PT1H
BEGIN:VTIMEZONE
TZID:America/Los_Angeles
BEGIN:DAYLIGHT
TZOFFSETFROM:-0800
TZOFFSETTO:-0700
TZNAME:PDT
DTSTART:20240310T100000
END:DAYLIGHT
BEGIN:STANDARD
TZOFFSETFROM:-0700
TZOFFSETTO:-0800
TZNAME:PST
DTSTART:20241103T090000
END:STANDARD
BEGIN:DAYLIGHT
TZOFFSETFROM:-0800
TZOFFSETTO:-0700
TZNAME:PDT
DTSTART:20250309T100000
END:DAYLIGHT
BEGIN:STANDARD
TZOFFSETFROM:-0700
TZOFFSETTO:-0800
TZNAME:PST
DTSTART:20251102T090000
END:STANDARD
BEGIN:DAYLIGHT
TZOFFSETFROM:-0800
TZOFFSETTO:-0700
TZNAME:PDT
DTSTART:20260308T100000
END:DAYLIGHT
BEGIN:STANDARD
TZOFFSETFROM:-0700
TZOFFSETTO:-0800
TZNAME:PST
DTSTART:20261101T090000
END:STANDARD
END:VTIMEZONE
BEGIN:VEVENT
DTSTART;TZID=America/Los_Angeles:20250202T130000
DTEND;TZID=America/Los_Angeles:20250202T150000
DTSTAMP:20260422T032113
CREATED:20250113T232748Z
LAST-MODIFIED:20250113T232748Z
UID:10017758-1738501200-1738508400@tillamookchamber.org
SUMMARY:Art for the Heart: Artist and Community Reception
DESCRIPTION:The Art for the Heart Artist and Community Reception officially opens a month-long\, non-juried art exhibition in a celebration of creativity\, community and the connection between art and a healthy heart. \nAdventist Health Tillamook is proud to partner with local artists to create a space where the community can explore the intersection of art\, wellness and connection. Artistic expression has been shown to reduce stress and promote relaxation\, providing benefits for both heart health and the mind. \nDrop by and enjoy! \n\nLive music by Ivan Danilich\, classical guitarist\nRefreshments\nA diverse range of artwork and vote for your favorites\nPurchase artwork*\n\nFor more information or to learn how to submit art for the exhibition\, visit AdventistHealthTillamook.org/ArtForTheHeart or email McLainAL@ah.org. \n*20% of proceeds go to support fitness scholarships at NCRD to promote heart health in the North County community.
URL:https://tillamookchamber.org/event/art-for-the-heart-artist-and-community-reception/
LOCATION:North County Recreation District\, 36155 9th St\, Nehalem\, OR\, 97131\, United States
CATEGORIES:Arts and Culture,Community,Live Music
END:VEVENT
BEGIN:VEVENT
DTSTART;TZID=America/Los_Angeles:20250207T163000
DTEND;TZID=America/Los_Angeles:20250207T200000
DTSTAMP:20260422T032113
CREATED:20250122T001213Z
LAST-MODIFIED:20250122T001213Z
UID:10017775-1738945800-1738958400@tillamookchamber.org
SUMMARY:First Friday at the Blue Heron
DESCRIPTION:Stop by between 4:30 pm – 8:00 pm to enjoy music by NE Daynow\, tasting  G3 & Revelation wines by Goose Ridge; the menu will be Pappardelle Bolognese served with Caesar Salad & Garlic Bread. \nBlue Heron French Cheese Co. located at 2001 Blue Heron Dr. Tillamook
URL:https://tillamookchamber.org/event/first-friday-at-the-blue-heron-2/
LOCATION:Blue Heron French Cheese Co.\, 2001 Blue Heron Rd A\, Tillamook\, OR 97141\, OR
CATEGORIES:Community,Live Music
END:VEVENT
BEGIN:VEVENT
DTSTART;TZID=America/Los_Angeles:20250210T190000
DTEND;TZID=America/Los_Angeles:20250210T203000
DTSTAMP:20260422T032113
CREATED:20250131T185218Z
LAST-MODIFIED:20250131T185218Z
UID:10017852-1739214000-1739219400@tillamookchamber.org
SUMMARY:Monday Musical Club of Tillamook January Concert
DESCRIPTION:Songs of Joy to be performed Monday\, February 10\, 2025 at St. John’s United Church of Christ\, 602 Laurel Avenue.  Judy Cooley is the Concert Director. 7:00 PM.
URL:https://tillamookchamber.org/event/monday-musical-club-of-tillamook-january-concert/
LOCATION:St. John’s United Church of Christ\, 602 Laurel Avenue\, Tillamook\, OR\, 97141\, United States
CATEGORIES:Community,Live Music
END:VEVENT
BEGIN:VEVENT
DTSTART;TZID=America/Los_Angeles:20250211T160000
DTEND;TZID=America/Los_Angeles:20250211T170000
DTSTAMP:20260422T032113
CREATED:20241214T004135Z
LAST-MODIFIED:20241214T004135Z
UID:10017438-1739289600-1739293200@tillamookchamber.org
SUMMARY:Ukulele Jams with Alan at Pacific City Library
DESCRIPTION:Join us the second and fourth Tuesdays of every month at 4:00 pm.
URL:https://tillamookchamber.org/event/ukulele-jams-with-alan-at-pacific-city-library/2025-02-11/
LOCATION:Pacific City Library\, 6200 Camp St Pacific City\, OR
CATEGORIES:Community,Live Music
END:VEVENT
BEGIN:VEVENT
DTSTART;TZID=America/Los_Angeles:20250214T190000
DTEND;TZID=America/Los_Angeles:20250214T210000
DTSTAMP:20260422T032113
CREATED:20220114T194639Z
LAST-MODIFIED:20220114T194639Z
UID:10019250-1739559600-1739566800@tillamookchamber.org
SUMMARY:Artist/Music Showcase
DESCRIPTION:Local and visiting musicans perform a free concert at the Tillamook Fairview Grange\, featuring Eric Sappington and other musicans and artists monthly. Relax and take in music in one of the best local performance halls.
URL:https://tillamookchamber.org/event/artist-music-showcase/2025-02-14/
LOCATION:Tillamook Fairview Grange\, 5620 E. 3rd Street\, Tillamook\, OR 97141\, OR
CATEGORIES:Community,Live Music
ATTACH;FMTTYPE=image/jpeg:https://tillamookchamber.org/wp-content/uploads/2022/01/eric-at-grange.jpg
ORGANIZER;CN="Tillamook Fairview Grange":MAILTO:mary.mcginnis05@gmail.com
END:VEVENT
BEGIN:VEVENT
DTSTART;TZID=America/Los_Angeles:20250218T160000
DTEND;TZID=America/Los_Angeles:20250218T170000
DTSTAMP:20260422T032113
CREATED:20241214T004135Z
LAST-MODIFIED:20241214T004135Z
UID:10017439-1739894400-1739898000@tillamookchamber.org
SUMMARY:Ukulele Jams with Alan at Pacific City Library
DESCRIPTION:Join us the second and fourth Tuesdays of every month at 4:00 pm.
URL:https://tillamookchamber.org/event/ukulele-jams-with-alan-at-pacific-city-library/2025-02-18/
LOCATION:Pacific City Library\, 6200 Camp St Pacific City\, OR
CATEGORIES:Community,Live Music
END:VEVENT
END:VCALENDAR