BEGIN:VCALENDAR
VERSION:2.0
PRODID:-//Tillamook Area Chamber of Commerce - ECPv6.15.20//NONSGML v1.0//EN
CALSCALE:GREGORIAN
METHOD:PUBLISH
X-ORIGINAL-URL:https://tillamookchamber.org
X-WR-CALDESC:Events for Tillamook Area Chamber of Commerce
REFRESH-INTERVAL;VALUE=DURATION:PT1H
X-Robots-Tag:noindex
X-PUBLISHED-TTL:PT1H
BEGIN:VTIMEZONE
TZID:America/Los_Angeles
BEGIN:DAYLIGHT
TZOFFSETFROM:-0800
TZOFFSETTO:-0700
TZNAME:PDT
DTSTART:20240310T100000
END:DAYLIGHT
BEGIN:STANDARD
TZOFFSETFROM:-0700
TZOFFSETTO:-0800
TZNAME:PST
DTSTART:20241103T090000
END:STANDARD
BEGIN:DAYLIGHT
TZOFFSETFROM:-0800
TZOFFSETTO:-0700
TZNAME:PDT
DTSTART:20250309T100000
END:DAYLIGHT
BEGIN:STANDARD
TZOFFSETFROM:-0700
TZOFFSETTO:-0800
TZNAME:PST
DTSTART:20251102T090000
END:STANDARD
BEGIN:DAYLIGHT
TZOFFSETFROM:-0800
TZOFFSETTO:-0700
TZNAME:PDT
DTSTART:20260308T100000
END:DAYLIGHT
BEGIN:STANDARD
TZOFFSETFROM:-0700
TZOFFSETTO:-0800
TZNAME:PST
DTSTART:20261101T090000
END:STANDARD
END:VTIMEZONE
BEGIN:VEVENT
DTSTART;TZID=America/Los_Angeles:20250110T190000
DTEND;TZID=America/Los_Angeles:20250110T210000
DTSTAMP:20260422T060034
CREATED:20220114T194639Z
LAST-MODIFIED:20220114T194639Z
UID:10019249-1736535600-1736542800@tillamookchamber.org
SUMMARY:Artist/Music Showcase
DESCRIPTION:Local and visiting musicans perform a free concert at the Tillamook Fairview Grange\, featuring Eric Sappington and other musicans and artists monthly. Relax and take in music in one of the best local performance halls.
URL:https://tillamookchamber.org/event/artist-music-showcase/2025-01-10/
LOCATION:Tillamook Fairview Grange\, 5620 E. 3rd Street\, Tillamook\, OR 97141\, OR
CATEGORIES:Community,Live Music
ATTACH;FMTTYPE=image/jpeg:https://tillamookchamber.org/wp-content/uploads/2022/01/eric-at-grange.jpg
ORGANIZER;CN="Tillamook Fairview Grange":MAILTO:mary.mcginnis05@gmail.com
END:VEVENT
BEGIN:VEVENT
DTSTART;TZID=America/Los_Angeles:20250113T190000
DTEND;TZID=America/Los_Angeles:20250113T203000
DTSTAMP:20260422T060034
CREATED:20241231T233716Z
LAST-MODIFIED:20241231T233716Z
UID:10017747-1736794800-1736800200@tillamookchamber.org
SUMMARY:Monday Musical Club of Tillamook January Program " Originals and Remixes"
DESCRIPTION:The Monday Musical Club of Tillamook announces Its \nJanuary program “ORIGINALS AND REMIXIES” \nto be held at Living Water Fellowship on Monday\, \nJanuary 13 at 7:00pm. The program\, hosted by \nLacey Hawkins\, will bring in the Music Club new year with \noriginal songs and remixes performed by local musicians \non January January 13th. \nThe public in invited and the program is free of charge\, \nBring a friend and enjoy an evening of live\, local music. \n 
URL:https://tillamookchamber.org/event/monday-musical-club-of-tillamook-january-program-originals-and-remixes/
LOCATION:Living Water Fellowship\, 1000 Main Ave\, Unit 12\,\, OR\, United States
CATEGORIES:Community,Live Music
END:VEVENT
BEGIN:VEVENT
DTSTART;TZID=America/Los_Angeles:20250113T190000
DTEND;TZID=America/Los_Angeles:20250113T203000
DTSTAMP:20260422T060034
CREATED:20250102T211249Z
LAST-MODIFIED:20250102T211249Z
UID:10017749-1736794800-1736800200@tillamookchamber.org
SUMMARY:Monday Musical Club of Tillamook January Program "Originals and Remixes"
DESCRIPTION:The Monday Musical Club of Tillamook announces Its \nJanuary program “ORIGINALS AND REMIXIES” \nto be held at Living Water Fellowship on Monday\, \nJanuary 13 at 7:00pm. The program\, hosted by \nLacey Hawkins\, will bring in the Music Club new year with \noriginal songs and remixes performed by local musicians. \nThe public in invited and the program is free of charge\, \nBring a friend and enjoy an evening of live\, local music.
URL:https://tillamookchamber.org/event/monday-musical-club-of-tillamook-january-program-originals-and-remixes-2/
LOCATION:Living Water Fellowship\, 1000 Main Ave\, Unit 12\,\, OR\, United States
CATEGORIES:Community,Family Fun,Live Music
END:VEVENT
BEGIN:VEVENT
DTSTART;TZID=America/Los_Angeles:20250114T160000
DTEND;TZID=America/Los_Angeles:20250114T170000
DTSTAMP:20260422T060034
CREATED:20241214T004135Z
LAST-MODIFIED:20241214T004135Z
UID:10017436-1736870400-1736874000@tillamookchamber.org
SUMMARY:Ukulele Jams with Alan at Pacific City Library
DESCRIPTION:Join us the second and fourth Tuesdays of every month at 4:00 pm.
URL:https://tillamookchamber.org/event/ukulele-jams-with-alan-at-pacific-city-library/2025-01-14/
LOCATION:Pacific City Library\, 6200 Camp St Pacific City\, OR
CATEGORIES:Community,Live Music
END:VEVENT
BEGIN:VEVENT
DTSTART;TZID=America/Los_Angeles:20250128T160000
DTEND;TZID=America/Los_Angeles:20250128T170000
DTSTAMP:20260422T060034
CREATED:20241214T004135Z
LAST-MODIFIED:20241214T004135Z
UID:10017437-1738080000-1738083600@tillamookchamber.org
SUMMARY:Ukulele Jams with Alan at Pacific City Library
DESCRIPTION:Join us the second and fourth Tuesdays of every month at 4:00 pm.
URL:https://tillamookchamber.org/event/ukulele-jams-with-alan-at-pacific-city-library/2025-01-28/
LOCATION:Pacific City Library\, 6200 Camp St Pacific City\, OR
CATEGORIES:Community,Live Music
END:VEVENT
END:VCALENDAR