BEGIN:VCALENDAR
VERSION:2.0
PRODID:-//Tillamook Area Chamber of Commerce - ECPv6.15.20//NONSGML v1.0//EN
CALSCALE:GREGORIAN
METHOD:PUBLISH
X-WR-CALNAME:Tillamook Area Chamber of Commerce
X-ORIGINAL-URL:https://tillamookchamber.org
X-WR-CALDESC:Events for Tillamook Area Chamber of Commerce
REFRESH-INTERVAL;VALUE=DURATION:PT1H
X-Robots-Tag:noindex
X-PUBLISHED-TTL:PT1H
BEGIN:VTIMEZONE
TZID:America/Los_Angeles
BEGIN:DAYLIGHT
TZOFFSETFROM:-0800
TZOFFSETTO:-0700
TZNAME:PDT
DTSTART:20230312T100000
END:DAYLIGHT
BEGIN:STANDARD
TZOFFSETFROM:-0700
TZOFFSETTO:-0800
TZNAME:PST
DTSTART:20231105T090000
END:STANDARD
BEGIN:DAYLIGHT
TZOFFSETFROM:-0800
TZOFFSETTO:-0700
TZNAME:PDT
DTSTART:20240310T100000
END:DAYLIGHT
BEGIN:STANDARD
TZOFFSETFROM:-0700
TZOFFSETTO:-0800
TZNAME:PST
DTSTART:20241103T090000
END:STANDARD
BEGIN:DAYLIGHT
TZOFFSETFROM:-0800
TZOFFSETTO:-0700
TZNAME:PDT
DTSTART:20250309T100000
END:DAYLIGHT
BEGIN:STANDARD
TZOFFSETFROM:-0700
TZOFFSETTO:-0800
TZNAME:PST
DTSTART:20251102T090000
END:STANDARD
BEGIN:DAYLIGHT
TZOFFSETFROM:-0800
TZOFFSETTO:-0700
TZNAME:PDT
DTSTART:20260308T100000
END:DAYLIGHT
BEGIN:STANDARD
TZOFFSETFROM:-0700
TZOFFSETTO:-0800
TZNAME:PST
DTSTART:20261101T090000
END:STANDARD
END:VTIMEZONE
BEGIN:VEVENT
DTSTART;TZID=America/Los_Angeles:20250506T080000
DTEND;TZID=America/Los_Angeles:20250506T170000
DTSTAMP:20260419T215346
CREATED:20250430T220405Z
LAST-MODIFIED:20250430T220405Z
UID:10021258-1746518400-1746550800@tillamookchamber.org
SUMMARY:Charming Mothers Build-a-Bracelet
DESCRIPTION:Celebrate mothers with the Tillamook Revitalization Association this May by building a charm bracelet! Visit participating local businesses from May 5-10 to collect beads and charms\, assembling a complimentary custom bracelet that shows your personal style! \nBegin your journey at ReCurrent\, located at 2015 2nd Street to get your starting bracelet and map to participating businesses!
URL:https://tillamookchamber.org/event/charming-mothers-build-a-bracelet/2025-05-06/
LOCATION:Downtown Tillamook\, Tillamook\, OR\, 97141\, United States
CATEGORIES:Community,Family Fun,Holiday
ATTACH;FMTTYPE=image/jpeg:https://tillamookchamber.org/wp-content/uploads/2025/04/Charm-bracelet-1.jpg
END:VEVENT
BEGIN:VEVENT
DTSTART;TZID=America/Los_Angeles:20250505T080000
DTEND;TZID=America/Los_Angeles:20250505T170000
DTSTAMP:20260419T215346
CREATED:20250430T220405Z
LAST-MODIFIED:20250430T220405Z
UID:10021257-1746432000-1746464400@tillamookchamber.org
SUMMARY:Charming Mothers Build-a-Bracelet
DESCRIPTION:Celebrate mothers with the Tillamook Revitalization Association this May by building a charm bracelet! Visit participating local businesses from May 5-10 to collect beads and charms\, assembling a complimentary custom bracelet that shows your personal style! \nBegin your journey at ReCurrent\, located at 2015 2nd Street to get your starting bracelet and map to participating businesses!
URL:https://tillamookchamber.org/event/charming-mothers-build-a-bracelet/2025-05-05/
LOCATION:Downtown Tillamook\, Tillamook\, OR\, 97141\, United States
CATEGORIES:Community,Family Fun,Holiday
ATTACH;FMTTYPE=image/jpeg:https://tillamookchamber.org/wp-content/uploads/2025/04/Charm-bracelet-1.jpg
END:VEVENT
BEGIN:VEVENT
DTSTART;TZID=America/Los_Angeles:20250419T140000
DTEND;TZID=America/Los_Angeles:20250419T160000
DTSTAMP:20260419T215346
CREATED:20250404T174803Z
LAST-MODIFIED:20250404T174803Z
UID:10020310-1745071200-1745078400@tillamookchamber.org
SUMMARY:EASTER EGG HUNT + BRUNCH
DESCRIPTION:Join us from 2-4pm for an egg hunt + brunch! Brunch is $20/person with kids under 10 eating free. Add on bottomless holiday Mimosas/Bloody Marys to your order for an additional $15. \nEgg hunt will commence at 3:30pm and will be staged for three different age categories to keep the playing field level! Find one of the lucky eggs and win an Easter prize basket! \nGreat family fun for everyone!
URL:https://tillamookchamber.org/event/easter-egg-hunt-brunch/
LOCATION:The Schooner Restaurant & Lounge\, 2065 Boat Basin Rd
CATEGORIES:Community,Holiday
END:VEVENT
BEGIN:VEVENT
DTSTART;TZID=America/Los_Angeles:20250419T090000
DTEND;TZID=America/Los_Angeles:20250419T103000
DTSTAMP:20260419T215346
CREATED:20250401T185347Z
LAST-MODIFIED:20250401T185347Z
UID:10019343-1745053200-1745058600@tillamookchamber.org
SUMMARY:1st Annual Easter Egg Hunt
DESCRIPTION:Tillamook County Sheriff’s Office in partnership with the Tillamook County Sheriff’s Foundation and sponsored by TLC Fibre Federal Credit Union invites you t join us for a fun Easter Egg Hunt where you can find lots of goodies\, special prizes and visit with Deputies. \nSaturday April 19th\, 9:00 am \nAt the Sheriff’s Office\, 5995 Long Prairie Rd. Tillamook
URL:https://tillamookchamber.org/event/1st-annual-easter-egg-hunt/
LOCATION:Tillamook Sheriff’s Office\, 5995 Long Prairie Rd. Tillamook\, 5995 Long Prairie Rd.\, Tillamook\, OR
CATEGORIES:Community,Family Fun,Holiday
END:VEVENT
BEGIN:VEVENT
DTSTART;TZID=America/Los_Angeles:20250412T100000
DTEND;TZID=America/Los_Angeles:20250412T160000
DTSTAMP:20260419T215346
CREATED:20250312T224725Z
LAST-MODIFIED:20250404T172709Z
UID:10019078-1744452000-1744473600@tillamookchamber.org
SUMMARY:Hunt in the Hangar
DESCRIPTION:Join us this Saturday 4/12/2025 for our annual FREE Easter Event.\nWe’ll be hosting an all day long scavenger hunt from 10am-4pm\nThe Easter Bunny while be at the museum from 10am-1pm\nWe hope to see you all this Saturday to come in the family fun!\n\nplay our Scavenger Hunt!\nFind the hidden figures and collect a goodie bag! There will be cookies and hot chocolate. Free for all.\nWe recommend bringing a coat\, bbbbbrrrrrrr it’s cold in the hangar.\n\nWe’re located at 6030 Hangar Rd.\, Tillamook
URL:https://tillamookchamber.org/event/hunt-in-the-hangar-4/
LOCATION:Tillamook Air Museum\, 6030 Hangar Rd\, OR\, United States
CATEGORIES:Community,Family Fun,Holiday
END:VEVENT
BEGIN:VEVENT
DTSTART;TZID=America/Los_Angeles:20250214T170000
DTEND;TZID=America/Los_Angeles:20250214T230000
DTSTAMP:20260419T215346
CREATED:20250124T001936Z
LAST-MODIFIED:20250124T001936Z
UID:10017776-1739552400-1739574000@tillamookchamber.org
SUMMARY:Tillamook Elk’s Valentines Dinner Dance
DESCRIPTION:Tillamook Elk’s Lodge is hosting a Valentines Dinner Dance Friday February 14th. Dinner starts at 5:00pm\,  Music & Dancing starts at 7:00pm. This event is open to the public\, reservations are strongly encouraged for Dinner by calling the Lodge office  (503) 842-6623. Reservations are not required if guest are attending the dance only\, cover charge $10.00. This is a 21 and over event.
URL:https://tillamookchamber.org/event/tillamook-elks-valentines-dinner-dance/
LOCATION:Tillamook Elk’s Lodge\, 1907 Third St.\, Tillamook\, 97141
CATEGORIES:Community,Holiday
ATTACH;FMTTYPE=image/jpeg:https://tillamookchamber.org/wp-content/uploads/2025/01/Valentines-Dinner-Dance-Invitation-1_1737575133940.jpg
END:VEVENT
BEGIN:VEVENT
DTSTART;TZID=America/Los_Angeles:20241225T120000
DTEND;TZID=America/Los_Angeles:20241225T160000
DTSTAMP:20260419T215346
CREATED:20241213T194139Z
LAST-MODIFIED:20241213T194139Z
UID:10017435-1735128000-1735142400@tillamookchamber.org
SUMMARY:Pho! Pho! Pho!
DESCRIPTION:Join us for our annual Pho! Pho! Pho! tradition on Christmas Day at The Schooner Restaurant & Lounge! \nFirst come\, first served!
URL:https://tillamookchamber.org/event/pho-pho-pho/
LOCATION:The Schooner Restaurant & Lounge\, 2065 Boat Basin Rd
CATEGORIES:Community,Holiday
END:VEVENT
END:VCALENDAR