BEGIN:VCALENDAR
VERSION:2.0
PRODID:-//Tillamook Area Chamber of Commerce - ECPv6.15.20//NONSGML v1.0//EN
CALSCALE:GREGORIAN
METHOD:PUBLISH
X-WR-CALNAME:Tillamook Area Chamber of Commerce
X-ORIGINAL-URL:https://tillamookchamber.org
X-WR-CALDESC:Events for Tillamook Area Chamber of Commerce
REFRESH-INTERVAL;VALUE=DURATION:PT1H
X-Robots-Tag:noindex
X-PUBLISHED-TTL:PT1H
BEGIN:VTIMEZONE
TZID:America/Los_Angeles
BEGIN:DAYLIGHT
TZOFFSETFROM:-0800
TZOFFSETTO:-0700
TZNAME:PDT
DTSTART:20240310T100000
END:DAYLIGHT
BEGIN:STANDARD
TZOFFSETFROM:-0700
TZOFFSETTO:-0800
TZNAME:PST
DTSTART:20241103T090000
END:STANDARD
BEGIN:DAYLIGHT
TZOFFSETFROM:-0800
TZOFFSETTO:-0700
TZNAME:PDT
DTSTART:20250309T100000
END:DAYLIGHT
BEGIN:STANDARD
TZOFFSETFROM:-0700
TZOFFSETTO:-0800
TZNAME:PST
DTSTART:20251102T090000
END:STANDARD
BEGIN:DAYLIGHT
TZOFFSETFROM:-0800
TZOFFSETTO:-0700
TZNAME:PDT
DTSTART:20260308T100000
END:DAYLIGHT
BEGIN:STANDARD
TZOFFSETFROM:-0700
TZOFFSETTO:-0800
TZNAME:PST
DTSTART:20261101T090000
END:STANDARD
END:VTIMEZONE
BEGIN:VEVENT
DTSTART;TZID=America/Los_Angeles:20251201T080000
DTEND;TZID=America/Los_Angeles:20251201T170000
DTSTAMP:20260419T235413
CREATED:20251111T220728Z
LAST-MODIFIED:20251203T181146Z
UID:10026336-1764576000-1764608400@tillamookchamber.org
SUMMARY:Tillamook School of Dance Holiday Toy Drive
DESCRIPTION:It’s the season of giving- and Tillamook School of Dance is spreading holiday cheer once again! From November 14th-December 8th\, we’re collecting new\, unwrapped toys & gifts for kids in need.  Over the last 10 years\, TSOD has danced to donate over 5\,000 toys/gifts to local kids!\n\n\nHow can you help?  Drop off toy donations at Tillamook School or Dance or any of our awesome partnering locations; Werner Beef & Brew\, Tillamook YMCA\, Roby’s\, Grocery Outlet & PUD!\n\n\nAll toys & gifts will be donated directly to Tillamook School District #9 schools where administrators and staff will distribute them to kids in need!\n\n\nLet’s dance into the spirit of giving-together\, we can make the holiday’s magical!
URL:https://tillamookchamber.org/event/tillamook-school-of-dance-holiday-toy-drive/2025-12-01/
CATEGORIES:Community,Holiday
ATTACH;FMTTYPE=image/png:https://tillamookchamber.org/wp-content/uploads/2025/11/Red-and-White-Modern-Christmas-Toy-Drive-Instagram-Post.png
END:VEVENT
BEGIN:VEVENT
DTSTART;TZID=America/Los_Angeles:20251202T080000
DTEND;TZID=America/Los_Angeles:20251202T170000
DTSTAMP:20260419T235413
CREATED:20251111T220728Z
LAST-MODIFIED:20251203T181146Z
UID:10026337-1764662400-1764694800@tillamookchamber.org
SUMMARY:Tillamook School of Dance Holiday Toy Drive
DESCRIPTION:It’s the season of giving- and Tillamook School of Dance is spreading holiday cheer once again! From November 14th-December 8th\, we’re collecting new\, unwrapped toys & gifts for kids in need.  Over the last 10 years\, TSOD has danced to donate over 5\,000 toys/gifts to local kids!\n\n\nHow can you help?  Drop off toy donations at Tillamook School or Dance or any of our awesome partnering locations; Werner Beef & Brew\, Tillamook YMCA\, Roby’s\, Grocery Outlet & PUD!\n\n\nAll toys & gifts will be donated directly to Tillamook School District #9 schools where administrators and staff will distribute them to kids in need!\n\n\nLet’s dance into the spirit of giving-together\, we can make the holiday’s magical!
URL:https://tillamookchamber.org/event/tillamook-school-of-dance-holiday-toy-drive/2025-12-02/
CATEGORIES:Community,Holiday
ATTACH;FMTTYPE=image/png:https://tillamookchamber.org/wp-content/uploads/2025/11/Red-and-White-Modern-Christmas-Toy-Drive-Instagram-Post.png
END:VEVENT
BEGIN:VEVENT
DTSTART;TZID=America/Los_Angeles:20251203T080000
DTEND;TZID=America/Los_Angeles:20251203T170000
DTSTAMP:20260419T235413
CREATED:20251111T220728Z
LAST-MODIFIED:20251203T181146Z
UID:10026338-1764748800-1764781200@tillamookchamber.org
SUMMARY:Tillamook School of Dance Holiday Toy Drive
DESCRIPTION:It’s the season of giving- and Tillamook School of Dance is spreading holiday cheer once again! From November 14th-December 8th\, we’re collecting new\, unwrapped toys & gifts for kids in need.  Over the last 10 years\, TSOD has danced to donate over 5\,000 toys/gifts to local kids!\n\n\nHow can you help?  Drop off toy donations at Tillamook School or Dance or any of our awesome partnering locations; Werner Beef & Brew\, Tillamook YMCA\, Roby’s\, Grocery Outlet & PUD!\n\n\nAll toys & gifts will be donated directly to Tillamook School District #9 schools where administrators and staff will distribute them to kids in need!\n\n\nLet’s dance into the spirit of giving-together\, we can make the holiday’s magical!
URL:https://tillamookchamber.org/event/tillamook-school-of-dance-holiday-toy-drive/2025-12-03/
CATEGORIES:Community,Holiday
ATTACH;FMTTYPE=image/png:https://tillamookchamber.org/wp-content/uploads/2025/11/Red-and-White-Modern-Christmas-Toy-Drive-Instagram-Post.png
END:VEVENT
BEGIN:VEVENT
DTSTART;TZID=America/Los_Angeles:20251204T080000
DTEND;TZID=America/Los_Angeles:20251204T170000
DTSTAMP:20260419T235413
CREATED:20251111T220728Z
LAST-MODIFIED:20251203T181146Z
UID:10026339-1764835200-1764867600@tillamookchamber.org
SUMMARY:Tillamook School of Dance Holiday Toy Drive
DESCRIPTION:It’s the season of giving- and Tillamook School of Dance is spreading holiday cheer once again! From November 14th-December 8th\, we’re collecting new\, unwrapped toys & gifts for kids in need.  Over the last 10 years\, TSOD has danced to donate over 5\,000 toys/gifts to local kids!\n\n\nHow can you help?  Drop off toy donations at Tillamook School or Dance or any of our awesome partnering locations; Werner Beef & Brew\, Tillamook YMCA\, Roby’s\, Grocery Outlet & PUD!\n\n\nAll toys & gifts will be donated directly to Tillamook School District #9 schools where administrators and staff will distribute them to kids in need!\n\n\nLet’s dance into the spirit of giving-together\, we can make the holiday’s magical!
URL:https://tillamookchamber.org/event/tillamook-school-of-dance-holiday-toy-drive/2025-12-04/
CATEGORIES:Community,Holiday
ATTACH;FMTTYPE=image/png:https://tillamookchamber.org/wp-content/uploads/2025/11/Red-and-White-Modern-Christmas-Toy-Drive-Instagram-Post.png
END:VEVENT
BEGIN:VEVENT
DTSTART;TZID=America/Los_Angeles:20251205T080000
DTEND;TZID=America/Los_Angeles:20251205T170000
DTSTAMP:20260419T235413
CREATED:20251111T220728Z
LAST-MODIFIED:20251203T181146Z
UID:10026340-1764921600-1764954000@tillamookchamber.org
SUMMARY:Tillamook School of Dance Holiday Toy Drive
DESCRIPTION:It’s the season of giving- and Tillamook School of Dance is spreading holiday cheer once again! From November 14th-December 8th\, we’re collecting new\, unwrapped toys & gifts for kids in need.  Over the last 10 years\, TSOD has danced to donate over 5\,000 toys/gifts to local kids!\n\n\nHow can you help?  Drop off toy donations at Tillamook School or Dance or any of our awesome partnering locations; Werner Beef & Brew\, Tillamook YMCA\, Roby’s\, Grocery Outlet & PUD!\n\n\nAll toys & gifts will be donated directly to Tillamook School District #9 schools where administrators and staff will distribute them to kids in need!\n\n\nLet’s dance into the spirit of giving-together\, we can make the holiday’s magical!
URL:https://tillamookchamber.org/event/tillamook-school-of-dance-holiday-toy-drive/2025-12-05/
CATEGORIES:Community,Holiday
ATTACH;FMTTYPE=image/png:https://tillamookchamber.org/wp-content/uploads/2025/11/Red-and-White-Modern-Christmas-Toy-Drive-Instagram-Post.png
END:VEVENT
BEGIN:VEVENT
DTSTART;TZID=America/Los_Angeles:20251206T080000
DTEND;TZID=America/Los_Angeles:20251206T170000
DTSTAMP:20260419T235413
CREATED:20251111T220728Z
LAST-MODIFIED:20251203T181146Z
UID:10026341-1765008000-1765040400@tillamookchamber.org
SUMMARY:Tillamook School of Dance Holiday Toy Drive
DESCRIPTION:It’s the season of giving- and Tillamook School of Dance is spreading holiday cheer once again! From November 14th-December 8th\, we’re collecting new\, unwrapped toys & gifts for kids in need.  Over the last 10 years\, TSOD has danced to donate over 5\,000 toys/gifts to local kids!\n\n\nHow can you help?  Drop off toy donations at Tillamook School or Dance or any of our awesome partnering locations; Werner Beef & Brew\, Tillamook YMCA\, Roby’s\, Grocery Outlet & PUD!\n\n\nAll toys & gifts will be donated directly to Tillamook School District #9 schools where administrators and staff will distribute them to kids in need!\n\n\nLet’s dance into the spirit of giving-together\, we can make the holiday’s magical!
URL:https://tillamookchamber.org/event/tillamook-school-of-dance-holiday-toy-drive/2025-12-06/
CATEGORIES:Community,Holiday
ATTACH;FMTTYPE=image/png:https://tillamookchamber.org/wp-content/uploads/2025/11/Red-and-White-Modern-Christmas-Toy-Drive-Instagram-Post.png
END:VEVENT
BEGIN:VEVENT
DTSTART;TZID=America/Los_Angeles:20251206T100000
DTEND;TZID=America/Los_Angeles:20251206T130000
DTSTAMP:20260419T235413
CREATED:20250910T203345Z
LAST-MODIFIED:20250910T203345Z
UID:10025514-1765015200-1765026000@tillamookchamber.org
SUMMARY:Visit Santa Claus & The Grinch!
DESCRIPTION:Come join us for some holly jolly holiday fun! \n-Bring your letters and we’ll help fly them to the north pole! \nGet your photograph with Santa Claus & The Grinch! \nFREE Admissions ALL day\, we do have a recommended donation of two non-perishable food items per person.
URL:https://tillamookchamber.org/event/visit-santa-claus-the-grinch/
LOCATION:Tillamook Air Museum\, 6030 Hangar Rd\, OR\, United States
CATEGORIES:Community,Education,Holiday
ATTACH;FMTTYPE=image/png:https://tillamookchamber.org/wp-content/uploads/2025/09/Santa-Claus-The-Grinch-at-the-Tillamook-Air-Museum.png
END:VEVENT
BEGIN:VEVENT
DTSTART;TZID=America/Los_Angeles:20251206T100000
DTEND;TZID=America/Los_Angeles:20251206T160000
DTSTAMP:20260419T235413
CREATED:20251118T173140Z
LAST-MODIFIED:20251118T173140Z
UID:10028160-1765015200-1765036800@tillamookchamber.org
SUMMARY:Twin Rocks Friends Camp hosts 2nd Annual Gingerbread House Party
DESCRIPTION:For the second year in a row\, a fun-filled\, family Christmas event with holiday themed activities\, food\, and music will be hosted at Twin Rocks Friends Camp on Saturday\, Dec. 6 from 10 a.m. – 4 p.m. The Gingerbread House Party is an open invitation to the community to come partake in the merriment and visit the Twin Rocks campus. \nGuests can participate in several no-cost activities such as: the stained glass art project\, ornament making\, cocoa and popcorn snacks\, and story time with Mrs. Claus. Santa will also be available for photos with a professional portrait photographer. Families will receive their free photos via a digital link. Admission to the event is free\, but an RSVP at twinrocks.org/camp/gingerbread-house-party is politely requested.
URL:https://tillamookchamber.org/event/twin-rocks-friends-camp-hosts-2nd-annual-gingerbread-house-party/
LOCATION:Twin Rocks Friends Camp\, 18705 Hwy 101 N Rockaway Beach\, OR 97136
CATEGORIES:Community,Family Fun,Holiday
ATTACH;FMTTYPE=image/png:https://tillamookchamber.org/wp-content/uploads/2025/11/6.png
END:VEVENT
BEGIN:VEVENT
DTSTART;TZID=America/Los_Angeles:20251206T110000
DTEND;TZID=America/Los_Angeles:20251206T150000
DTSTAMP:20260419T235413
CREATED:20251119T232311Z
LAST-MODIFIED:20251119T232311Z
UID:10028163-1765018800-1765033200@tillamookchamber.org
SUMMARY:Holiday Bazaar 12/6 11-3 White Clover Grange in Nehalem
DESCRIPTION:Join us on Saturday December 6th\, from 11am-3pm for our annual White Clover Grange Holiday Bazaar.  This traditional and ever popular event will feature a variety of homemade sweet treats\, craft items\, ceramics\, jewelry\, prints\, cards\, hand forged art\, knitted goods\, plus locally grown teas\, flowers\, fresh vegetables\, meats\, jams\, pickles\, and Christmas trees and wreaths. \nGnarly’s Tacos will have their popular food truck outside for a lunch treat! \nGrange bakers will be selling their delicious cookies and treats\, plus there will be cinnamon rolls from Handy Creek Bakery\, and Annie’s famous caramel corn. \nChristmas trees and hand made wreaths by Jose\, will be available outside. \nLocal vendors include Lance’s Farm Vittles\, Moon River Farm\, River City Flower Farm\, Little Wing Kinetics\, Lone Wolf Forge\, Murrelet Herb Farm\, Gingifer’s Kitchen\, Sweetheart Wheel\, Perch Handmade\, 3G Fiber Creations\, KelpMinerals\, and more. Upstairs and down\, vendors are selling a delightful array of locally grown and crafted goods including vegetables\, meats\, teas\, wool\, honey\, pickles\, jams and jellies\, ceramics\, felted art\, jewelry\, body care products\, solar lamps\, wreaths\, dried flowers\, copper wind sculptures\, pottery\, hand forged metal art\, beads\, buttons and crafts\, and more. \nWhite Clover Grange Holiday Bazaar \nSaturday December 6\, 2025 11am-3pm!  \n36585 Hwy 53\, about 2 miles east of Hwy 101. Look for Daisy the Cow!
URL:https://tillamookchamber.org/event/holiday-bazaar-12-6-11-3-white-clover-grange-in-nehalem/
LOCATION:White Clover Grange\, 36585 Highway 53 Nehalem OR 97131
CATEGORIES:Community,Holiday,Shopping and Sales
ATTACH;FMTTYPE=image/png:https://tillamookchamber.org/wp-content/uploads/2025/11/WCG-holiday-2025.png
END:VEVENT
BEGIN:VEVENT
DTSTART;TZID=America/Los_Angeles:20251207T080000
DTEND;TZID=America/Los_Angeles:20251207T170000
DTSTAMP:20260419T235413
CREATED:20251111T220728Z
LAST-MODIFIED:20251203T181146Z
UID:10026342-1765094400-1765126800@tillamookchamber.org
SUMMARY:Tillamook School of Dance Holiday Toy Drive
DESCRIPTION:It’s the season of giving- and Tillamook School of Dance is spreading holiday cheer once again! From November 14th-December 8th\, we’re collecting new\, unwrapped toys & gifts for kids in need.  Over the last 10 years\, TSOD has danced to donate over 5\,000 toys/gifts to local kids!\n\n\nHow can you help?  Drop off toy donations at Tillamook School or Dance or any of our awesome partnering locations; Werner Beef & Brew\, Tillamook YMCA\, Roby’s\, Grocery Outlet & PUD!\n\n\nAll toys & gifts will be donated directly to Tillamook School District #9 schools where administrators and staff will distribute them to kids in need!\n\n\nLet’s dance into the spirit of giving-together\, we can make the holiday’s magical!
URL:https://tillamookchamber.org/event/tillamook-school-of-dance-holiday-toy-drive/2025-12-07/
CATEGORIES:Community,Holiday
ATTACH;FMTTYPE=image/png:https://tillamookchamber.org/wp-content/uploads/2025/11/Red-and-White-Modern-Christmas-Toy-Drive-Instagram-Post.png
END:VEVENT
BEGIN:VEVENT
DTSTART;TZID=America/Los_Angeles:20251207T140000
DTEND;TZID=America/Los_Angeles:20251207T160000
DTSTAMP:20260419T235413
CREATED:20251111T220538Z
LAST-MODIFIED:20251111T220538Z
UID:10028143-1765116000-1765123200@tillamookchamber.org
SUMMARY:Tillamook School of Dance- Merry Christmas Spectacular
DESCRIPTION:Get into the holiday spirit with the Tillamook School of Dance’s “Merry Christmas Spectacular”! \n\n\n Sunday\, December 7th\n 2:00 PM\n Don Whitney Auditorium – Tillamook High School\n\n\nJoin us for an afternoon of joyful performances featuring dancers of all ages spreading Christmas cheer through dance\, music\, and sparkle! \n\n\n Admission:\n\n\n1 new\, unwrapped toy per family OR $5.00 per person\n(All toy donations will support local kids in need this holiday season )\n\n\nCome celebrate the season with us — it’s the perfect way to kick off your holiday festivities!
URL:https://tillamookchamber.org/event/tillamook-school-of-dance-merry-christmas-spectacular/
LOCATION:Tillamook High School
CATEGORIES:Community,Family Fun,Holiday
END:VEVENT
BEGIN:VEVENT
DTSTART;TZID=America/Los_Angeles:20251208T080000
DTEND;TZID=America/Los_Angeles:20251208T170000
DTSTAMP:20260419T235413
CREATED:20251111T220728Z
LAST-MODIFIED:20251203T181146Z
UID:10026343-1765180800-1765213200@tillamookchamber.org
SUMMARY:Tillamook School of Dance Holiday Toy Drive
DESCRIPTION:It’s the season of giving- and Tillamook School of Dance is spreading holiday cheer once again! From November 14th-December 8th\, we’re collecting new\, unwrapped toys & gifts for kids in need.  Over the last 10 years\, TSOD has danced to donate over 5\,000 toys/gifts to local kids!\n\n\nHow can you help?  Drop off toy donations at Tillamook School or Dance or any of our awesome partnering locations; Werner Beef & Brew\, Tillamook YMCA\, Roby’s\, Grocery Outlet & PUD!\n\n\nAll toys & gifts will be donated directly to Tillamook School District #9 schools where administrators and staff will distribute them to kids in need!\n\n\nLet’s dance into the spirit of giving-together\, we can make the holiday’s magical!
URL:https://tillamookchamber.org/event/tillamook-school-of-dance-holiday-toy-drive/2025-12-08/
CATEGORIES:Community,Holiday
ATTACH;FMTTYPE=image/png:https://tillamookchamber.org/wp-content/uploads/2025/11/Red-and-White-Modern-Christmas-Toy-Drive-Instagram-Post.png
END:VEVENT
BEGIN:VEVENT
DTSTART;TZID=America/Los_Angeles:20251213T110000
DTEND;TZID=America/Los_Angeles:20251213T140000
DTSTAMP:20260419T235413
CREATED:20251204T173427Z
LAST-MODIFIED:20251204T173427Z
UID:10028575-1765623600-1765634400@tillamookchamber.org
SUMMARY:Santaland
DESCRIPTION:Tillamook Revitalization Association is sponsoring 5th annual Santaland at Pacific Restaurant. Event is open to all Tillamook Residents and is free. \nWreath making\, cookie decorating and gongerbread house making and special musical performances. \nPlus photos w/ Santa
URL:https://tillamookchamber.org/event/santaland/
LOCATION:Pacific Restaurant\, 205 Main Ave\, Tillamook\, Or
CATEGORIES:Community,Family Fun,Holiday
ATTACH;FMTTYPE=image/jpeg:https://tillamookchamber.org/wp-content/uploads/2025/12/IMG_2318.jpeg
END:VEVENT
BEGIN:VEVENT
DTSTART;TZID=America/Los_Angeles:20251213T140000
DTEND;TZID=America/Los_Angeles:20251213T153000
DTSTAMP:20260419T235413
CREATED:20251122T004459Z
LAST-MODIFIED:20251122T004459Z
UID:10028166-1765634400-1765639800@tillamookchamber.org
SUMMARY:A Tillamook Christmas
DESCRIPTION:A Christmas concert presented by the Bay Ocean Community Chorus of favorite songs of the season. Saturday\, December 13 at 2 pm.\, at Tillamook Methodist Church.
URL:https://tillamookchamber.org/event/a-tillamook-christmas-3/
LOCATION:Tillamook Methodist Church\, 3808 12 th
CATEGORIES:Community,Holiday,Live Music
ATTACH;FMTTYPE=image/jpeg:https://tillamookchamber.org/wp-content/uploads/2025/11/IMG_0257-1.jpeg
END:VEVENT
BEGIN:VEVENT
DTSTART;TZID=America/Los_Angeles:20251214T150000
DTEND;TZID=America/Los_Angeles:20251214T173000
DTSTAMP:20260419T235413
CREATED:20251204T205956Z
LAST-MODIFIED:20251204T205956Z
UID:10028576-1765724400-1765733400@tillamookchamber.org
SUMMARY:The Polar Express presented by NorthWest Dance Academy
DESCRIPTION: ALL ABOARD… The Polar Express! Do you hear that? The soft ring of a distant bell… the hiss of steam… the conductor calling\, “All aboard!”It’s time for our 4th Annual Polar Express Dance Recital — a magical Tillamook holiday tradition!\nNearly 100 talented dancers from across our community will take the stage to tell the beloved story of The Polar Express through ballet\, jazz\, hip hop\, tap\, contemporary\, musical theatre\, and acro. From dancing cocoa servers to lively train scenes and twirling North Pole snowflakes\, the spirit of the season comes alive in every step.\n THE STORY COMES TO LIFEFollow the journey of a young girl who has started to lose her belief in Christmas magic. But everything changes when a mysterious train pulls up in her front yard on Christmas Eve night. With a golden ticket in hand\, she boards the Polar Express and begins an adventure filled with friendship\, courage\, and heart.\nFrom the Hot Chocolate car to the quiet moments under the northern lights\, and finally to the grand arrival at the North Pole\, her journey reminds us that “the bell still rings for all who truly believe.” \nThis show has become a cherished tradition our studio looks forward to each year — and this year’s performance is full of new surprises\, fresh choreography\, and magical storytelling.\n Grab your golden ticket and join us for a night of wonder\, whimsy\, and Christmas cheer.The Polar Express is departing soon… are you coming?\nTickets purchased at the door. Cash/Check $10 per ticket. 4 & under are free.
URL:https://tillamookchamber.org/event/the-polar-express-presented-by-northwest-dance-academy/
LOCATION:Tillamook High School
CATEGORIES:Community,Family Fun,Holiday
END:VEVENT
BEGIN:VEVENT
DTSTART;TZID=America/Los_Angeles:20251222T130000
DTEND;TZID=America/Los_Angeles:20251222T150000
DTSTAMP:20260419T235413
CREATED:20251007T234340Z
LAST-MODIFIED:20251007T234340Z
UID:10026211-1766408400-1766415600@tillamookchamber.org
SUMMARY:Open Skate
DESCRIPTION:Are you looking for something to do with your kids during Holiday Break? Join us at Tillaskate for open skate. Bring your own skates or use ours. $5.00 if you use ours or $4 to use your own. Socks are required.
URL:https://tillamookchamber.org/event/open-skate-2/2025-12-22/
LOCATION:Tillamook County Fairgrounds\, 4603 3rd St\, Tillamook\, OR\, 97141\, United States
CATEGORIES:Community,Family Fun,Holiday
ATTACH;FMTTYPE=image/jpeg:https://tillamookchamber.org/wp-content/uploads/2025/10/Skating.jpg
END:VEVENT
BEGIN:VEVENT
DTSTART;TZID=America/Los_Angeles:20251223T130000
DTEND;TZID=America/Los_Angeles:20251223T150000
DTSTAMP:20260419T235413
CREATED:20251007T234340Z
LAST-MODIFIED:20251007T234340Z
UID:10026212-1766494800-1766502000@tillamookchamber.org
SUMMARY:Open Skate
DESCRIPTION:Are you looking for something to do with your kids during Holiday Break? Join us at Tillaskate for open skate. Bring your own skates or use ours. $5.00 if you use ours or $4 to use your own. Socks are required.
URL:https://tillamookchamber.org/event/open-skate-2/2025-12-23/
LOCATION:Tillamook County Fairgrounds\, 4603 3rd St\, Tillamook\, OR\, 97141\, United States
CATEGORIES:Community,Family Fun,Holiday
ATTACH;FMTTYPE=image/jpeg:https://tillamookchamber.org/wp-content/uploads/2025/10/Skating.jpg
END:VEVENT
BEGIN:VEVENT
DTSTART;TZID=America/Los_Angeles:20251229T130000
DTEND;TZID=America/Los_Angeles:20251229T150000
DTSTAMP:20260419T235413
CREATED:20251007T234340Z
LAST-MODIFIED:20251007T234340Z
UID:10026213-1767013200-1767020400@tillamookchamber.org
SUMMARY:Open Skate
DESCRIPTION:Are you looking for something to do with your kids during Holiday Break? Join us at Tillaskate for open skate. Bring your own skates or use ours. $5.00 if you use ours or $4 to use your own. Socks are required.
URL:https://tillamookchamber.org/event/open-skate-2/2025-12-29/
LOCATION:Tillamook County Fairgrounds\, 4603 3rd St\, Tillamook\, OR\, 97141\, United States
CATEGORIES:Community,Family Fun,Holiday
ATTACH;FMTTYPE=image/jpeg:https://tillamookchamber.org/wp-content/uploads/2025/10/Skating.jpg
END:VEVENT
BEGIN:VEVENT
DTSTART;TZID=America/Los_Angeles:20251230T130000
DTEND;TZID=America/Los_Angeles:20251230T150000
DTSTAMP:20260419T235413
CREATED:20251007T234340Z
LAST-MODIFIED:20251007T234340Z
UID:10026214-1767099600-1767106800@tillamookchamber.org
SUMMARY:Open Skate
DESCRIPTION:Are you looking for something to do with your kids during Holiday Break? Join us at Tillaskate for open skate. Bring your own skates or use ours. $5.00 if you use ours or $4 to use your own. Socks are required.
URL:https://tillamookchamber.org/event/open-skate-2/2025-12-30/
LOCATION:Tillamook County Fairgrounds\, 4603 3rd St\, Tillamook\, OR\, 97141\, United States
CATEGORIES:Community,Family Fun,Holiday
ATTACH;FMTTYPE=image/jpeg:https://tillamookchamber.org/wp-content/uploads/2025/10/Skating.jpg
END:VEVENT
END:VCALENDAR