BEGIN:VCALENDAR
VERSION:2.0
PRODID:-//Tillamook Area Chamber of Commerce - ECPv6.15.20//NONSGML v1.0//EN
CALSCALE:GREGORIAN
METHOD:PUBLISH
X-ORIGINAL-URL:https://tillamookchamber.org
X-WR-CALDESC:Events for Tillamook Area Chamber of Commerce
REFRESH-INTERVAL;VALUE=DURATION:PT1H
X-Robots-Tag:noindex
X-PUBLISHED-TTL:PT1H
BEGIN:VTIMEZONE
TZID:America/Los_Angeles
BEGIN:DAYLIGHT
TZOFFSETFROM:-0800
TZOFFSETTO:-0700
TZNAME:PDT
DTSTART:20240310T100000
END:DAYLIGHT
BEGIN:STANDARD
TZOFFSETFROM:-0700
TZOFFSETTO:-0800
TZNAME:PST
DTSTART:20241103T090000
END:STANDARD
BEGIN:DAYLIGHT
TZOFFSETFROM:-0800
TZOFFSETTO:-0700
TZNAME:PDT
DTSTART:20250309T100000
END:DAYLIGHT
BEGIN:STANDARD
TZOFFSETFROM:-0700
TZOFFSETTO:-0800
TZNAME:PST
DTSTART:20251102T090000
END:STANDARD
BEGIN:DAYLIGHT
TZOFFSETFROM:-0800
TZOFFSETTO:-0700
TZNAME:PDT
DTSTART:20260308T100000
END:DAYLIGHT
BEGIN:STANDARD
TZOFFSETFROM:-0700
TZOFFSETTO:-0800
TZNAME:PST
DTSTART:20261101T090000
END:STANDARD
END:VTIMEZONE
BEGIN:VEVENT
DTSTART;TZID=America/Los_Angeles:20251111T170000
DTEND;TZID=America/Los_Angeles:20251111T200000
DTSTAMP:20260420T043622
CREATED:20251106T193216Z
LAST-MODIFIED:20251106T194602Z
UID:10026313-1762880400-1762891200@tillamookchamber.org
SUMMARY:Veterans Day Dinner at Tillamook Elks Lodge #1437
DESCRIPTION:All Veterans are welcome to join us for dinner and an evening honoring & celebrating the men & women who served in our military defending our country.
URL:https://tillamookchamber.org/event/veterans-day-dinner-at-tillamook-elks-lodge-1437/
LOCATION:Tillamook Elk’s Lodge\, 1907 Third St.\, Tillamook\, 97141
CATEGORIES:Community,Holiday
ATTACH;FMTTYPE=image/jpeg:https://tillamookchamber.org/wp-content/uploads/2025/11/Elks-Veterans-day-dinner.jpg
END:VEVENT
BEGIN:VEVENT
DTSTART;TZID=America/Los_Angeles:20251114T080000
DTEND;TZID=America/Los_Angeles:20251114T170000
DTSTAMP:20260420T043622
CREATED:20251111T220728Z
LAST-MODIFIED:20251203T181146Z
UID:10026319-1763107200-1763139600@tillamookchamber.org
SUMMARY:Tillamook School of Dance Holiday Toy Drive
DESCRIPTION:It’s the season of giving- and Tillamook School of Dance is spreading holiday cheer once again! From November 14th-December 8th\, we’re collecting new\, unwrapped toys & gifts for kids in need.  Over the last 10 years\, TSOD has danced to donate over 5\,000 toys/gifts to local kids!\n\n\nHow can you help?  Drop off toy donations at Tillamook School or Dance or any of our awesome partnering locations; Werner Beef & Brew\, Tillamook YMCA\, Roby’s\, Grocery Outlet & PUD!\n\n\nAll toys & gifts will be donated directly to Tillamook School District #9 schools where administrators and staff will distribute them to kids in need!\n\n\nLet’s dance into the spirit of giving-together\, we can make the holiday’s magical!
URL:https://tillamookchamber.org/event/tillamook-school-of-dance-holiday-toy-drive/2025-11-14/
CATEGORIES:Community,Holiday
ATTACH;FMTTYPE=image/png:https://tillamookchamber.org/wp-content/uploads/2025/11/Red-and-White-Modern-Christmas-Toy-Drive-Instagram-Post.png
END:VEVENT
BEGIN:VEVENT
DTSTART;TZID=America/Los_Angeles:20251115T080000
DTEND;TZID=America/Los_Angeles:20251115T170000
DTSTAMP:20260420T043622
CREATED:20251111T220728Z
LAST-MODIFIED:20251203T181146Z
UID:10026320-1763193600-1763226000@tillamookchamber.org
SUMMARY:Tillamook School of Dance Holiday Toy Drive
DESCRIPTION:It’s the season of giving- and Tillamook School of Dance is spreading holiday cheer once again! From November 14th-December 8th\, we’re collecting new\, unwrapped toys & gifts for kids in need.  Over the last 10 years\, TSOD has danced to donate over 5\,000 toys/gifts to local kids!\n\n\nHow can you help?  Drop off toy donations at Tillamook School or Dance or any of our awesome partnering locations; Werner Beef & Brew\, Tillamook YMCA\, Roby’s\, Grocery Outlet & PUD!\n\n\nAll toys & gifts will be donated directly to Tillamook School District #9 schools where administrators and staff will distribute them to kids in need!\n\n\nLet’s dance into the spirit of giving-together\, we can make the holiday’s magical!
URL:https://tillamookchamber.org/event/tillamook-school-of-dance-holiday-toy-drive/2025-11-15/
CATEGORIES:Community,Holiday
ATTACH;FMTTYPE=image/png:https://tillamookchamber.org/wp-content/uploads/2025/11/Red-and-White-Modern-Christmas-Toy-Drive-Instagram-Post.png
END:VEVENT
BEGIN:VEVENT
DTSTART;TZID=America/Los_Angeles:20251116T080000
DTEND;TZID=America/Los_Angeles:20251116T170000
DTSTAMP:20260420T043622
CREATED:20251111T220728Z
LAST-MODIFIED:20251203T181146Z
UID:10026321-1763280000-1763312400@tillamookchamber.org
SUMMARY:Tillamook School of Dance Holiday Toy Drive
DESCRIPTION:It’s the season of giving- and Tillamook School of Dance is spreading holiday cheer once again! From November 14th-December 8th\, we’re collecting new\, unwrapped toys & gifts for kids in need.  Over the last 10 years\, TSOD has danced to donate over 5\,000 toys/gifts to local kids!\n\n\nHow can you help?  Drop off toy donations at Tillamook School or Dance or any of our awesome partnering locations; Werner Beef & Brew\, Tillamook YMCA\, Roby’s\, Grocery Outlet & PUD!\n\n\nAll toys & gifts will be donated directly to Tillamook School District #9 schools where administrators and staff will distribute them to kids in need!\n\n\nLet’s dance into the spirit of giving-together\, we can make the holiday’s magical!
URL:https://tillamookchamber.org/event/tillamook-school-of-dance-holiday-toy-drive/2025-11-16/
CATEGORIES:Community,Holiday
ATTACH;FMTTYPE=image/png:https://tillamookchamber.org/wp-content/uploads/2025/11/Red-and-White-Modern-Christmas-Toy-Drive-Instagram-Post.png
END:VEVENT
BEGIN:VEVENT
DTSTART;TZID=America/Los_Angeles:20251117T080000
DTEND;TZID=America/Los_Angeles:20251117T170000
DTSTAMP:20260420T043622
CREATED:20251111T220728Z
LAST-MODIFIED:20251203T181146Z
UID:10026322-1763366400-1763398800@tillamookchamber.org
SUMMARY:Tillamook School of Dance Holiday Toy Drive
DESCRIPTION:It’s the season of giving- and Tillamook School of Dance is spreading holiday cheer once again! From November 14th-December 8th\, we’re collecting new\, unwrapped toys & gifts for kids in need.  Over the last 10 years\, TSOD has danced to donate over 5\,000 toys/gifts to local kids!\n\n\nHow can you help?  Drop off toy donations at Tillamook School or Dance or any of our awesome partnering locations; Werner Beef & Brew\, Tillamook YMCA\, Roby’s\, Grocery Outlet & PUD!\n\n\nAll toys & gifts will be donated directly to Tillamook School District #9 schools where administrators and staff will distribute them to kids in need!\n\n\nLet’s dance into the spirit of giving-together\, we can make the holiday’s magical!
URL:https://tillamookchamber.org/event/tillamook-school-of-dance-holiday-toy-drive/2025-11-17/
CATEGORIES:Community,Holiday
ATTACH;FMTTYPE=image/png:https://tillamookchamber.org/wp-content/uploads/2025/11/Red-and-White-Modern-Christmas-Toy-Drive-Instagram-Post.png
END:VEVENT
BEGIN:VEVENT
DTSTART;TZID=America/Los_Angeles:20251118T080000
DTEND;TZID=America/Los_Angeles:20251118T170000
DTSTAMP:20260420T043622
CREATED:20251111T220728Z
LAST-MODIFIED:20251203T181146Z
UID:10026323-1763452800-1763485200@tillamookchamber.org
SUMMARY:Tillamook School of Dance Holiday Toy Drive
DESCRIPTION:It’s the season of giving- and Tillamook School of Dance is spreading holiday cheer once again! From November 14th-December 8th\, we’re collecting new\, unwrapped toys & gifts for kids in need.  Over the last 10 years\, TSOD has danced to donate over 5\,000 toys/gifts to local kids!\n\n\nHow can you help?  Drop off toy donations at Tillamook School or Dance or any of our awesome partnering locations; Werner Beef & Brew\, Tillamook YMCA\, Roby’s\, Grocery Outlet & PUD!\n\n\nAll toys & gifts will be donated directly to Tillamook School District #9 schools where administrators and staff will distribute them to kids in need!\n\n\nLet’s dance into the spirit of giving-together\, we can make the holiday’s magical!
URL:https://tillamookchamber.org/event/tillamook-school-of-dance-holiday-toy-drive/2025-11-18/
CATEGORIES:Community,Holiday
ATTACH;FMTTYPE=image/png:https://tillamookchamber.org/wp-content/uploads/2025/11/Red-and-White-Modern-Christmas-Toy-Drive-Instagram-Post.png
END:VEVENT
BEGIN:VEVENT
DTSTART;TZID=America/Los_Angeles:20251119T080000
DTEND;TZID=America/Los_Angeles:20251119T170000
DTSTAMP:20260420T043622
CREATED:20251111T220728Z
LAST-MODIFIED:20251203T181146Z
UID:10026324-1763539200-1763571600@tillamookchamber.org
SUMMARY:Tillamook School of Dance Holiday Toy Drive
DESCRIPTION:It’s the season of giving- and Tillamook School of Dance is spreading holiday cheer once again! From November 14th-December 8th\, we’re collecting new\, unwrapped toys & gifts for kids in need.  Over the last 10 years\, TSOD has danced to donate over 5\,000 toys/gifts to local kids!\n\n\nHow can you help?  Drop off toy donations at Tillamook School or Dance or any of our awesome partnering locations; Werner Beef & Brew\, Tillamook YMCA\, Roby’s\, Grocery Outlet & PUD!\n\n\nAll toys & gifts will be donated directly to Tillamook School District #9 schools where administrators and staff will distribute them to kids in need!\n\n\nLet’s dance into the spirit of giving-together\, we can make the holiday’s magical!
URL:https://tillamookchamber.org/event/tillamook-school-of-dance-holiday-toy-drive/2025-11-19/
CATEGORIES:Community,Holiday
ATTACH;FMTTYPE=image/png:https://tillamookchamber.org/wp-content/uploads/2025/11/Red-and-White-Modern-Christmas-Toy-Drive-Instagram-Post.png
END:VEVENT
BEGIN:VEVENT
DTSTART;TZID=America/Los_Angeles:20251120T080000
DTEND;TZID=America/Los_Angeles:20251120T170000
DTSTAMP:20260420T043622
CREATED:20251111T220728Z
LAST-MODIFIED:20251203T181146Z
UID:10026325-1763625600-1763658000@tillamookchamber.org
SUMMARY:Tillamook School of Dance Holiday Toy Drive
DESCRIPTION:It’s the season of giving- and Tillamook School of Dance is spreading holiday cheer once again! From November 14th-December 8th\, we’re collecting new\, unwrapped toys & gifts for kids in need.  Over the last 10 years\, TSOD has danced to donate over 5\,000 toys/gifts to local kids!\n\n\nHow can you help?  Drop off toy donations at Tillamook School or Dance or any of our awesome partnering locations; Werner Beef & Brew\, Tillamook YMCA\, Roby’s\, Grocery Outlet & PUD!\n\n\nAll toys & gifts will be donated directly to Tillamook School District #9 schools where administrators and staff will distribute them to kids in need!\n\n\nLet’s dance into the spirit of giving-together\, we can make the holiday’s magical!
URL:https://tillamookchamber.org/event/tillamook-school-of-dance-holiday-toy-drive/2025-11-20/
CATEGORIES:Community,Holiday
ATTACH;FMTTYPE=image/png:https://tillamookchamber.org/wp-content/uploads/2025/11/Red-and-White-Modern-Christmas-Toy-Drive-Instagram-Post.png
END:VEVENT
BEGIN:VEVENT
DTSTART;TZID=America/Los_Angeles:20251121T080000
DTEND;TZID=America/Los_Angeles:20251121T170000
DTSTAMP:20260420T043622
CREATED:20251111T220728Z
LAST-MODIFIED:20251203T181146Z
UID:10026326-1763712000-1763744400@tillamookchamber.org
SUMMARY:Tillamook School of Dance Holiday Toy Drive
DESCRIPTION:It’s the season of giving- and Tillamook School of Dance is spreading holiday cheer once again! From November 14th-December 8th\, we’re collecting new\, unwrapped toys & gifts for kids in need.  Over the last 10 years\, TSOD has danced to donate over 5\,000 toys/gifts to local kids!\n\n\nHow can you help?  Drop off toy donations at Tillamook School or Dance or any of our awesome partnering locations; Werner Beef & Brew\, Tillamook YMCA\, Roby’s\, Grocery Outlet & PUD!\n\n\nAll toys & gifts will be donated directly to Tillamook School District #9 schools where administrators and staff will distribute them to kids in need!\n\n\nLet’s dance into the spirit of giving-together\, we can make the holiday’s magical!
URL:https://tillamookchamber.org/event/tillamook-school-of-dance-holiday-toy-drive/2025-11-21/
CATEGORIES:Community,Holiday
ATTACH;FMTTYPE=image/png:https://tillamookchamber.org/wp-content/uploads/2025/11/Red-and-White-Modern-Christmas-Toy-Drive-Instagram-Post.png
END:VEVENT
BEGIN:VEVENT
DTSTART;TZID=America/Los_Angeles:20251122T080000
DTEND;TZID=America/Los_Angeles:20251122T170000
DTSTAMP:20260420T043622
CREATED:20251111T220728Z
LAST-MODIFIED:20251203T181146Z
UID:10026327-1763798400-1763830800@tillamookchamber.org
SUMMARY:Tillamook School of Dance Holiday Toy Drive
DESCRIPTION:It’s the season of giving- and Tillamook School of Dance is spreading holiday cheer once again! From November 14th-December 8th\, we’re collecting new\, unwrapped toys & gifts for kids in need.  Over the last 10 years\, TSOD has danced to donate over 5\,000 toys/gifts to local kids!\n\n\nHow can you help?  Drop off toy donations at Tillamook School or Dance or any of our awesome partnering locations; Werner Beef & Brew\, Tillamook YMCA\, Roby’s\, Grocery Outlet & PUD!\n\n\nAll toys & gifts will be donated directly to Tillamook School District #9 schools where administrators and staff will distribute them to kids in need!\n\n\nLet’s dance into the spirit of giving-together\, we can make the holiday’s magical!
URL:https://tillamookchamber.org/event/tillamook-school-of-dance-holiday-toy-drive/2025-11-22/
CATEGORIES:Community,Holiday
ATTACH;FMTTYPE=image/png:https://tillamookchamber.org/wp-content/uploads/2025/11/Red-and-White-Modern-Christmas-Toy-Drive-Instagram-Post.png
END:VEVENT
BEGIN:VEVENT
DTSTART;TZID=America/Los_Angeles:20251123T080000
DTEND;TZID=America/Los_Angeles:20251123T170000
DTSTAMP:20260420T043622
CREATED:20251111T220728Z
LAST-MODIFIED:20251203T181146Z
UID:10026328-1763884800-1763917200@tillamookchamber.org
SUMMARY:Tillamook School of Dance Holiday Toy Drive
DESCRIPTION:It’s the season of giving- and Tillamook School of Dance is spreading holiday cheer once again! From November 14th-December 8th\, we’re collecting new\, unwrapped toys & gifts for kids in need.  Over the last 10 years\, TSOD has danced to donate over 5\,000 toys/gifts to local kids!\n\n\nHow can you help?  Drop off toy donations at Tillamook School or Dance or any of our awesome partnering locations; Werner Beef & Brew\, Tillamook YMCA\, Roby’s\, Grocery Outlet & PUD!\n\n\nAll toys & gifts will be donated directly to Tillamook School District #9 schools where administrators and staff will distribute them to kids in need!\n\n\nLet’s dance into the spirit of giving-together\, we can make the holiday’s magical!
URL:https://tillamookchamber.org/event/tillamook-school-of-dance-holiday-toy-drive/2025-11-23/
CATEGORIES:Community,Holiday
ATTACH;FMTTYPE=image/png:https://tillamookchamber.org/wp-content/uploads/2025/11/Red-and-White-Modern-Christmas-Toy-Drive-Instagram-Post.png
END:VEVENT
BEGIN:VEVENT
DTSTART;TZID=America/Los_Angeles:20251124T080000
DTEND;TZID=America/Los_Angeles:20251124T170000
DTSTAMP:20260420T043622
CREATED:20251111T220728Z
LAST-MODIFIED:20251203T181146Z
UID:10026329-1763971200-1764003600@tillamookchamber.org
SUMMARY:Tillamook School of Dance Holiday Toy Drive
DESCRIPTION:It’s the season of giving- and Tillamook School of Dance is spreading holiday cheer once again! From November 14th-December 8th\, we’re collecting new\, unwrapped toys & gifts for kids in need.  Over the last 10 years\, TSOD has danced to donate over 5\,000 toys/gifts to local kids!\n\n\nHow can you help?  Drop off toy donations at Tillamook School or Dance or any of our awesome partnering locations; Werner Beef & Brew\, Tillamook YMCA\, Roby’s\, Grocery Outlet & PUD!\n\n\nAll toys & gifts will be donated directly to Tillamook School District #9 schools where administrators and staff will distribute them to kids in need!\n\n\nLet’s dance into the spirit of giving-together\, we can make the holiday’s magical!
URL:https://tillamookchamber.org/event/tillamook-school-of-dance-holiday-toy-drive/2025-11-24/
CATEGORIES:Community,Holiday
ATTACH;FMTTYPE=image/png:https://tillamookchamber.org/wp-content/uploads/2025/11/Red-and-White-Modern-Christmas-Toy-Drive-Instagram-Post.png
END:VEVENT
BEGIN:VEVENT
DTSTART;TZID=America/Los_Angeles:20251125T080000
DTEND;TZID=America/Los_Angeles:20251125T170000
DTSTAMP:20260420T043622
CREATED:20251111T220728Z
LAST-MODIFIED:20251203T181146Z
UID:10026330-1764057600-1764090000@tillamookchamber.org
SUMMARY:Tillamook School of Dance Holiday Toy Drive
DESCRIPTION:It’s the season of giving- and Tillamook School of Dance is spreading holiday cheer once again! From November 14th-December 8th\, we’re collecting new\, unwrapped toys & gifts for kids in need.  Over the last 10 years\, TSOD has danced to donate over 5\,000 toys/gifts to local kids!\n\n\nHow can you help?  Drop off toy donations at Tillamook School or Dance or any of our awesome partnering locations; Werner Beef & Brew\, Tillamook YMCA\, Roby’s\, Grocery Outlet & PUD!\n\n\nAll toys & gifts will be donated directly to Tillamook School District #9 schools where administrators and staff will distribute them to kids in need!\n\n\nLet’s dance into the spirit of giving-together\, we can make the holiday’s magical!
URL:https://tillamookchamber.org/event/tillamook-school-of-dance-holiday-toy-drive/2025-11-25/
CATEGORIES:Community,Holiday
ATTACH;FMTTYPE=image/png:https://tillamookchamber.org/wp-content/uploads/2025/11/Red-and-White-Modern-Christmas-Toy-Drive-Instagram-Post.png
END:VEVENT
BEGIN:VEVENT
DTSTART;TZID=America/Los_Angeles:20251125T170000
DTEND;TZID=America/Los_Angeles:20251125T193000
DTSTAMP:20260420T043622
CREATED:20251110T203256Z
LAST-MODIFIED:20251110T203256Z
UID:10026315-1764090000-1764099000@tillamookchamber.org
SUMMARY:Christmas After Hours Shopping Night
DESCRIPTION:On November 25th\, come get a first look at Christmas at the ReStore. We will have an after hours shopping night from 5-7:30PM. This event follows hour Christmas prep shut down from November 10th through November 24th. $10 entry fee. We will have light refreshments and cookies as well. We hope to see you there for a wonderful time!
URL:https://tillamookchamber.org/event/christmas-after-hours-shopping-night/
CATEGORIES:Community,Holiday,Shopping and Sales
ATTACH;FMTTYPE=image/png:https://tillamookchamber.org/wp-content/uploads/2025/11/Christmas-after-hours-Instagram-Post-45.png
END:VEVENT
BEGIN:VEVENT
DTSTART;TZID=America/Los_Angeles:20251126T080000
DTEND;TZID=America/Los_Angeles:20251126T170000
DTSTAMP:20260420T043622
CREATED:20251111T220728Z
LAST-MODIFIED:20251203T181146Z
UID:10026331-1764144000-1764176400@tillamookchamber.org
SUMMARY:Tillamook School of Dance Holiday Toy Drive
DESCRIPTION:It’s the season of giving- and Tillamook School of Dance is spreading holiday cheer once again! From November 14th-December 8th\, we’re collecting new\, unwrapped toys & gifts for kids in need.  Over the last 10 years\, TSOD has danced to donate over 5\,000 toys/gifts to local kids!\n\n\nHow can you help?  Drop off toy donations at Tillamook School or Dance or any of our awesome partnering locations; Werner Beef & Brew\, Tillamook YMCA\, Roby’s\, Grocery Outlet & PUD!\n\n\nAll toys & gifts will be donated directly to Tillamook School District #9 schools where administrators and staff will distribute them to kids in need!\n\n\nLet’s dance into the spirit of giving-together\, we can make the holiday’s magical!
URL:https://tillamookchamber.org/event/tillamook-school-of-dance-holiday-toy-drive/2025-11-26/
CATEGORIES:Community,Holiday
ATTACH;FMTTYPE=image/png:https://tillamookchamber.org/wp-content/uploads/2025/11/Red-and-White-Modern-Christmas-Toy-Drive-Instagram-Post.png
END:VEVENT
BEGIN:VEVENT
DTSTART;TZID=America/Los_Angeles:20251127T080000
DTEND;TZID=America/Los_Angeles:20251127T170000
DTSTAMP:20260420T043622
CREATED:20251111T220728Z
LAST-MODIFIED:20251203T181146Z
UID:10026332-1764230400-1764262800@tillamookchamber.org
SUMMARY:Tillamook School of Dance Holiday Toy Drive
DESCRIPTION:It’s the season of giving- and Tillamook School of Dance is spreading holiday cheer once again! From November 14th-December 8th\, we’re collecting new\, unwrapped toys & gifts for kids in need.  Over the last 10 years\, TSOD has danced to donate over 5\,000 toys/gifts to local kids!\n\n\nHow can you help?  Drop off toy donations at Tillamook School or Dance or any of our awesome partnering locations; Werner Beef & Brew\, Tillamook YMCA\, Roby’s\, Grocery Outlet & PUD!\n\n\nAll toys & gifts will be donated directly to Tillamook School District #9 schools where administrators and staff will distribute them to kids in need!\n\n\nLet’s dance into the spirit of giving-together\, we can make the holiday’s magical!
URL:https://tillamookchamber.org/event/tillamook-school-of-dance-holiday-toy-drive/2025-11-27/
CATEGORIES:Community,Holiday
ATTACH;FMTTYPE=image/png:https://tillamookchamber.org/wp-content/uploads/2025/11/Red-and-White-Modern-Christmas-Toy-Drive-Instagram-Post.png
END:VEVENT
BEGIN:VEVENT
DTSTART;TZID=America/Los_Angeles:20251128T080000
DTEND;TZID=America/Los_Angeles:20251128T170000
DTSTAMP:20260420T043622
CREATED:20251111T220728Z
LAST-MODIFIED:20251203T181146Z
UID:10026333-1764316800-1764349200@tillamookchamber.org
SUMMARY:Tillamook School of Dance Holiday Toy Drive
DESCRIPTION:It’s the season of giving- and Tillamook School of Dance is spreading holiday cheer once again! From November 14th-December 8th\, we’re collecting new\, unwrapped toys & gifts for kids in need.  Over the last 10 years\, TSOD has danced to donate over 5\,000 toys/gifts to local kids!\n\n\nHow can you help?  Drop off toy donations at Tillamook School or Dance or any of our awesome partnering locations; Werner Beef & Brew\, Tillamook YMCA\, Roby’s\, Grocery Outlet & PUD!\n\n\nAll toys & gifts will be donated directly to Tillamook School District #9 schools where administrators and staff will distribute them to kids in need!\n\n\nLet’s dance into the spirit of giving-together\, we can make the holiday’s magical!
URL:https://tillamookchamber.org/event/tillamook-school-of-dance-holiday-toy-drive/2025-11-28/
CATEGORIES:Community,Holiday
ATTACH;FMTTYPE=image/png:https://tillamookchamber.org/wp-content/uploads/2025/11/Red-and-White-Modern-Christmas-Toy-Drive-Instagram-Post.png
END:VEVENT
BEGIN:VEVENT
DTSTART;TZID=America/Los_Angeles:20251128T173000
DTEND;TZID=America/Los_Angeles:20251128T190000
DTSTAMP:20260420T043622
CREATED:20251119T231903Z
LAST-MODIFIED:20251119T231903Z
UID:10028164-1764351000-1764356400@tillamookchamber.org
SUMMARY:Rockaway Beach Tree Lighting &  Holiday Sale
DESCRIPTION:Kick off the Christmas season with the annual tree lighting at the Wayside! Hang your homemade ornament on the community Christmas tree and enjoy the live music\, hot cocoa and cider\, and a place to write letters to Santa beginning at 5:30. The OCSR train will bring Santa at 6:00\, followed by caroling and the tree lighting at 6:30. Local businesses will be open late for shopping\, many with special sales! Canned food and donations for the North Coast Food Bank will also be collected. \nThis event is put on by the City of Rockaway Beach and the Rockaway Beach Business Association.
URL:https://tillamookchamber.org/event/rockaway-beach-tree-lighting-holiday-sale/
LOCATION:Rockaway Beach Wayside\, 211 S 1st Street\, Rockaway Beach OR 97136
CATEGORIES:Community,Family Fun,Holiday
ATTACH;FMTTYPE=image/png:https://tillamookchamber.org/wp-content/uploads/2025/11/tree-lighting-flyer-2025-8x11-1.png
END:VEVENT
BEGIN:VEVENT
DTSTART;TZID=America/Los_Angeles:20251129T080000
DTEND;TZID=America/Los_Angeles:20251129T170000
DTSTAMP:20260420T043622
CREATED:20251111T220728Z
LAST-MODIFIED:20251203T181146Z
UID:10026334-1764403200-1764435600@tillamookchamber.org
SUMMARY:Tillamook School of Dance Holiday Toy Drive
DESCRIPTION:It’s the season of giving- and Tillamook School of Dance is spreading holiday cheer once again! From November 14th-December 8th\, we’re collecting new\, unwrapped toys & gifts for kids in need.  Over the last 10 years\, TSOD has danced to donate over 5\,000 toys/gifts to local kids!\n\n\nHow can you help?  Drop off toy donations at Tillamook School or Dance or any of our awesome partnering locations; Werner Beef & Brew\, Tillamook YMCA\, Roby’s\, Grocery Outlet & PUD!\n\n\nAll toys & gifts will be donated directly to Tillamook School District #9 schools where administrators and staff will distribute them to kids in need!\n\n\nLet’s dance into the spirit of giving-together\, we can make the holiday’s magical!
URL:https://tillamookchamber.org/event/tillamook-school-of-dance-holiday-toy-drive/2025-11-29/
CATEGORIES:Community,Holiday
ATTACH;FMTTYPE=image/png:https://tillamookchamber.org/wp-content/uploads/2025/11/Red-and-White-Modern-Christmas-Toy-Drive-Instagram-Post.png
END:VEVENT
BEGIN:VEVENT
DTSTART;TZID=America/Los_Angeles:20251130T080000
DTEND;TZID=America/Los_Angeles:20251130T170000
DTSTAMP:20260420T043622
CREATED:20251111T220728Z
LAST-MODIFIED:20251203T181146Z
UID:10026335-1764489600-1764522000@tillamookchamber.org
SUMMARY:Tillamook School of Dance Holiday Toy Drive
DESCRIPTION:It’s the season of giving- and Tillamook School of Dance is spreading holiday cheer once again! From November 14th-December 8th\, we’re collecting new\, unwrapped toys & gifts for kids in need.  Over the last 10 years\, TSOD has danced to donate over 5\,000 toys/gifts to local kids!\n\n\nHow can you help?  Drop off toy donations at Tillamook School or Dance or any of our awesome partnering locations; Werner Beef & Brew\, Tillamook YMCA\, Roby’s\, Grocery Outlet & PUD!\n\n\nAll toys & gifts will be donated directly to Tillamook School District #9 schools where administrators and staff will distribute them to kids in need!\n\n\nLet’s dance into the spirit of giving-together\, we can make the holiday’s magical!
URL:https://tillamookchamber.org/event/tillamook-school-of-dance-holiday-toy-drive/2025-11-30/
CATEGORIES:Community,Holiday
ATTACH;FMTTYPE=image/png:https://tillamookchamber.org/wp-content/uploads/2025/11/Red-and-White-Modern-Christmas-Toy-Drive-Instagram-Post.png
END:VEVENT
END:VCALENDAR