BEGIN:VCALENDAR
VERSION:2.0
PRODID:-//Tillamook Area Chamber of Commerce - ECPv6.15.20//NONSGML v1.0//EN
CALSCALE:GREGORIAN
METHOD:PUBLISH
X-WR-CALNAME:Tillamook Area Chamber of Commerce
X-ORIGINAL-URL:https://tillamookchamber.org
X-WR-CALDESC:Events for Tillamook Area Chamber of Commerce
REFRESH-INTERVAL;VALUE=DURATION:PT1H
X-Robots-Tag:noindex
X-PUBLISHED-TTL:PT1H
BEGIN:VTIMEZONE
TZID:America/Los_Angeles
BEGIN:DAYLIGHT
TZOFFSETFROM:-0800
TZOFFSETTO:-0700
TZNAME:PDT
DTSTART:20240310T100000
END:DAYLIGHT
BEGIN:STANDARD
TZOFFSETFROM:-0700
TZOFFSETTO:-0800
TZNAME:PST
DTSTART:20241103T090000
END:STANDARD
BEGIN:DAYLIGHT
TZOFFSETFROM:-0800
TZOFFSETTO:-0700
TZNAME:PDT
DTSTART:20250309T100000
END:DAYLIGHT
BEGIN:STANDARD
TZOFFSETFROM:-0700
TZOFFSETTO:-0800
TZNAME:PST
DTSTART:20251102T090000
END:STANDARD
BEGIN:DAYLIGHT
TZOFFSETFROM:-0800
TZOFFSETTO:-0700
TZNAME:PDT
DTSTART:20260308T100000
END:DAYLIGHT
BEGIN:STANDARD
TZOFFSETFROM:-0700
TZOFFSETTO:-0800
TZNAME:PST
DTSTART:20261101T090000
END:STANDARD
END:VTIMEZONE
BEGIN:VEVENT
DTSTART;TZID=America/Los_Angeles:20251010T080000
DTEND;TZID=America/Los_Angeles:20251010T120000
DTSTAMP:20260420T071441
CREATED:20250923T210758Z
LAST-MODIFIED:20250923T210758Z
UID:10025619-1760083200-1760097600@tillamookchamber.org
SUMMARY:Veterans Day at the Air Museum
DESCRIPTION:Everyone is welcome to celebrate Veterans Day at the Tillamook Air Museum. Breakfast starts at 8AM and the Ceremony is at 11AM.
URL:https://tillamookchamber.org/event/veterans-day-at-the-air-museum/
LOCATION:Tillamook Air Museum\, 6030 Hangar Rd\, OR\, United States
CATEGORIES:Community,Holiday
ATTACH;FMTTYPE=image/png:https://tillamookchamber.org/wp-content/uploads/2025/09/Veterans-Day-Flyer.png
END:VEVENT
BEGIN:VEVENT
DTSTART;TZID=America/Los_Angeles:20251010T100000
DTEND;TZID=America/Los_Angeles:20251010T150000
DTSTAMP:20260420T071441
CREATED:20250923T210840Z
LAST-MODIFIED:20250923T210840Z
UID:10025618-1760090400-1760108400@tillamookchamber.org
SUMMARY:Veterans Convention
DESCRIPTION:All Veterans are invited to the Tillamook County Fair Grounds from 10:00AM to 3pm on October 10th. Their will be food\, giveaways\, raffles\, services\, and comradery. Hope to see you there.
URL:https://tillamookchamber.org/event/veterans-convention/
LOCATION:Tillamook County Fairgrounds\, 4603 3rd St\, Tillamook\, OR\, 97141\, United States
CATEGORIES:Community,Holiday
ATTACH;FMTTYPE=image/png:https://tillamookchamber.org/wp-content/uploads/2025/09/Veterans-Convention-Flyer.png
END:VEVENT
BEGIN:VEVENT
DTSTART;TZID=America/Los_Angeles:20251018T130000
DTEND;TZID=America/Los_Angeles:20251018T170000
DTSTAMP:20260420T071441
CREATED:20251021T160251Z
LAST-MODIFIED:20251021T160251Z
UID:10026225-1760792400-1760806800@tillamookchamber.org
SUMMARY:Decorate Haunted House Tombstones at Tillamook Library
DESCRIPTION:It’s almost time for the library’s haunted house (part of downtown trick or treat on Halloween!) and we need your help! All ages are invited to decorate tombstones to go along the haunted house path on Saturday the 18th\, 1 pm!
URL:https://tillamookchamber.org/event/decorate-haunted-house-tombstones-at-tillamook-library/
LOCATION:Tillamook County Library\, 1716 3rd Street Tillamook Oregon 97141
CATEGORIES:Community,Family Fun,Holiday
ATTACH;FMTTYPE=image/png:https://tillamookchamber.org/wp-content/uploads/2025/10/Decorate-Tombstones-101825-TM.png
END:VEVENT
BEGIN:VEVENT
DTSTART;TZID=America/Los_Angeles:20251024T190000
DTEND;TZID=America/Los_Angeles:20251024T220000
DTSTAMP:20260420T071441
CREATED:20250919T232957Z
LAST-MODIFIED:20250919T232957Z
UID:10025613-1761332400-1761343200@tillamookchamber.org
SUMMARY:The Maze of Murder Haunted Maze Night
DESCRIPTION:The Maze of Murder Haunted Maze Night will take place October 24 & 25\, from dusk (7 pm) to 10 pm. $12 for admission. Keep in mind\, this is a fright night. Enter at your own risk. Advised for ages 13+ Fifty percent of admission profits will be donated to the Titan Outdoors “Lil Titans” Youth Hunting Camp. **Please do not throw corn or you will be removed from the maze. **
URL:https://tillamookchamber.org/event/the-maze-of-murder-haunted-maze-night/2025-10-24/
LOCATION:Hydrangea Ranch\, 9455 Kilchis River Rd\, Tillamook OR 97141
CATEGORIES:Community,Family Fun,Holiday
ATTACH;FMTTYPE=image/jpeg:https://tillamookchamber.org/wp-content/uploads/2025/09/550534057_1697397447841166_3662568080377353269_n.jpg
END:VEVENT
BEGIN:VEVENT
DTSTART;TZID=America/Los_Angeles:20251025T190000
DTEND;TZID=America/Los_Angeles:20251025T220000
DTSTAMP:20260420T071441
CREATED:20250919T232957Z
LAST-MODIFIED:20250919T232957Z
UID:10025614-1761418800-1761429600@tillamookchamber.org
SUMMARY:The Maze of Murder Haunted Maze Night
DESCRIPTION:The Maze of Murder Haunted Maze Night will take place October 24 & 25\, from dusk (7 pm) to 10 pm. $12 for admission. Keep in mind\, this is a fright night. Enter at your own risk. Advised for ages 13+ Fifty percent of admission profits will be donated to the Titan Outdoors “Lil Titans” Youth Hunting Camp. **Please do not throw corn or you will be removed from the maze. **
URL:https://tillamookchamber.org/event/the-maze-of-murder-haunted-maze-night/2025-10-25/
LOCATION:Hydrangea Ranch\, 9455 Kilchis River Rd\, Tillamook OR 97141
CATEGORIES:Community,Family Fun,Holiday
ATTACH;FMTTYPE=image/jpeg:https://tillamookchamber.org/wp-content/uploads/2025/09/550534057_1697397447841166_3662568080377353269_n.jpg
END:VEVENT
BEGIN:VEVENT
DTSTART;TZID=America/Los_Angeles:20251031T150000
DTEND;TZID=America/Los_Angeles:20251031T180000
DTSTAMP:20260420T071441
CREATED:20251022T232747Z
LAST-MODIFIED:20251022T232747Z
UID:10026240-1761922800-1761933600@tillamookchamber.org
SUMMARY:Trick or Treat at TBCC
DESCRIPTION:Stop by Tillamook Bay Community College on Halloween from 3:00 – 6:00 PM for fun activities\, great costumes\, candy (of course)\, and a carnival! Bring the whole family and join us for a wonderful night full of fun and fright\n\n\nTBCC facilities are ADA-accessible. If you have questions about access or accommodations please contact Jason Lawrence\, Executive Director of Facilities and Safety; 4301 Third Street\, Tillamook\, OR 97141\, 503-842-8222 ext. 1520.\n\nLas instalaciones del TBCC son accesibles según la ADA. Si tiene preguntas sobre acceso o acomodaciones por favor contacte a Jason Lawrence\, Director Ejecutivo de Instalaciones y Seguridad; 4301 Third Street\, Tillamook\, OR 97141\, 503-842-8222 ext. 1520.
URL:https://tillamookchamber.org/event/trick-or-treat-at-tbcc/
LOCATION:Tillamook Bay Community College\, 4301 3rd St\, Tillamook\, OR\, 97141\, United States
CATEGORIES:Community,Family Fun,Holiday
ATTACH;FMTTYPE=image/png:https://tillamookchamber.org/wp-content/uploads/2025/10/Halloween-Event-1-scaled.png
END:VEVENT
BEGIN:VEVENT
DTSTART;TZID=America/Los_Angeles:20251031T170000
DTEND;TZID=America/Los_Angeles:20251031T190000
DTSTAMP:20260420T071441
CREATED:20251006T163521Z
LAST-MODIFIED:20251006T163521Z
UID:10026208-1761930000-1761937200@tillamookchamber.org
SUMMARY:2nd Annual Bay City Trunk or Treat!
DESCRIPTION:Bring the kids down to the 2nd Annual Bay City Trunk or Treat!  It’s a great family friendly\, fun and safe event to celebrate Halloween\, October 31st!  Trick or treat to decorated parking spots and inside town hall.  Hot CHocolate\, Cider\, Games and activities for the littles! \n\n\nIf you would like to participate by hosting a vehicle or a table inside City Hall\, please reach out to baycitytrunkortreat@gmail.com\, or call Town Hall at 503-377-2288.  Indoor space is limited\, so register early.  Prizes given for Scariest\, Funniest\, Cutest and Most Creative! \n\nHosted by the Bay City Emergency Volunteers the Bay City Town Hall\, and sponsored by the Bay City Fire Dept\, Boosters and the City of Bay City.
URL:https://tillamookchamber.org/event/2nd-annual-bay-city-trunk-or-treat/
LOCATION:Bay City Town Hall\, 5525 B St\, Bay City\, OR 97107
CATEGORIES:Community,Family Fun,Holiday
ATTACH;FMTTYPE=image/png:https://tillamookchamber.org/wp-content/uploads/2025/10/BCTOT25.png
END:VEVENT
BEGIN:VEVENT
DTSTART;TZID=America/Los_Angeles:20251031T193000
DTEND;TZID=America/Los_Angeles:20251031T210000
DTSTAMP:20260420T071441
CREATED:20250902T181852Z
LAST-MODIFIED:20250902T181852Z
UID:10025496-1761939000-1761944400@tillamookchamber.org
SUMMARY:Job's Daughters Bethel 17 Halloween Party
DESCRIPTION:Come join Job’s Daughters Bethel 17 for a costume contest and Halloween party. Open to young ladies and their families. \nJob’s Daughters is a organization for young ladies ages 10 to 20 with a Jobies2be group for girls ages 6 to 9. \nJob’s Daughters teaches young women life skills such as public speaking\, organizational operations\, financial responsibility and fundraising skills\, plus many more.
URL:https://tillamookchamber.org/event/jobs-daughters-bethel-17-halloween-party/
LOCATION:Tillamook Masonic Lodge\, 1904 1/2 Second Street\, Tillamook OR 97141
CATEGORIES:Community,Family Fun,Holiday
ATTACH;FMTTYPE=image/jpeg:https://tillamookchamber.org/wp-content/uploads/2025/09/Screenshot_20250901_184001_Adobe-Acrobat.jpg
END:VEVENT
END:VCALENDAR