BEGIN:VCALENDAR
VERSION:2.0
PRODID:-//Tillamook Area Chamber of Commerce - ECPv6.15.20//NONSGML v1.0//EN
CALSCALE:GREGORIAN
METHOD:PUBLISH
X-WR-CALNAME:Tillamook Area Chamber of Commerce
X-ORIGINAL-URL:https://tillamookchamber.org
X-WR-CALDESC:Events for Tillamook Area Chamber of Commerce
REFRESH-INTERVAL;VALUE=DURATION:PT1H
X-Robots-Tag:noindex
X-PUBLISHED-TTL:PT1H
BEGIN:VTIMEZONE
TZID:America/Los_Angeles
BEGIN:DAYLIGHT
TZOFFSETFROM:-0800
TZOFFSETTO:-0700
TZNAME:PDT
DTSTART:20240310T100000
END:DAYLIGHT
BEGIN:STANDARD
TZOFFSETFROM:-0700
TZOFFSETTO:-0800
TZNAME:PST
DTSTART:20241103T090000
END:STANDARD
BEGIN:DAYLIGHT
TZOFFSETFROM:-0800
TZOFFSETTO:-0700
TZNAME:PDT
DTSTART:20250309T100000
END:DAYLIGHT
BEGIN:STANDARD
TZOFFSETFROM:-0700
TZOFFSETTO:-0800
TZNAME:PST
DTSTART:20251102T090000
END:STANDARD
BEGIN:DAYLIGHT
TZOFFSETFROM:-0800
TZOFFSETTO:-0700
TZNAME:PDT
DTSTART:20260308T100000
END:DAYLIGHT
BEGIN:STANDARD
TZOFFSETFROM:-0700
TZOFFSETTO:-0800
TZNAME:PST
DTSTART:20261101T090000
END:STANDARD
END:VTIMEZONE
BEGIN:VEVENT
DTSTART;TZID=America/Los_Angeles:20250615T140000
DTEND;TZID=America/Los_Angeles:20250615T180000
DTSTAMP:20260421T024948
CREATED:20250516T220554Z
LAST-MODIFIED:20250516T220554Z
UID:10021403-1749996000-1750010400@tillamookchamber.org
SUMMARY:Tillamook Elk’s Father’s Day “Steak Feed”
DESCRIPTION:Come out to the Tillamook Elk’s Lodge and celebrate the men\, fathers\, grandfathers in your life with a GREAT “Steak Feed” lunch or dinner on Fathers Day Sunday June 15th from 2:00pm to 6:00pm. The steak price is $2.25 an ounce\, let us know how big or small you want…… That includes all the fixins. Drink Specials  – Raffle  –  Music. Please call the lodge and make your reservations today (503) 842-6623
URL:https://tillamookchamber.org/event/tillamook-elks-fathers-day-steak-feed/
LOCATION:Tillamook Elk’s Lodge\, 1907 Third St.
CATEGORIES:Community,Holiday
END:VEVENT
END:VCALENDAR