BEGIN:VCALENDAR
VERSION:2.0
PRODID:-//Tillamook Area Chamber of Commerce - ECPv6.15.20//NONSGML v1.0//EN
CALSCALE:GREGORIAN
METHOD:PUBLISH
X-ORIGINAL-URL:https://tillamookchamber.org
X-WR-CALDESC:Events for Tillamook Area Chamber of Commerce
REFRESH-INTERVAL;VALUE=DURATION:PT1H
X-Robots-Tag:noindex
X-PUBLISHED-TTL:PT1H
BEGIN:VTIMEZONE
TZID:America/Los_Angeles
BEGIN:DAYLIGHT
TZOFFSETFROM:-0800
TZOFFSETTO:-0700
TZNAME:PDT
DTSTART:20240310T100000
END:DAYLIGHT
BEGIN:STANDARD
TZOFFSETFROM:-0700
TZOFFSETTO:-0800
TZNAME:PST
DTSTART:20241103T090000
END:STANDARD
BEGIN:DAYLIGHT
TZOFFSETFROM:-0800
TZOFFSETTO:-0700
TZNAME:PDT
DTSTART:20250309T100000
END:DAYLIGHT
BEGIN:STANDARD
TZOFFSETFROM:-0700
TZOFFSETTO:-0800
TZNAME:PST
DTSTART:20251102T090000
END:STANDARD
BEGIN:DAYLIGHT
TZOFFSETFROM:-0800
TZOFFSETTO:-0700
TZNAME:PDT
DTSTART:20260308T100000
END:DAYLIGHT
BEGIN:STANDARD
TZOFFSETFROM:-0700
TZOFFSETTO:-0800
TZNAME:PST
DTSTART:20261101T090000
END:STANDARD
END:VTIMEZONE
BEGIN:VEVENT
DTSTART;TZID=America/Los_Angeles:20250214T170000
DTEND;TZID=America/Los_Angeles:20250214T230000
DTSTAMP:20260422T151928
CREATED:20250124T001936Z
LAST-MODIFIED:20250124T001936Z
UID:10017776-1739552400-1739574000@tillamookchamber.org
SUMMARY:Tillamook Elk’s Valentines Dinner Dance
DESCRIPTION:Tillamook Elk’s Lodge is hosting a Valentines Dinner Dance Friday February 14th. Dinner starts at 5:00pm\,  Music & Dancing starts at 7:00pm. This event is open to the public\, reservations are strongly encouraged for Dinner by calling the Lodge office  (503) 842-6623. Reservations are not required if guest are attending the dance only\, cover charge $10.00. This is a 21 and over event.
URL:https://tillamookchamber.org/event/tillamook-elks-valentines-dinner-dance/
LOCATION:Tillamook Elk’s Lodge\, 1907 Third St.\, Tillamook\, 97141
CATEGORIES:Community,Holiday
ATTACH;FMTTYPE=image/jpeg:https://tillamookchamber.org/wp-content/uploads/2025/01/Valentines-Dinner-Dance-Invitation-1_1737575133940.jpg
END:VEVENT
END:VCALENDAR