BEGIN:VCALENDAR
VERSION:2.0
PRODID:-//Tillamook Area Chamber of Commerce - ECPv6.15.20//NONSGML v1.0//EN
CALSCALE:GREGORIAN
METHOD:PUBLISH
X-WR-CALNAME:Tillamook Area Chamber of Commerce
X-ORIGINAL-URL:https://tillamookchamber.org
X-WR-CALDESC:Events for Tillamook Area Chamber of Commerce
REFRESH-INTERVAL;VALUE=DURATION:PT1H
X-Robots-Tag:noindex
X-PUBLISHED-TTL:PT1H
BEGIN:VTIMEZONE
TZID:America/Los_Angeles
BEGIN:DAYLIGHT
TZOFFSETFROM:-0800
TZOFFSETTO:-0700
TZNAME:PDT
DTSTART:20240310T100000
END:DAYLIGHT
BEGIN:STANDARD
TZOFFSETFROM:-0700
TZOFFSETTO:-0800
TZNAME:PST
DTSTART:20241103T090000
END:STANDARD
BEGIN:DAYLIGHT
TZOFFSETFROM:-0800
TZOFFSETTO:-0700
TZNAME:PDT
DTSTART:20250309T100000
END:DAYLIGHT
BEGIN:STANDARD
TZOFFSETFROM:-0700
TZOFFSETTO:-0800
TZNAME:PST
DTSTART:20251102T090000
END:STANDARD
BEGIN:DAYLIGHT
TZOFFSETFROM:-0800
TZOFFSETTO:-0700
TZNAME:PDT
DTSTART:20260308T100000
END:DAYLIGHT
BEGIN:STANDARD
TZOFFSETFROM:-0700
TZOFFSETTO:-0800
TZNAME:PST
DTSTART:20261101T090000
END:STANDARD
END:VTIMEZONE
BEGIN:VEVENT
DTSTART;TZID=America/Los_Angeles:20251011T180000
DTEND;TZID=America/Los_Angeles:20251011T203000
DTSTAMP:20260419T220804
CREATED:20250919T222526Z
LAST-MODIFIED:20250919T222526Z
UID:10025612-1760205600-1760214600@tillamookchamber.org
SUMMARY:Tillamook High School Football Annual 100 Club Dinner
DESCRIPTION:The Annual 100 Club Dinner is a cherished Tillamook Football tradition\, bringing together players\, families\, alumni\, and community supporters for an evening of great food\, silent auction and camaraderie. This special event serves as a key fundraiser to support the football program\, helping provide resources and opportunities that strengthen the team both on and off the field.
URL:https://tillamookchamber.org/event/tillamook-high-school-football-annual-100-club-dinner/
LOCATION:OR
CATEGORIES:Community,Fundraisers
ATTACH;FMTTYPE=image/png:https://tillamookchamber.org/wp-content/uploads/2025/09/SAVE-THE-DATE-11-x-8.5-in.png
END:VEVENT
BEGIN:VEVENT
DTSTART;TZID=America/Los_Angeles:20251018T173000
DTEND;TZID=America/Los_Angeles:20251018T210000
DTSTAMP:20260419T220804
CREATED:20251001T162903Z
LAST-MODIFIED:20251001T162903Z
UID:10026181-1760808600-1760821200@tillamookchamber.org
SUMMARY:Murder at the Prom (a murder mystery dinner)
DESCRIPTION:Get ready to relive the glitz\, glamour\, and gossip of prom night in this thrilling prom-themed murder mystery dinner. When a shocking crime interrupts the evening\, it’s up to the guests to uncover the clues\, question the suspects\, and solve the mystery before the night is over.\n\nThis interactive murder mystery is a TAPA fundraiser and includes a 4-course dinner\, a complementary drink\, a commemorative drink glass\, and….a murder.\n\nDress in your favorite prom attire\, the more tacky and gaudy\, the better. Who will be crowned Prom King & Queen? Voting will take place during dinner!\n\nSocial hour from 5:30-7:00 pm\, dinner starts at 7:00 pm.\n\nTickets available online: https://tillamooktheater.ludus.com/index.php
URL:https://tillamookchamber.org/event/murder-at-the-prom-a-murder-mystery-dinner/
LOCATION:Pacific Resturant\, 205 Main Ave\, Tillamook\, OR
CATEGORIES:Community,Fundraisers,Theater
ATTACH;FMTTYPE=image/png:https://tillamookchamber.org/wp-content/uploads/2025/09/Murder-at-the-prom-auditions-2.png
END:VEVENT
BEGIN:VEVENT
DTSTART;TZID=America/Los_Angeles:20251025T170000
DTEND;TZID=America/Los_Angeles:20251025T190000
DTSTAMP:20260419T220804
CREATED:20251001T162727Z
LAST-MODIFIED:20251001T162727Z
UID:10026185-1761411600-1761418800@tillamookchamber.org
SUMMARY:Tides of Change's 15th Annual Soup Bowl
DESCRIPTION:Join Tides of Change at the Pacific Restaurant in downtown Tillamook for a heartwarming event filled with delicious soups from around Tillamook County. Get ready to taste a variety of flavors that will warm your soul and leave you wanting more. This in-person gathering promises to be a delightful experience for all soup lovers out there. Don’t miss out on this unique opportunity to indulge in some of the best soups in town. Mark your calendars and bring your appetite! Tickets go on sale October 6\, 2025 online at: tocsoupbowl2025.eventbrite.com \nAll proceeds go to support survivors of domestic/dating violence\, sexual violence\, stalking and human trafficking.
URL:https://tillamookchamber.org/event/tides-of-changes-15th-annual-soup-bowl/
LOCATION:Pacific Resturant\, 205 Main Ave\, Tillamook\, OR
CATEGORIES:Community,Fundraisers
ATTACH;FMTTYPE=image/jpeg:https://tillamookchamber.org/wp-content/uploads/2025/09/ToC_Primary_Color.jpg-256-res.jpg
END:VEVENT
END:VCALENDAR