BEGIN:VCALENDAR
VERSION:2.0
PRODID:-//Tillamook Area Chamber of Commerce - ECPv6.15.20//NONSGML v1.0//EN
CALSCALE:GREGORIAN
METHOD:PUBLISH
X-ORIGINAL-URL:https://tillamookchamber.org
X-WR-CALDESC:Events for Tillamook Area Chamber of Commerce
REFRESH-INTERVAL;VALUE=DURATION:PT1H
X-Robots-Tag:noindex
X-PUBLISHED-TTL:PT1H
BEGIN:VTIMEZONE
TZID:America/Los_Angeles
BEGIN:DAYLIGHT
TZOFFSETFROM:-0800
TZOFFSETTO:-0700
TZNAME:PDT
DTSTART:20240310T100000
END:DAYLIGHT
BEGIN:STANDARD
TZOFFSETFROM:-0700
TZOFFSETTO:-0800
TZNAME:PST
DTSTART:20241103T090000
END:STANDARD
BEGIN:DAYLIGHT
TZOFFSETFROM:-0800
TZOFFSETTO:-0700
TZNAME:PDT
DTSTART:20250309T100000
END:DAYLIGHT
BEGIN:STANDARD
TZOFFSETFROM:-0700
TZOFFSETTO:-0800
TZNAME:PST
DTSTART:20251102T090000
END:STANDARD
BEGIN:DAYLIGHT
TZOFFSETFROM:-0800
TZOFFSETTO:-0700
TZNAME:PDT
DTSTART:20260308T100000
END:DAYLIGHT
BEGIN:STANDARD
TZOFFSETFROM:-0700
TZOFFSETTO:-0800
TZNAME:PST
DTSTART:20261101T090000
END:STANDARD
END:VTIMEZONE
BEGIN:VEVENT
DTSTART;TZID=America/Los_Angeles:20250913T090000
DTEND;TZID=America/Los_Angeles:20250913T160000
DTSTAMP:20260419T235638
CREATED:20250821T160051Z
LAST-MODIFIED:20250821T160051Z
UID:10025271-1757754000-1757779200@tillamookchamber.org
SUMMARY:Sandlake Grange Annual Fund Raiser Rummage Sale
DESCRIPTION:Annual Fund Raiser Rummage Sale Saturday\, September 13\, 2025\, from 9 am until 4 p.m. Purchase by Donation. Sandlake Grange\, 21220 Sandlake Road\, Cloverdale. Proceeds used by Grange to support community\, youth and neighbors.
URL:https://tillamookchamber.org/event/sandlake-grange-annual-fund-raiser-rummage-sale/
LOCATION:Sandlake Grange\, 21220 Sandlake Road\, Cloverdale\, Oregon
CATEGORIES:Community,Fundraisers,Shopping and Sales
ATTACH;FMTTYPE=image/jpeg:https://tillamookchamber.org/wp-content/uploads/2025/08/Rummage-Sale-JPEG-9-13-2025.jpg
END:VEVENT
BEGIN:VEVENT
DTSTART;TZID=America/Los_Angeles:20250913T120000
DTEND;TZID=America/Los_Angeles:20250913T170000
DTSTAMP:20260419T235638
CREATED:20250821T220859Z
LAST-MODIFIED:20250821T220859Z
UID:10025277-1757764800-1757782800@tillamookchamber.org
SUMMARY:Cornhole Tournament
DESCRIPTION:Cornhole Tournament Fundraiser benefiting the  Tillamook Junior High 8th grade group traveling to Washington D.C. this coming March. \n4 Switcholio rounds into double elimination bracket. \nWhen: Saturday\, September 13th Cost: $25 per Person \nWhere: JAndy Oyster Co. 6760 S. Prairie Rd\, Tillamook\, OR 97141
URL:https://tillamookchamber.org/event/cornhole-tournament/
LOCATION:OR
CATEGORIES:Community,Family Fun,Fundraisers
ATTACH;FMTTYPE=image/jpeg:https://tillamookchamber.org/wp-content/uploads/2025/08/Cornhole.jpg
END:VEVENT
BEGIN:VEVENT
DTSTART;TZID=America/Los_Angeles:20250913T170000
DTEND;TZID=America/Los_Angeles:20250913T220000
DTSTAMP:20260419T235638
CREATED:20250908T184859Z
LAST-MODIFIED:20250908T184859Z
UID:10025504-1757782800-1757800800@tillamookchamber.org
SUMMARY:Kyler's Big Heart Benefit Concert
DESCRIPTION:Bring your family and friends to Kyler’s Big Heart Benefit Concert 2025 for a night of music\, food and fun\, Saturday\, September 13 at the Port of Garibaldi event tent. \nLast year\, organizers Garibaldi Portside Bistro raised over $6\,000 to go towards heart saving related devices and split the funds between three local fire departments: Bay City\, Rockaway Beach and Garibaldi. This year’s goal is to raise even more funds to purchase lifesaving AEDs for local first responders. \nGet your tickets online at https://www.eventbrite.com/…/kylers-big-heart-benefit…
URL:https://tillamookchamber.org/event/kylers-big-heart-benefit-concert/
LOCATION:Garibaldi Event Tent\, 107 Jerry Creasy Way\, Garibaldi
CATEGORIES:Community,Fundraisers,Live Music
ATTACH;FMTTYPE=image/jpeg:https://tillamookchamber.org/wp-content/uploads/2025/09/Kylers-Big-Heart.jpg
END:VEVENT
BEGIN:VEVENT
DTSTART;TZID=America/Los_Angeles:20250916T170000
DTEND;TZID=America/Los_Angeles:20250916T190000
DTSTAMP:20260419T235638
CREATED:20250902T184408Z
LAST-MODIFIED:20250902T184408Z
UID:10025474-1758042000-1758049200@tillamookchamber.org
SUMMARY:Country Hoedown
DESCRIPTION:Join us on Tuesday\, September 16th from 5–7 PM for a lively Hoedown at Five Rivers Senior Living! We’ll be serving up delicious Country Fried Steak plates for just $15\, complete with mashed potatoes\, gravy\, corn on the cob\, a roll\, and your choice of soup or salad. Enjoy an evening of great food\, community fun\, and down-home country charm. RSVP by September 12th at (503) 842-0918. We’re located at 3500 12th St\, Tillamook\, Oregon.
URL:https://tillamookchamber.org/event/country-hoedown-2/
LOCATION:Five Rivers Senior Living\, 3500 12th Street\, OR\, United States
CATEGORIES:Community,Fundraisers
END:VEVENT
BEGIN:VEVENT
DTSTART;TZID=America/Los_Angeles:20250919T160000
DTEND;TZID=America/Los_Angeles:20250919T210000
DTSTAMP:20260419T235638
CREATED:20250915T161334Z
LAST-MODIFIED:20250915T161334Z
UID:10025522-1758297600-1758315600@tillamookchamber.org
SUMMARY:Corral Grill Takeover Fundraiser
DESCRIPTION:Dine out and make a difference. For one evening 10% of proceeds go to support Tillamook area 8th graders on their once in a lifetime educational trip to Washington DC.
URL:https://tillamookchamber.org/event/corral-grill-takeover-fundraiser/
LOCATION:Corral Grill and Taphouse\, 2015 1st St. Tillamook
CATEGORIES:Community,Family Fun,Fundraisers
ATTACH;FMTTYPE=image/jpeg:https://tillamookchamber.org/wp-content/uploads/2025/09/Brown-And-Beige-Vintage-Western-Illustrative-Last-Rodeo-Virtual-Invitation-3.jpg
END:VEVENT
BEGIN:VEVENT
DTSTART;TZID=America/Los_Angeles:20250921T130000
DTEND;TZID=America/Los_Angeles:20250921T150000
DTSTAMP:20260419T235638
CREATED:20250915T161240Z
LAST-MODIFIED:20250915T161240Z
UID:10025523-1758459600-1758466800@tillamookchamber.org
SUMMARY:The Goonies at Tillamook Coliseum
DESCRIPTION:Grab your friends and family for a special big-screen showing of the beloved classic The Goonies\, filmed right here on the Oregon Coast! \nThis community event will be held at the Tillamook Coliseum\, with all proceeds supporting an unforgettable educational trip to Washington\, D.C. for local 8th graders. \nDon’t miss this chance to relive the adventure\, support our students\, and celebrate a movie that put our coast on the map!
URL:https://tillamookchamber.org/event/the-goonies-at-tillamook-coliseum/
LOCATION:Tillamook Coliseum Theater\, 310 Main Ave. Tillamook
CATEGORIES:Community,Family Fun,Fundraisers
ATTACH;FMTTYPE=image/png:https://tillamookchamber.org/wp-content/uploads/2025/09/Goonies-movie-takeover.png
END:VEVENT
END:VCALENDAR