BEGIN:VCALENDAR
VERSION:2.0
PRODID:-//Tillamook Area Chamber of Commerce - ECPv6.15.20//NONSGML v1.0//EN
CALSCALE:GREGORIAN
METHOD:PUBLISH
X-WR-CALNAME:Tillamook Area Chamber of Commerce
X-ORIGINAL-URL:https://tillamookchamber.org
X-WR-CALDESC:Events for Tillamook Area Chamber of Commerce
REFRESH-INTERVAL;VALUE=DURATION:PT1H
X-Robots-Tag:noindex
X-PUBLISHED-TTL:PT1H
BEGIN:VTIMEZONE
TZID:America/Los_Angeles
BEGIN:DAYLIGHT
TZOFFSETFROM:-0800
TZOFFSETTO:-0700
TZNAME:PDT
DTSTART:20240310T100000
END:DAYLIGHT
BEGIN:STANDARD
TZOFFSETFROM:-0700
TZOFFSETTO:-0800
TZNAME:PST
DTSTART:20241103T090000
END:STANDARD
BEGIN:DAYLIGHT
TZOFFSETFROM:-0800
TZOFFSETTO:-0700
TZNAME:PDT
DTSTART:20250309T100000
END:DAYLIGHT
BEGIN:STANDARD
TZOFFSETFROM:-0700
TZOFFSETTO:-0800
TZNAME:PST
DTSTART:20251102T090000
END:STANDARD
BEGIN:DAYLIGHT
TZOFFSETFROM:-0800
TZOFFSETTO:-0700
TZNAME:PDT
DTSTART:20260308T100000
END:DAYLIGHT
BEGIN:STANDARD
TZOFFSETFROM:-0700
TZOFFSETTO:-0800
TZNAME:PST
DTSTART:20261101T090000
END:STANDARD
END:VTIMEZONE
BEGIN:VEVENT
DTSTART;TZID=America/Los_Angeles:20250628T090000
DTEND;TZID=America/Los_Angeles:20250628T160000
DTSTAMP:20260420T100743
CREATED:20250620T150242Z
LAST-MODIFIED:20250620T151356Z
UID:10022103-1751101200-1751126400@tillamookchamber.org
SUMMARY:HUGE Yard Sale! Fundraiser Event
DESCRIPTION:Huge Yard Sale for a Great Cause!\nGet ready to discover incredible finds at the Huge Yard Sale at St. Mary’s By the Sea\, located at 275 S. Pacific St. in Rockaway Beach! We’ll have something for everyone\, including tools\, kitchenware\, books\, vintage furniture\, toys\, and so much more. \n100% of the proceeds will benefit scholarships for St. Aloysius Girls School in Uganda\, helping to provide vital education opportunities. \nDon’t miss out on these fantastic deals for a wonderful cause! \nDates and Times: \n\nSaturday\, June 28: 9 AM – 4 PM\n\n\nSunday\, June 29: 9 AM – 1 PM
URL:https://tillamookchamber.org/event/huge-yard-sale-fundraiser-event/
LOCATION:St. Mary’s By The Sea\, 275 S. Pacific St.\, Rockaway Beach\, United States
CATEGORIES:Fundraisers,Shopping and Sales
END:VEVENT
BEGIN:VEVENT
DTSTART;TZID=America/Los_Angeles:20250629T090000
DTEND;TZID=America/Los_Angeles:20250629T130000
DTSTAMP:20260420T100743
CREATED:20250620T151105Z
LAST-MODIFIED:20250620T151105Z
UID:10022105-1751187600-1751202000@tillamookchamber.org
SUMMARY:HUGE Yard Sale! Fundraiser Event
DESCRIPTION:Huge Yard Sale for a Great Cause!\nGet ready to discover incredible finds at the Huge Yard Sale at St. Mary’s By the Sea\, located at 275 S. Pacific St. in Rockaway Beach! We’ll have something for everyone\, including tools\, kitchenware\, books\, vintage furniture\, toys\, and so much more. \n100% of the proceeds will benefit scholarships for St. Aloysius Girls School in Uganda\, helping to provide vital education opportunities. \nDon’t miss out on these fantastic deals for a wonderful cause! \nDates and Times: \n\nSaturday\, June 28: 9 AM – 4 PM\n\n\nSunday\, June 29: 9 AM – 1 PM
URL:https://tillamookchamber.org/event/huge-yard-sale-fundraiser-event-2/
LOCATION:St. Mary’s By The Sea\, 275 S. Pacific St.\, Rockaway Beach\, United States
CATEGORIES:Fundraisers,Shopping and Sales
END:VEVENT
END:VCALENDAR