BEGIN:VCALENDAR
VERSION:2.0
PRODID:-//Tillamook Area Chamber of Commerce - ECPv6.15.20//NONSGML v1.0//EN
CALSCALE:GREGORIAN
METHOD:PUBLISH
X-ORIGINAL-URL:https://tillamookchamber.org
X-WR-CALDESC:Events for Tillamook Area Chamber of Commerce
REFRESH-INTERVAL;VALUE=DURATION:PT1H
X-Robots-Tag:noindex
X-PUBLISHED-TTL:PT1H
BEGIN:VTIMEZONE
TZID:America/Los_Angeles
BEGIN:DAYLIGHT
TZOFFSETFROM:-0800
TZOFFSETTO:-0700
TZNAME:PDT
DTSTART:20240310T100000
END:DAYLIGHT
BEGIN:STANDARD
TZOFFSETFROM:-0700
TZOFFSETTO:-0800
TZNAME:PST
DTSTART:20241103T090000
END:STANDARD
BEGIN:DAYLIGHT
TZOFFSETFROM:-0800
TZOFFSETTO:-0700
TZNAME:PDT
DTSTART:20250309T100000
END:DAYLIGHT
BEGIN:STANDARD
TZOFFSETFROM:-0700
TZOFFSETTO:-0800
TZNAME:PST
DTSTART:20251102T090000
END:STANDARD
BEGIN:DAYLIGHT
TZOFFSETFROM:-0800
TZOFFSETTO:-0700
TZNAME:PDT
DTSTART:20260308T100000
END:DAYLIGHT
BEGIN:STANDARD
TZOFFSETFROM:-0700
TZOFFSETTO:-0800
TZNAME:PST
DTSTART:20261101T090000
END:STANDARD
END:VTIMEZONE
BEGIN:VEVENT
DTSTART;TZID=America/Los_Angeles:20250528T170000
DTEND;TZID=America/Los_Angeles:20250528T220000
DTSTAMP:20260420T141020
CREATED:20250522T174451Z
LAST-MODIFIED:20250522T174451Z
UID:10021509-1748451600-1748469600@tillamookchamber.org
SUMMARY:Tillamook Elk’s Lodge “Benefit Dinner”
DESCRIPTION:Tillamook Elk’s lodge is hosting a “Benefit Dinner” Wednesday May 28th staring at 5:00pm. We are raising money for 3 young men that had a tragic event where their house was totally destroyed by a fire that woke them up at 2:00am. We are asking the community to come together and help these young men get back on their feet. Dinner menu will be tacos\, taco salad\, enchiladas\,  chips & cheese and all the fixens. Dinner\, Donations\, and Line Dancing \n 
URL:https://tillamookchamber.org/event/tillamook-elks-lodge-benefit-dinner/
LOCATION:Tillamook Elk’s Lodge\, 1907 Third St.
CATEGORIES:Community,Fundraisers
END:VEVENT
BEGIN:VEVENT
DTSTART;TZID=America/Los_Angeles:20250528T170000
DTEND;TZID=America/Los_Angeles:20250528T220000
DTSTAMP:20260420T141020
CREATED:20250523T204430Z
LAST-MODIFIED:20250523T204430Z
UID:10021504-1748451600-1748469600@tillamookchamber.org
SUMMARY:Tillamook Elks Lodge "Benefit Dinner" for recent Fire Victims
DESCRIPTION:Tillamook Elks Lodge is hosting a Benefit Dinner Wednesday May 28th starting at 5:00pm. We will be serving Tacos\, Taco salads\, enchiladas\, chips and cheese along with drinks and spirts. This benefit dinner is to raise money to help the three young men that tragically lost their house in a recent fire. We are asking for the community to come out and support this event while we raise money to help these men get a fresh start. Join us for Dinner\, Donations\, and Line Dancing. \nWe will be accepting all money donations Cash or Check (Make checks out to Tillamook Elks Fire Victims) and with a positive step forward with “Line Dancing”
URL:https://tillamookchamber.org/event/tillamook-elks-lodge-benefit-dinner-for-recent-fire-victims/
LOCATION:Tillamook Elks Lodge\, 1907 Third St.
CATEGORIES:Community,Fundraisers
END:VEVENT
BEGIN:VEVENT
DTSTART;TZID=America/Los_Angeles:20250531T190000
DTEND;TZID=America/Los_Angeles:20250531T210000
DTSTAMP:20260420T141020
CREATED:20250520T175951Z
LAST-MODIFIED:20250520T175951Z
UID:10021495-1748718000-1748725200@tillamookchamber.org
SUMMARY:"A TRIBUTE TO THE KING!"  Tillamook School of Dance Jan Colleknon Hospice Benefit Show
DESCRIPTION:“A Tribute to the King” is a thrilling and energetic tribute to the life and legacy of Elvis Presley-perfect for fans of all ages!  Join the staff and students of Tillamook School of Dance\, along with the amazing Scott Casey\, local singer\, songwriter and producer\, as we celebrate the music\, charisma and iconic style of the King himself.  Our show will incorporate both his famous songs and the dynamic dance moves that he was known for.   As always\, 100% of the profits will be donated directly to Tillamook Hospice!  Over the years\, TSOD students have danced to donate nearly $60\,000.00 in honor of studio founder Jan Colleknon.   Tickets can be purchased online at buy.tututix.com/tillamookschoolofdance or by scanning the QR Code. Bring your family\, friends\, and neighbors for a night of laughter\, music\, dancing and community spirit!  And don’t forget your Blue Suede Shoes!
URL:https://tillamookchamber.org/event/a-tribute-to-the-king-tillamook-school-of-dance-jan-colleknon-hospice-benefit-show/
LOCATION:Tillamook High School
CATEGORIES:Community,Family Fun,Fundraisers
ATTACH;FMTTYPE=image/jpeg:https://tillamookchamber.org/wp-content/uploads/2025/05/Black-and-Gold-Collage-Karaoke-Night-Instagram-Post-3.jpg
END:VEVENT
END:VCALENDAR