BEGIN:VCALENDAR
VERSION:2.0
PRODID:-//Tillamook Area Chamber of Commerce - ECPv6.15.20//NONSGML v1.0//EN
CALSCALE:GREGORIAN
METHOD:PUBLISH
X-WR-CALNAME:Tillamook Area Chamber of Commerce
X-ORIGINAL-URL:https://tillamookchamber.org
X-WR-CALDESC:Events for Tillamook Area Chamber of Commerce
REFRESH-INTERVAL;VALUE=DURATION:PT1H
X-Robots-Tag:noindex
X-PUBLISHED-TTL:PT1H
BEGIN:VTIMEZONE
TZID:America/Los_Angeles
BEGIN:DAYLIGHT
TZOFFSETFROM:-0800
TZOFFSETTO:-0700
TZNAME:PDT
DTSTART:20270314T100000
END:DAYLIGHT
BEGIN:STANDARD
TZOFFSETFROM:-0700
TZOFFSETTO:-0800
TZNAME:PST
DTSTART:20271107T090000
END:STANDARD
BEGIN:DAYLIGHT
TZOFFSETFROM:-0800
TZOFFSETTO:-0700
TZNAME:PDT
DTSTART:20280312T100000
END:DAYLIGHT
BEGIN:STANDARD
TZOFFSETFROM:-0700
TZOFFSETTO:-0800
TZNAME:PST
DTSTART:20281105T090000
END:STANDARD
BEGIN:DAYLIGHT
TZOFFSETFROM:-0800
TZOFFSETTO:-0700
TZNAME:PDT
DTSTART:20290311T100000
END:DAYLIGHT
BEGIN:STANDARD
TZOFFSETFROM:-0700
TZOFFSETTO:-0800
TZNAME:PST
DTSTART:20291104T090000
END:STANDARD
END:VTIMEZONE
BEGIN:VEVENT
DTSTART;TZID=America/Los_Angeles:20280922T100000
DTEND;TZID=America/Los_Angeles:20280922T110000
DTSTAMP:20260425T202036
CREATED:20240410T154635Z
LAST-MODIFIED:20240410T154635Z
UID:10012232-1853229600-1853233200@tillamookchamber.org
SUMMARY:Walking Wonders
DESCRIPTION:Join this active group rain or shine to get your steps in and around town.
URL:https://tillamookchamber.org/event/walking-wonders/2028-09-22/
LOCATION:Kiawanda Community Center\, 34600 Cape Kiwanda Dr\, Pacific City\, OR 97135\, OR\, United States
CATEGORIES:Fitness and Athletics
ATTACH;FMTTYPE=image/png:https://tillamookchamber.org/wp-content/uploads/2024/04/Walking-Wonders.png
END:VEVENT
BEGIN:VEVENT
DTSTART;TZID=America/Los_Angeles:20280925T100000
DTEND;TZID=America/Los_Angeles:20280925T110000
DTSTAMP:20260425T202036
CREATED:20240410T154635Z
LAST-MODIFIED:20240410T154635Z
UID:10012233-1853488800-1853492400@tillamookchamber.org
SUMMARY:Walking Wonders
DESCRIPTION:Join this active group rain or shine to get your steps in and around town.
URL:https://tillamookchamber.org/event/walking-wonders/2028-09-25/
LOCATION:Kiawanda Community Center\, 34600 Cape Kiwanda Dr\, Pacific City\, OR 97135\, OR\, United States
CATEGORIES:Fitness and Athletics
ATTACH;FMTTYPE=image/png:https://tillamookchamber.org/wp-content/uploads/2024/04/Walking-Wonders.png
END:VEVENT
BEGIN:VEVENT
DTSTART;TZID=America/Los_Angeles:20280927T100000
DTEND;TZID=America/Los_Angeles:20280927T110000
DTSTAMP:20260425T202036
CREATED:20240410T154635Z
LAST-MODIFIED:20240410T154635Z
UID:10012234-1853661600-1853665200@tillamookchamber.org
SUMMARY:Walking Wonders
DESCRIPTION:Join this active group rain or shine to get your steps in and around town.
URL:https://tillamookchamber.org/event/walking-wonders/2028-09-27/
LOCATION:Kiawanda Community Center\, 34600 Cape Kiwanda Dr\, Pacific City\, OR 97135\, OR\, United States
CATEGORIES:Fitness and Athletics
ATTACH;FMTTYPE=image/png:https://tillamookchamber.org/wp-content/uploads/2024/04/Walking-Wonders.png
END:VEVENT
BEGIN:VEVENT
DTSTART;TZID=America/Los_Angeles:20280928T103000
DTEND;TZID=America/Los_Angeles:20280928T113000
DTSTAMP:20260425T202036
CREATED:20240410T154601Z
LAST-MODIFIED:20240410T154601Z
UID:10011447-1853749800-1853753400@tillamookchamber.org
SUMMARY:Tai Chi at the KCC
DESCRIPTION:Come to this weekly class in Pacific City to learn the forms in this moving meditation. Feel your life force flowing through you and get energized for you day!
URL:https://tillamookchamber.org/event/tai-chi-at-the-kcc/2028-09-28/
LOCATION:Kiawanda Community Center\, 34600 Cape Kiwanda Dr\, Pacific City\, OR 97135\, OR\, United States
CATEGORIES:Fitness and Athletics
ATTACH;FMTTYPE=image/png:https://tillamookchamber.org/wp-content/uploads/2024/04/Tai-Chi.png
END:VEVENT
BEGIN:VEVENT
DTSTART;TZID=America/Los_Angeles:20280929T100000
DTEND;TZID=America/Los_Angeles:20280929T110000
DTSTAMP:20260425T202036
CREATED:20240410T154635Z
LAST-MODIFIED:20240410T154635Z
UID:10012235-1853834400-1853838000@tillamookchamber.org
SUMMARY:Walking Wonders
DESCRIPTION:Join this active group rain or shine to get your steps in and around town.
URL:https://tillamookchamber.org/event/walking-wonders/2028-09-29/
LOCATION:Kiawanda Community Center\, 34600 Cape Kiwanda Dr\, Pacific City\, OR 97135\, OR\, United States
CATEGORIES:Fitness and Athletics
ATTACH;FMTTYPE=image/png:https://tillamookchamber.org/wp-content/uploads/2024/04/Walking-Wonders.png
END:VEVENT
BEGIN:VEVENT
DTSTART;TZID=America/Los_Angeles:20281002T100000
DTEND;TZID=America/Los_Angeles:20281002T110000
DTSTAMP:20260425T202036
CREATED:20240410T154635Z
LAST-MODIFIED:20240410T154635Z
UID:10012236-1854093600-1854097200@tillamookchamber.org
SUMMARY:Walking Wonders
DESCRIPTION:Join this active group rain or shine to get your steps in and around town.
URL:https://tillamookchamber.org/event/walking-wonders/2028-10-02/
LOCATION:Kiawanda Community Center\, 34600 Cape Kiwanda Dr\, Pacific City\, OR 97135\, OR\, United States
CATEGORIES:Fitness and Athletics
ATTACH;FMTTYPE=image/png:https://tillamookchamber.org/wp-content/uploads/2024/04/Walking-Wonders.png
END:VEVENT
BEGIN:VEVENT
DTSTART;TZID=America/Los_Angeles:20281004T100000
DTEND;TZID=America/Los_Angeles:20281004T110000
DTSTAMP:20260425T202036
CREATED:20240410T154635Z
LAST-MODIFIED:20240410T154635Z
UID:10012237-1854266400-1854270000@tillamookchamber.org
SUMMARY:Walking Wonders
DESCRIPTION:Join this active group rain or shine to get your steps in and around town.
URL:https://tillamookchamber.org/event/walking-wonders/2028-10-04/
LOCATION:Kiawanda Community Center\, 34600 Cape Kiwanda Dr\, Pacific City\, OR 97135\, OR\, United States
CATEGORIES:Fitness and Athletics
ATTACH;FMTTYPE=image/png:https://tillamookchamber.org/wp-content/uploads/2024/04/Walking-Wonders.png
END:VEVENT
BEGIN:VEVENT
DTSTART;TZID=America/Los_Angeles:20281005T103000
DTEND;TZID=America/Los_Angeles:20281005T113000
DTSTAMP:20260425T202036
CREATED:20240410T154601Z
LAST-MODIFIED:20240410T154601Z
UID:10011448-1854354600-1854358200@tillamookchamber.org
SUMMARY:Tai Chi at the KCC
DESCRIPTION:Come to this weekly class in Pacific City to learn the forms in this moving meditation. Feel your life force flowing through you and get energized for you day!
URL:https://tillamookchamber.org/event/tai-chi-at-the-kcc/2028-10-05/
LOCATION:Kiawanda Community Center\, 34600 Cape Kiwanda Dr\, Pacific City\, OR 97135\, OR\, United States
CATEGORIES:Fitness and Athletics
ATTACH;FMTTYPE=image/png:https://tillamookchamber.org/wp-content/uploads/2024/04/Tai-Chi.png
END:VEVENT
BEGIN:VEVENT
DTSTART;TZID=America/Los_Angeles:20281006T100000
DTEND;TZID=America/Los_Angeles:20281006T110000
DTSTAMP:20260425T202036
CREATED:20240410T154635Z
LAST-MODIFIED:20240410T154635Z
UID:10012238-1854439200-1854442800@tillamookchamber.org
SUMMARY:Walking Wonders
DESCRIPTION:Join this active group rain or shine to get your steps in and around town.
URL:https://tillamookchamber.org/event/walking-wonders/2028-10-06/
LOCATION:Kiawanda Community Center\, 34600 Cape Kiwanda Dr\, Pacific City\, OR 97135\, OR\, United States
CATEGORIES:Fitness and Athletics
ATTACH;FMTTYPE=image/png:https://tillamookchamber.org/wp-content/uploads/2024/04/Walking-Wonders.png
END:VEVENT
BEGIN:VEVENT
DTSTART;TZID=America/Los_Angeles:20281009T100000
DTEND;TZID=America/Los_Angeles:20281009T110000
DTSTAMP:20260425T202036
CREATED:20240410T154635Z
LAST-MODIFIED:20240410T154635Z
UID:10012239-1854698400-1854702000@tillamookchamber.org
SUMMARY:Walking Wonders
DESCRIPTION:Join this active group rain or shine to get your steps in and around town.
URL:https://tillamookchamber.org/event/walking-wonders/2028-10-09/
LOCATION:Kiawanda Community Center\, 34600 Cape Kiwanda Dr\, Pacific City\, OR 97135\, OR\, United States
CATEGORIES:Fitness and Athletics
ATTACH;FMTTYPE=image/png:https://tillamookchamber.org/wp-content/uploads/2024/04/Walking-Wonders.png
END:VEVENT
BEGIN:VEVENT
DTSTART;TZID=America/Los_Angeles:20281011T100000
DTEND;TZID=America/Los_Angeles:20281011T110000
DTSTAMP:20260425T202036
CREATED:20240410T154635Z
LAST-MODIFIED:20240410T154635Z
UID:10012240-1854871200-1854874800@tillamookchamber.org
SUMMARY:Walking Wonders
DESCRIPTION:Join this active group rain or shine to get your steps in and around town.
URL:https://tillamookchamber.org/event/walking-wonders/2028-10-11/
LOCATION:Kiawanda Community Center\, 34600 Cape Kiwanda Dr\, Pacific City\, OR 97135\, OR\, United States
CATEGORIES:Fitness and Athletics
ATTACH;FMTTYPE=image/png:https://tillamookchamber.org/wp-content/uploads/2024/04/Walking-Wonders.png
END:VEVENT
BEGIN:VEVENT
DTSTART;TZID=America/Los_Angeles:20281012T103000
DTEND;TZID=America/Los_Angeles:20281012T113000
DTSTAMP:20260425T202036
CREATED:20240410T154601Z
LAST-MODIFIED:20240410T154601Z
UID:10011449-1854959400-1854963000@tillamookchamber.org
SUMMARY:Tai Chi at the KCC
DESCRIPTION:Come to this weekly class in Pacific City to learn the forms in this moving meditation. Feel your life force flowing through you and get energized for you day!
URL:https://tillamookchamber.org/event/tai-chi-at-the-kcc/2028-10-12/
LOCATION:Kiawanda Community Center\, 34600 Cape Kiwanda Dr\, Pacific City\, OR 97135\, OR\, United States
CATEGORIES:Fitness and Athletics
ATTACH;FMTTYPE=image/png:https://tillamookchamber.org/wp-content/uploads/2024/04/Tai-Chi.png
END:VEVENT
BEGIN:VEVENT
DTSTART;TZID=America/Los_Angeles:20281013T100000
DTEND;TZID=America/Los_Angeles:20281013T110000
DTSTAMP:20260425T202036
CREATED:20240410T154635Z
LAST-MODIFIED:20240410T154635Z
UID:10012241-1855044000-1855047600@tillamookchamber.org
SUMMARY:Walking Wonders
DESCRIPTION:Join this active group rain or shine to get your steps in and around town.
URL:https://tillamookchamber.org/event/walking-wonders/2028-10-13/
LOCATION:Kiawanda Community Center\, 34600 Cape Kiwanda Dr\, Pacific City\, OR 97135\, OR\, United States
CATEGORIES:Fitness and Athletics
ATTACH;FMTTYPE=image/png:https://tillamookchamber.org/wp-content/uploads/2024/04/Walking-Wonders.png
END:VEVENT
BEGIN:VEVENT
DTSTART;TZID=America/Los_Angeles:20281016T100000
DTEND;TZID=America/Los_Angeles:20281016T110000
DTSTAMP:20260425T202036
CREATED:20240410T154635Z
LAST-MODIFIED:20240410T154635Z
UID:10012242-1855303200-1855306800@tillamookchamber.org
SUMMARY:Walking Wonders
DESCRIPTION:Join this active group rain or shine to get your steps in and around town.
URL:https://tillamookchamber.org/event/walking-wonders/2028-10-16/
LOCATION:Kiawanda Community Center\, 34600 Cape Kiwanda Dr\, Pacific City\, OR 97135\, OR\, United States
CATEGORIES:Fitness and Athletics
ATTACH;FMTTYPE=image/png:https://tillamookchamber.org/wp-content/uploads/2024/04/Walking-Wonders.png
END:VEVENT
BEGIN:VEVENT
DTSTART;TZID=America/Los_Angeles:20281018T100000
DTEND;TZID=America/Los_Angeles:20281018T110000
DTSTAMP:20260425T202036
CREATED:20240410T154635Z
LAST-MODIFIED:20240410T154635Z
UID:10012243-1855476000-1855479600@tillamookchamber.org
SUMMARY:Walking Wonders
DESCRIPTION:Join this active group rain or shine to get your steps in and around town.
URL:https://tillamookchamber.org/event/walking-wonders/2028-10-18/
LOCATION:Kiawanda Community Center\, 34600 Cape Kiwanda Dr\, Pacific City\, OR 97135\, OR\, United States
CATEGORIES:Fitness and Athletics
ATTACH;FMTTYPE=image/png:https://tillamookchamber.org/wp-content/uploads/2024/04/Walking-Wonders.png
END:VEVENT
BEGIN:VEVENT
DTSTART;TZID=America/Los_Angeles:20281019T103000
DTEND;TZID=America/Los_Angeles:20281019T113000
DTSTAMP:20260425T202036
CREATED:20240410T154601Z
LAST-MODIFIED:20240410T154601Z
UID:10011450-1855564200-1855567800@tillamookchamber.org
SUMMARY:Tai Chi at the KCC
DESCRIPTION:Come to this weekly class in Pacific City to learn the forms in this moving meditation. Feel your life force flowing through you and get energized for you day!
URL:https://tillamookchamber.org/event/tai-chi-at-the-kcc/2028-10-19/
LOCATION:Kiawanda Community Center\, 34600 Cape Kiwanda Dr\, Pacific City\, OR 97135\, OR\, United States
CATEGORIES:Fitness and Athletics
ATTACH;FMTTYPE=image/png:https://tillamookchamber.org/wp-content/uploads/2024/04/Tai-Chi.png
END:VEVENT
BEGIN:VEVENT
DTSTART;TZID=America/Los_Angeles:20281020T100000
DTEND;TZID=America/Los_Angeles:20281020T110000
DTSTAMP:20260425T202036
CREATED:20240410T154635Z
LAST-MODIFIED:20240410T154635Z
UID:10012244-1855648800-1855652400@tillamookchamber.org
SUMMARY:Walking Wonders
DESCRIPTION:Join this active group rain or shine to get your steps in and around town.
URL:https://tillamookchamber.org/event/walking-wonders/2028-10-20/
LOCATION:Kiawanda Community Center\, 34600 Cape Kiwanda Dr\, Pacific City\, OR 97135\, OR\, United States
CATEGORIES:Fitness and Athletics
ATTACH;FMTTYPE=image/png:https://tillamookchamber.org/wp-content/uploads/2024/04/Walking-Wonders.png
END:VEVENT
BEGIN:VEVENT
DTSTART;TZID=America/Los_Angeles:20281023T100000
DTEND;TZID=America/Los_Angeles:20281023T110000
DTSTAMP:20260425T202036
CREATED:20240410T154635Z
LAST-MODIFIED:20240410T154635Z
UID:10012245-1855908000-1855911600@tillamookchamber.org
SUMMARY:Walking Wonders
DESCRIPTION:Join this active group rain or shine to get your steps in and around town.
URL:https://tillamookchamber.org/event/walking-wonders/2028-10-23/
LOCATION:Kiawanda Community Center\, 34600 Cape Kiwanda Dr\, Pacific City\, OR 97135\, OR\, United States
CATEGORIES:Fitness and Athletics
ATTACH;FMTTYPE=image/png:https://tillamookchamber.org/wp-content/uploads/2024/04/Walking-Wonders.png
END:VEVENT
BEGIN:VEVENT
DTSTART;TZID=America/Los_Angeles:20281025T100000
DTEND;TZID=America/Los_Angeles:20281025T110000
DTSTAMP:20260425T202036
CREATED:20240410T154635Z
LAST-MODIFIED:20240410T154635Z
UID:10012246-1856080800-1856084400@tillamookchamber.org
SUMMARY:Walking Wonders
DESCRIPTION:Join this active group rain or shine to get your steps in and around town.
URL:https://tillamookchamber.org/event/walking-wonders/2028-10-25/
LOCATION:Kiawanda Community Center\, 34600 Cape Kiwanda Dr\, Pacific City\, OR 97135\, OR\, United States
CATEGORIES:Fitness and Athletics
ATTACH;FMTTYPE=image/png:https://tillamookchamber.org/wp-content/uploads/2024/04/Walking-Wonders.png
END:VEVENT
BEGIN:VEVENT
DTSTART;TZID=America/Los_Angeles:20281026T103000
DTEND;TZID=America/Los_Angeles:20281026T113000
DTSTAMP:20260425T202036
CREATED:20240410T154601Z
LAST-MODIFIED:20240410T154601Z
UID:10011451-1856169000-1856172600@tillamookchamber.org
SUMMARY:Tai Chi at the KCC
DESCRIPTION:Come to this weekly class in Pacific City to learn the forms in this moving meditation. Feel your life force flowing through you and get energized for you day!
URL:https://tillamookchamber.org/event/tai-chi-at-the-kcc/2028-10-26/
LOCATION:Kiawanda Community Center\, 34600 Cape Kiwanda Dr\, Pacific City\, OR 97135\, OR\, United States
CATEGORIES:Fitness and Athletics
ATTACH;FMTTYPE=image/png:https://tillamookchamber.org/wp-content/uploads/2024/04/Tai-Chi.png
END:VEVENT
BEGIN:VEVENT
DTSTART;TZID=America/Los_Angeles:20281027T100000
DTEND;TZID=America/Los_Angeles:20281027T110000
DTSTAMP:20260425T202036
CREATED:20240410T154635Z
LAST-MODIFIED:20240410T154635Z
UID:10012247-1856253600-1856257200@tillamookchamber.org
SUMMARY:Walking Wonders
DESCRIPTION:Join this active group rain or shine to get your steps in and around town.
URL:https://tillamookchamber.org/event/walking-wonders/2028-10-27/
LOCATION:Kiawanda Community Center\, 34600 Cape Kiwanda Dr\, Pacific City\, OR 97135\, OR\, United States
CATEGORIES:Fitness and Athletics
ATTACH;FMTTYPE=image/png:https://tillamookchamber.org/wp-content/uploads/2024/04/Walking-Wonders.png
END:VEVENT
BEGIN:VEVENT
DTSTART;TZID=America/Los_Angeles:20281030T100000
DTEND;TZID=America/Los_Angeles:20281030T110000
DTSTAMP:20260425T202036
CREATED:20240410T154635Z
LAST-MODIFIED:20240410T154635Z
UID:10012248-1856512800-1856516400@tillamookchamber.org
SUMMARY:Walking Wonders
DESCRIPTION:Join this active group rain or shine to get your steps in and around town.
URL:https://tillamookchamber.org/event/walking-wonders/2028-10-30/
LOCATION:Kiawanda Community Center\, 34600 Cape Kiwanda Dr\, Pacific City\, OR 97135\, OR\, United States
CATEGORIES:Fitness and Athletics
ATTACH;FMTTYPE=image/png:https://tillamookchamber.org/wp-content/uploads/2024/04/Walking-Wonders.png
END:VEVENT
BEGIN:VEVENT
DTSTART;TZID=America/Los_Angeles:20281101T100000
DTEND;TZID=America/Los_Angeles:20281101T110000
DTSTAMP:20260425T202036
CREATED:20240410T154635Z
LAST-MODIFIED:20240410T154635Z
UID:10012249-1856685600-1856689200@tillamookchamber.org
SUMMARY:Walking Wonders
DESCRIPTION:Join this active group rain or shine to get your steps in and around town.
URL:https://tillamookchamber.org/event/walking-wonders/2028-11-01/
LOCATION:Kiawanda Community Center\, 34600 Cape Kiwanda Dr\, Pacific City\, OR 97135\, OR\, United States
CATEGORIES:Fitness and Athletics
ATTACH;FMTTYPE=image/png:https://tillamookchamber.org/wp-content/uploads/2024/04/Walking-Wonders.png
END:VEVENT
BEGIN:VEVENT
DTSTART;TZID=America/Los_Angeles:20281102T103000
DTEND;TZID=America/Los_Angeles:20281102T113000
DTSTAMP:20260425T202036
CREATED:20240410T154601Z
LAST-MODIFIED:20240410T154601Z
UID:10011452-1856773800-1856777400@tillamookchamber.org
SUMMARY:Tai Chi at the KCC
DESCRIPTION:Come to this weekly class in Pacific City to learn the forms in this moving meditation. Feel your life force flowing through you and get energized for you day!
URL:https://tillamookchamber.org/event/tai-chi-at-the-kcc/2028-11-02/
LOCATION:Kiawanda Community Center\, 34600 Cape Kiwanda Dr\, Pacific City\, OR 97135\, OR\, United States
CATEGORIES:Fitness and Athletics
ATTACH;FMTTYPE=image/png:https://tillamookchamber.org/wp-content/uploads/2024/04/Tai-Chi.png
END:VEVENT
BEGIN:VEVENT
DTSTART;TZID=America/Los_Angeles:20281103T100000
DTEND;TZID=America/Los_Angeles:20281103T110000
DTSTAMP:20260425T202036
CREATED:20240410T154635Z
LAST-MODIFIED:20240410T154635Z
UID:10012250-1856858400-1856862000@tillamookchamber.org
SUMMARY:Walking Wonders
DESCRIPTION:Join this active group rain or shine to get your steps in and around town.
URL:https://tillamookchamber.org/event/walking-wonders/2028-11-03/
LOCATION:Kiawanda Community Center\, 34600 Cape Kiwanda Dr\, Pacific City\, OR 97135\, OR\, United States
CATEGORIES:Fitness and Athletics
ATTACH;FMTTYPE=image/png:https://tillamookchamber.org/wp-content/uploads/2024/04/Walking-Wonders.png
END:VEVENT
BEGIN:VEVENT
DTSTART;TZID=America/Los_Angeles:20281106T100000
DTEND;TZID=America/Los_Angeles:20281106T110000
DTSTAMP:20260425T202036
CREATED:20240410T154635Z
LAST-MODIFIED:20240410T154635Z
UID:10012251-1857117600-1857121200@tillamookchamber.org
SUMMARY:Walking Wonders
DESCRIPTION:Join this active group rain or shine to get your steps in and around town.
URL:https://tillamookchamber.org/event/walking-wonders/2028-11-06/
LOCATION:Kiawanda Community Center\, 34600 Cape Kiwanda Dr\, Pacific City\, OR 97135\, OR\, United States
CATEGORIES:Fitness and Athletics
ATTACH;FMTTYPE=image/png:https://tillamookchamber.org/wp-content/uploads/2024/04/Walking-Wonders.png
END:VEVENT
BEGIN:VEVENT
DTSTART;TZID=America/Los_Angeles:20281108T100000
DTEND;TZID=America/Los_Angeles:20281108T110000
DTSTAMP:20260425T202036
CREATED:20240410T154635Z
LAST-MODIFIED:20240410T154635Z
UID:10012252-1857290400-1857294000@tillamookchamber.org
SUMMARY:Walking Wonders
DESCRIPTION:Join this active group rain or shine to get your steps in and around town.
URL:https://tillamookchamber.org/event/walking-wonders/2028-11-08/
LOCATION:Kiawanda Community Center\, 34600 Cape Kiwanda Dr\, Pacific City\, OR 97135\, OR\, United States
CATEGORIES:Fitness and Athletics
ATTACH;FMTTYPE=image/png:https://tillamookchamber.org/wp-content/uploads/2024/04/Walking-Wonders.png
END:VEVENT
BEGIN:VEVENT
DTSTART;TZID=America/Los_Angeles:20281109T103000
DTEND;TZID=America/Los_Angeles:20281109T113000
DTSTAMP:20260425T202036
CREATED:20240410T154601Z
LAST-MODIFIED:20240410T154601Z
UID:10011453-1857378600-1857382200@tillamookchamber.org
SUMMARY:Tai Chi at the KCC
DESCRIPTION:Come to this weekly class in Pacific City to learn the forms in this moving meditation. Feel your life force flowing through you and get energized for you day!
URL:https://tillamookchamber.org/event/tai-chi-at-the-kcc/2028-11-09/
LOCATION:Kiawanda Community Center\, 34600 Cape Kiwanda Dr\, Pacific City\, OR 97135\, OR\, United States
CATEGORIES:Fitness and Athletics
ATTACH;FMTTYPE=image/png:https://tillamookchamber.org/wp-content/uploads/2024/04/Tai-Chi.png
END:VEVENT
BEGIN:VEVENT
DTSTART;TZID=America/Los_Angeles:20281110T100000
DTEND;TZID=America/Los_Angeles:20281110T110000
DTSTAMP:20260425T202036
CREATED:20240410T154635Z
LAST-MODIFIED:20240410T154635Z
UID:10012253-1857463200-1857466800@tillamookchamber.org
SUMMARY:Walking Wonders
DESCRIPTION:Join this active group rain or shine to get your steps in and around town.
URL:https://tillamookchamber.org/event/walking-wonders/2028-11-10/
LOCATION:Kiawanda Community Center\, 34600 Cape Kiwanda Dr\, Pacific City\, OR 97135\, OR\, United States
CATEGORIES:Fitness and Athletics
ATTACH;FMTTYPE=image/png:https://tillamookchamber.org/wp-content/uploads/2024/04/Walking-Wonders.png
END:VEVENT
BEGIN:VEVENT
DTSTART;TZID=America/Los_Angeles:20281113T100000
DTEND;TZID=America/Los_Angeles:20281113T110000
DTSTAMP:20260425T202036
CREATED:20240410T154635Z
LAST-MODIFIED:20240410T154635Z
UID:10012254-1857722400-1857726000@tillamookchamber.org
SUMMARY:Walking Wonders
DESCRIPTION:Join this active group rain or shine to get your steps in and around town.
URL:https://tillamookchamber.org/event/walking-wonders/2028-11-13/
LOCATION:Kiawanda Community Center\, 34600 Cape Kiwanda Dr\, Pacific City\, OR 97135\, OR\, United States
CATEGORIES:Fitness and Athletics
ATTACH;FMTTYPE=image/png:https://tillamookchamber.org/wp-content/uploads/2024/04/Walking-Wonders.png
END:VEVENT
END:VCALENDAR