BEGIN:VCALENDAR
VERSION:2.0
PRODID:-//Tillamook Area Chamber of Commerce - ECPv6.15.20//NONSGML v1.0//EN
CALSCALE:GREGORIAN
METHOD:PUBLISH
X-ORIGINAL-URL:https://tillamookchamber.org
X-WR-CALDESC:Events for Tillamook Area Chamber of Commerce
REFRESH-INTERVAL;VALUE=DURATION:PT1H
X-Robots-Tag:noindex
X-PUBLISHED-TTL:PT1H
BEGIN:VTIMEZONE
TZID:America/Los_Angeles
BEGIN:DAYLIGHT
TZOFFSETFROM:-0800
TZOFFSETTO:-0700
TZNAME:PDT
DTSTART:20240310T100000
END:DAYLIGHT
BEGIN:STANDARD
TZOFFSETFROM:-0700
TZOFFSETTO:-0800
TZNAME:PST
DTSTART:20241103T090000
END:STANDARD
BEGIN:DAYLIGHT
TZOFFSETFROM:-0800
TZOFFSETTO:-0700
TZNAME:PDT
DTSTART:20250309T100000
END:DAYLIGHT
BEGIN:STANDARD
TZOFFSETFROM:-0700
TZOFFSETTO:-0800
TZNAME:PST
DTSTART:20251102T090000
END:STANDARD
BEGIN:DAYLIGHT
TZOFFSETFROM:-0800
TZOFFSETTO:-0700
TZNAME:PDT
DTSTART:20260308T100000
END:DAYLIGHT
BEGIN:STANDARD
TZOFFSETFROM:-0700
TZOFFSETTO:-0800
TZNAME:PST
DTSTART:20261101T090000
END:STANDARD
END:VTIMEZONE
BEGIN:VEVENT
DTSTART;TZID=America/Los_Angeles:20250710T090000
DTEND;TZID=America/Los_Angeles:20250710T100000
DTSTAMP:20260423T165947
CREATED:20250603T170933Z
LAST-MODIFIED:20250603T170936Z
UID:10010823-1752138000-1752141600@tillamookchamber.org
SUMMARY:Fit and Fabulous at the KCC
DESCRIPTION:Come join this group keeping active two days a week. Only $15 for the month!
URL:https://tillamookchamber.org/event/fit-and-fabulous-at-the-kcc-2/2025-07-10/
LOCATION:Kiawanda Community Center\, 34600 Cape Kiwanda Dr\, Pacific City\, OR 97135\, OR\, United States
CATEGORIES:Fitness and Athletics
ATTACH;FMTTYPE=image/png:https://tillamookchamber.org/wp-content/uploads/2024/04/Fit-Fabulous.png
END:VEVENT
BEGIN:VEVENT
DTSTART;TZID=America/Los_Angeles:20250709T100000
DTEND;TZID=America/Los_Angeles:20250709T110000
DTSTAMP:20260423T165947
CREATED:20240410T154635Z
LAST-MODIFIED:20240410T154635Z
UID:10011730-1752055200-1752058800@tillamookchamber.org
SUMMARY:Walking Wonders
DESCRIPTION:Join this active group rain or shine to get your steps in and around town.
URL:https://tillamookchamber.org/event/walking-wonders/2025-07-09/
LOCATION:Kiawanda Community Center\, 34600 Cape Kiwanda Dr\, Pacific City\, OR 97135\, OR\, United States
CATEGORIES:Fitness and Athletics
ATTACH;FMTTYPE=image/png:https://tillamookchamber.org/wp-content/uploads/2024/04/Walking-Wonders.png
END:VEVENT
BEGIN:VEVENT
DTSTART;TZID=America/Los_Angeles:20250709T090000
DTEND;TZID=America/Los_Angeles:20250709T100000
DTSTAMP:20260423T165947
CREATED:20240410T154520Z
LAST-MODIFIED:20240410T154520Z
UID:10009908-1752051600-1752055200@tillamookchamber.org
SUMMARY:Yoga in Pacific City
DESCRIPTION:Yoga with Dawn 9am Mondays\, Wednesday\, Fridays & Saturdays \nCome enjoy the natural light with a forested dune as your backdrop on the mat.
URL:https://tillamookchamber.org/event/yoga-in-pacific-city/2025-07-09/
LOCATION:Kiawanda Community Center\, 34600 Cape Kiwanda Dr\, Pacific City\, OR 97135\, OR\, United States
CATEGORIES:Fitness and Athletics
ATTACH;FMTTYPE=image/png:https://tillamookchamber.org/wp-content/uploads/2024/04/Yoga.png
END:VEVENT
BEGIN:VEVENT
DTSTART;TZID=America/Los_Angeles:20250708T090000
DTEND;TZID=America/Los_Angeles:20250708T100000
DTSTAMP:20260423T165947
CREATED:20250603T170933Z
LAST-MODIFIED:20250603T170936Z
UID:10010822-1751965200-1751968800@tillamookchamber.org
SUMMARY:Fit and Fabulous at the KCC
DESCRIPTION:Come join this group keeping active two days a week. Only $15 for the month!
URL:https://tillamookchamber.org/event/fit-and-fabulous-at-the-kcc-2/2025-07-08/
LOCATION:Kiawanda Community Center\, 34600 Cape Kiwanda Dr\, Pacific City\, OR 97135\, OR\, United States
CATEGORIES:Fitness and Athletics
ATTACH;FMTTYPE=image/png:https://tillamookchamber.org/wp-content/uploads/2024/04/Fit-Fabulous.png
END:VEVENT
BEGIN:VEVENT
DTSTART;TZID=America/Los_Angeles:20250707T100000
DTEND;TZID=America/Los_Angeles:20250707T110000
DTSTAMP:20260423T165947
CREATED:20240410T154635Z
LAST-MODIFIED:20240410T154635Z
UID:10011729-1751882400-1751886000@tillamookchamber.org
SUMMARY:Walking Wonders
DESCRIPTION:Join this active group rain or shine to get your steps in and around town.
URL:https://tillamookchamber.org/event/walking-wonders/2025-07-07/
LOCATION:Kiawanda Community Center\, 34600 Cape Kiwanda Dr\, Pacific City\, OR 97135\, OR\, United States
CATEGORIES:Fitness and Athletics
ATTACH;FMTTYPE=image/png:https://tillamookchamber.org/wp-content/uploads/2024/04/Walking-Wonders.png
END:VEVENT
BEGIN:VEVENT
DTSTART;TZID=America/Los_Angeles:20250707T090000
DTEND;TZID=America/Los_Angeles:20250707T100000
DTSTAMP:20260423T165947
CREATED:20240410T154520Z
LAST-MODIFIED:20240410T154520Z
UID:10009907-1751878800-1751882400@tillamookchamber.org
SUMMARY:Yoga in Pacific City
DESCRIPTION:Yoga with Dawn 9am Mondays\, Wednesday\, Fridays & Saturdays \nCome enjoy the natural light with a forested dune as your backdrop on the mat.
URL:https://tillamookchamber.org/event/yoga-in-pacific-city/2025-07-07/
LOCATION:Kiawanda Community Center\, 34600 Cape Kiwanda Dr\, Pacific City\, OR 97135\, OR\, United States
CATEGORIES:Fitness and Athletics
ATTACH;FMTTYPE=image/png:https://tillamookchamber.org/wp-content/uploads/2024/04/Yoga.png
END:VEVENT
BEGIN:VEVENT
DTSTART;TZID=America/Los_Angeles:20250705T090000
DTEND;TZID=America/Los_Angeles:20250705T100000
DTSTAMP:20260423T165947
CREATED:20240410T154520Z
LAST-MODIFIED:20240410T154520Z
UID:10009906-1751706000-1751709600@tillamookchamber.org
SUMMARY:Yoga in Pacific City
DESCRIPTION:Yoga with Dawn 9am Mondays\, Wednesday\, Fridays & Saturdays \nCome enjoy the natural light with a forested dune as your backdrop on the mat.
URL:https://tillamookchamber.org/event/yoga-in-pacific-city/2025-07-05/
LOCATION:Kiawanda Community Center\, 34600 Cape Kiwanda Dr\, Pacific City\, OR 97135\, OR\, United States
CATEGORIES:Fitness and Athletics
ATTACH;FMTTYPE=image/png:https://tillamookchamber.org/wp-content/uploads/2024/04/Yoga.png
END:VEVENT
BEGIN:VEVENT
DTSTART;TZID=America/Los_Angeles:20250704T100000
DTEND;TZID=America/Los_Angeles:20250704T110000
DTSTAMP:20260423T165947
CREATED:20240410T154635Z
LAST-MODIFIED:20240410T154635Z
UID:10011728-1751623200-1751626800@tillamookchamber.org
SUMMARY:Walking Wonders
DESCRIPTION:Join this active group rain or shine to get your steps in and around town.
URL:https://tillamookchamber.org/event/walking-wonders/2025-07-04/
LOCATION:Kiawanda Community Center\, 34600 Cape Kiwanda Dr\, Pacific City\, OR 97135\, OR\, United States
CATEGORIES:Fitness and Athletics
ATTACH;FMTTYPE=image/png:https://tillamookchamber.org/wp-content/uploads/2024/04/Walking-Wonders.png
END:VEVENT
BEGIN:VEVENT
DTSTART;TZID=America/Los_Angeles:20250704T090000
DTEND;TZID=America/Los_Angeles:20250704T100000
DTSTAMP:20260423T165947
CREATED:20240410T154520Z
LAST-MODIFIED:20240410T154520Z
UID:10009905-1751619600-1751623200@tillamookchamber.org
SUMMARY:Yoga in Pacific City
DESCRIPTION:Yoga with Dawn 9am Mondays\, Wednesday\, Fridays & Saturdays \nCome enjoy the natural light with a forested dune as your backdrop on the mat.
URL:https://tillamookchamber.org/event/yoga-in-pacific-city/2025-07-04/
LOCATION:Kiawanda Community Center\, 34600 Cape Kiwanda Dr\, Pacific City\, OR 97135\, OR\, United States
CATEGORIES:Fitness and Athletics
ATTACH;FMTTYPE=image/png:https://tillamookchamber.org/wp-content/uploads/2024/04/Yoga.png
END:VEVENT
BEGIN:VEVENT
DTSTART;TZID=America/Los_Angeles:20250703T103000
DTEND;TZID=America/Los_Angeles:20250703T113000
DTSTAMP:20260423T165947
CREATED:20240410T154601Z
LAST-MODIFIED:20240410T154601Z
UID:10011278-1751538600-1751542200@tillamookchamber.org
SUMMARY:Tai Chi at the KCC
DESCRIPTION:Come to this weekly class in Pacific City to learn the forms in this moving meditation. Feel your life force flowing through you and get energized for you day!
URL:https://tillamookchamber.org/event/tai-chi-at-the-kcc/2025-07-03/
LOCATION:Kiawanda Community Center\, 34600 Cape Kiwanda Dr\, Pacific City\, OR 97135\, OR\, United States
CATEGORIES:Fitness and Athletics
ATTACH;FMTTYPE=image/png:https://tillamookchamber.org/wp-content/uploads/2024/04/Tai-Chi.png
END:VEVENT
BEGIN:VEVENT
DTSTART;TZID=America/Los_Angeles:20250703T090000
DTEND;TZID=America/Los_Angeles:20250703T100000
DTSTAMP:20260423T165947
CREATED:20250603T170933Z
LAST-MODIFIED:20250603T170936Z
UID:10010821-1751533200-1751536800@tillamookchamber.org
SUMMARY:Fit and Fabulous at the KCC
DESCRIPTION:Come join this group keeping active two days a week. Only $15 for the month!
URL:https://tillamookchamber.org/event/fit-and-fabulous-at-the-kcc-2/2025-07-03/
LOCATION:Kiawanda Community Center\, 34600 Cape Kiwanda Dr\, Pacific City\, OR 97135\, OR\, United States
CATEGORIES:Fitness and Athletics
ATTACH;FMTTYPE=image/png:https://tillamookchamber.org/wp-content/uploads/2024/04/Fit-Fabulous.png
END:VEVENT
BEGIN:VEVENT
DTSTART;TZID=America/Los_Angeles:20250702T100000
DTEND;TZID=America/Los_Angeles:20250702T110000
DTSTAMP:20260423T165947
CREATED:20240410T154635Z
LAST-MODIFIED:20240410T154635Z
UID:10011727-1751450400-1751454000@tillamookchamber.org
SUMMARY:Walking Wonders
DESCRIPTION:Join this active group rain or shine to get your steps in and around town.
URL:https://tillamookchamber.org/event/walking-wonders/2025-07-02/
LOCATION:Kiawanda Community Center\, 34600 Cape Kiwanda Dr\, Pacific City\, OR 97135\, OR\, United States
CATEGORIES:Fitness and Athletics
ATTACH;FMTTYPE=image/png:https://tillamookchamber.org/wp-content/uploads/2024/04/Walking-Wonders.png
END:VEVENT
BEGIN:VEVENT
DTSTART;TZID=America/Los_Angeles:20250702T090000
DTEND;TZID=America/Los_Angeles:20250702T100000
DTSTAMP:20260423T165947
CREATED:20240410T154520Z
LAST-MODIFIED:20240410T154520Z
UID:10009904-1751446800-1751450400@tillamookchamber.org
SUMMARY:Yoga in Pacific City
DESCRIPTION:Yoga with Dawn 9am Mondays\, Wednesday\, Fridays & Saturdays \nCome enjoy the natural light with a forested dune as your backdrop on the mat.
URL:https://tillamookchamber.org/event/yoga-in-pacific-city/2025-07-02/
LOCATION:Kiawanda Community Center\, 34600 Cape Kiwanda Dr\, Pacific City\, OR 97135\, OR\, United States
CATEGORIES:Fitness and Athletics
ATTACH;FMTTYPE=image/png:https://tillamookchamber.org/wp-content/uploads/2024/04/Yoga.png
END:VEVENT
BEGIN:VEVENT
DTSTART;TZID=America/Los_Angeles:20250701T090000
DTEND;TZID=America/Los_Angeles:20250701T100000
DTSTAMP:20260423T165947
CREATED:20250603T170933Z
LAST-MODIFIED:20250603T170936Z
UID:10010820-1751360400-1751364000@tillamookchamber.org
SUMMARY:Fit and Fabulous at the KCC
DESCRIPTION:Come join this group keeping active two days a week. Only $15 for the month!
URL:https://tillamookchamber.org/event/fit-and-fabulous-at-the-kcc-2/2025-07-01/
LOCATION:Kiawanda Community Center\, 34600 Cape Kiwanda Dr\, Pacific City\, OR 97135\, OR\, United States
CATEGORIES:Fitness and Athletics
ATTACH;FMTTYPE=image/png:https://tillamookchamber.org/wp-content/uploads/2024/04/Fit-Fabulous.png
END:VEVENT
BEGIN:VEVENT
DTSTART;TZID=America/Los_Angeles:20250630T100000
DTEND;TZID=America/Los_Angeles:20250630T110000
DTSTAMP:20260423T165947
CREATED:20240410T154635Z
LAST-MODIFIED:20240410T154635Z
UID:10011726-1751277600-1751281200@tillamookchamber.org
SUMMARY:Walking Wonders
DESCRIPTION:Join this active group rain or shine to get your steps in and around town.
URL:https://tillamookchamber.org/event/walking-wonders/2025-06-30/
LOCATION:Kiawanda Community Center\, 34600 Cape Kiwanda Dr\, Pacific City\, OR 97135\, OR\, United States
CATEGORIES:Fitness and Athletics
ATTACH;FMTTYPE=image/png:https://tillamookchamber.org/wp-content/uploads/2024/04/Walking-Wonders.png
END:VEVENT
BEGIN:VEVENT
DTSTART;TZID=America/Los_Angeles:20250630T090000
DTEND;TZID=America/Los_Angeles:20250630T100000
DTSTAMP:20260423T165947
CREATED:20240410T154520Z
LAST-MODIFIED:20240410T154520Z
UID:10009903-1751274000-1751277600@tillamookchamber.org
SUMMARY:Yoga in Pacific City
DESCRIPTION:Yoga with Dawn 9am Mondays\, Wednesday\, Fridays & Saturdays \nCome enjoy the natural light with a forested dune as your backdrop on the mat.
URL:https://tillamookchamber.org/event/yoga-in-pacific-city/2025-06-30/
LOCATION:Kiawanda Community Center\, 34600 Cape Kiwanda Dr\, Pacific City\, OR 97135\, OR\, United States
CATEGORIES:Fitness and Athletics
ATTACH;FMTTYPE=image/png:https://tillamookchamber.org/wp-content/uploads/2024/04/Yoga.png
END:VEVENT
BEGIN:VEVENT
DTSTART;TZID=America/Los_Angeles:20250628T090000
DTEND;TZID=America/Los_Angeles:20250628T100000
DTSTAMP:20260423T165947
CREATED:20240410T154520Z
LAST-MODIFIED:20240410T154520Z
UID:10009902-1751101200-1751104800@tillamookchamber.org
SUMMARY:Yoga in Pacific City
DESCRIPTION:Yoga with Dawn 9am Mondays\, Wednesday\, Fridays & Saturdays \nCome enjoy the natural light with a forested dune as your backdrop on the mat.
URL:https://tillamookchamber.org/event/yoga-in-pacific-city/2025-06-28/
LOCATION:Kiawanda Community Center\, 34600 Cape Kiwanda Dr\, Pacific City\, OR 97135\, OR\, United States
CATEGORIES:Fitness and Athletics
ATTACH;FMTTYPE=image/png:https://tillamookchamber.org/wp-content/uploads/2024/04/Yoga.png
END:VEVENT
BEGIN:VEVENT
DTSTART;TZID=America/Los_Angeles:20250627T100000
DTEND;TZID=America/Los_Angeles:20250627T110000
DTSTAMP:20260423T165947
CREATED:20240410T154635Z
LAST-MODIFIED:20240410T154635Z
UID:10011725-1751018400-1751022000@tillamookchamber.org
SUMMARY:Walking Wonders
DESCRIPTION:Join this active group rain or shine to get your steps in and around town.
URL:https://tillamookchamber.org/event/walking-wonders/2025-06-27/
LOCATION:Kiawanda Community Center\, 34600 Cape Kiwanda Dr\, Pacific City\, OR 97135\, OR\, United States
CATEGORIES:Fitness and Athletics
ATTACH;FMTTYPE=image/png:https://tillamookchamber.org/wp-content/uploads/2024/04/Walking-Wonders.png
END:VEVENT
BEGIN:VEVENT
DTSTART;TZID=America/Los_Angeles:20250627T090000
DTEND;TZID=America/Los_Angeles:20250627T100000
DTSTAMP:20260423T165947
CREATED:20240410T154520Z
LAST-MODIFIED:20240410T154520Z
UID:10009901-1751014800-1751018400@tillamookchamber.org
SUMMARY:Yoga in Pacific City
DESCRIPTION:Yoga with Dawn 9am Mondays\, Wednesday\, Fridays & Saturdays \nCome enjoy the natural light with a forested dune as your backdrop on the mat.
URL:https://tillamookchamber.org/event/yoga-in-pacific-city/2025-06-27/
LOCATION:Kiawanda Community Center\, 34600 Cape Kiwanda Dr\, Pacific City\, OR 97135\, OR\, United States
CATEGORIES:Fitness and Athletics
ATTACH;FMTTYPE=image/png:https://tillamookchamber.org/wp-content/uploads/2024/04/Yoga.png
END:VEVENT
BEGIN:VEVENT
DTSTART;TZID=America/Los_Angeles:20250626T103000
DTEND;TZID=America/Los_Angeles:20250626T113000
DTSTAMP:20260423T165947
CREATED:20240410T154601Z
LAST-MODIFIED:20240410T154601Z
UID:10011277-1750933800-1750937400@tillamookchamber.org
SUMMARY:Tai Chi at the KCC
DESCRIPTION:Come to this weekly class in Pacific City to learn the forms in this moving meditation. Feel your life force flowing through you and get energized for you day!
URL:https://tillamookchamber.org/event/tai-chi-at-the-kcc/2025-06-26/
LOCATION:Kiawanda Community Center\, 34600 Cape Kiwanda Dr\, Pacific City\, OR 97135\, OR\, United States
CATEGORIES:Fitness and Athletics
ATTACH;FMTTYPE=image/png:https://tillamookchamber.org/wp-content/uploads/2024/04/Tai-Chi.png
END:VEVENT
BEGIN:VEVENT
DTSTART;TZID=America/Los_Angeles:20250626T090000
DTEND;TZID=America/Los_Angeles:20250626T100000
DTSTAMP:20260423T165947
CREATED:20250603T170933Z
LAST-MODIFIED:20250603T170936Z
UID:10010819-1750928400-1750932000@tillamookchamber.org
SUMMARY:Fit and Fabulous at the KCC
DESCRIPTION:Come join this group keeping active two days a week. Only $15 for the month!
URL:https://tillamookchamber.org/event/fit-and-fabulous-at-the-kcc-2/2025-06-26/
LOCATION:Kiawanda Community Center\, 34600 Cape Kiwanda Dr\, Pacific City\, OR 97135\, OR\, United States
CATEGORIES:Fitness and Athletics
ATTACH;FMTTYPE=image/png:https://tillamookchamber.org/wp-content/uploads/2024/04/Fit-Fabulous.png
END:VEVENT
BEGIN:VEVENT
DTSTART;TZID=America/Los_Angeles:20250625T100000
DTEND;TZID=America/Los_Angeles:20250625T110000
DTSTAMP:20260423T165947
CREATED:20240410T154635Z
LAST-MODIFIED:20240410T154635Z
UID:10011724-1750845600-1750849200@tillamookchamber.org
SUMMARY:Walking Wonders
DESCRIPTION:Join this active group rain or shine to get your steps in and around town.
URL:https://tillamookchamber.org/event/walking-wonders/2025-06-25/
LOCATION:Kiawanda Community Center\, 34600 Cape Kiwanda Dr\, Pacific City\, OR 97135\, OR\, United States
CATEGORIES:Fitness and Athletics
ATTACH;FMTTYPE=image/png:https://tillamookchamber.org/wp-content/uploads/2024/04/Walking-Wonders.png
END:VEVENT
BEGIN:VEVENT
DTSTART;TZID=America/Los_Angeles:20250625T090000
DTEND;TZID=America/Los_Angeles:20250625T100000
DTSTAMP:20260423T165947
CREATED:20240410T154520Z
LAST-MODIFIED:20240410T154520Z
UID:10009900-1750842000-1750845600@tillamookchamber.org
SUMMARY:Yoga in Pacific City
DESCRIPTION:Yoga with Dawn 9am Mondays\, Wednesday\, Fridays & Saturdays \nCome enjoy the natural light with a forested dune as your backdrop on the mat.
URL:https://tillamookchamber.org/event/yoga-in-pacific-city/2025-06-25/
LOCATION:Kiawanda Community Center\, 34600 Cape Kiwanda Dr\, Pacific City\, OR 97135\, OR\, United States
CATEGORIES:Fitness and Athletics
ATTACH;FMTTYPE=image/png:https://tillamookchamber.org/wp-content/uploads/2024/04/Yoga.png
END:VEVENT
BEGIN:VEVENT
DTSTART;TZID=America/Los_Angeles:20250624T090000
DTEND;TZID=America/Los_Angeles:20250624T100000
DTSTAMP:20260423T165947
CREATED:20250603T170933Z
LAST-MODIFIED:20250603T170936Z
UID:10010818-1750755600-1750759200@tillamookchamber.org
SUMMARY:Fit and Fabulous at the KCC
DESCRIPTION:Come join this group keeping active two days a week. Only $15 for the month!
URL:https://tillamookchamber.org/event/fit-and-fabulous-at-the-kcc-2/2025-06-24/
LOCATION:Kiawanda Community Center\, 34600 Cape Kiwanda Dr\, Pacific City\, OR 97135\, OR\, United States
CATEGORIES:Fitness and Athletics
ATTACH;FMTTYPE=image/png:https://tillamookchamber.org/wp-content/uploads/2024/04/Fit-Fabulous.png
END:VEVENT
BEGIN:VEVENT
DTSTART;TZID=America/Los_Angeles:20250623T100000
DTEND;TZID=America/Los_Angeles:20250623T110000
DTSTAMP:20260423T165947
CREATED:20240410T154635Z
LAST-MODIFIED:20240410T154635Z
UID:10011723-1750672800-1750676400@tillamookchamber.org
SUMMARY:Walking Wonders
DESCRIPTION:Join this active group rain or shine to get your steps in and around town.
URL:https://tillamookchamber.org/event/walking-wonders/2025-06-23/
LOCATION:Kiawanda Community Center\, 34600 Cape Kiwanda Dr\, Pacific City\, OR 97135\, OR\, United States
CATEGORIES:Fitness and Athletics
ATTACH;FMTTYPE=image/png:https://tillamookchamber.org/wp-content/uploads/2024/04/Walking-Wonders.png
END:VEVENT
BEGIN:VEVENT
DTSTART;TZID=America/Los_Angeles:20250623T090000
DTEND;TZID=America/Los_Angeles:20250623T100000
DTSTAMP:20260423T165947
CREATED:20240410T154520Z
LAST-MODIFIED:20240410T154520Z
UID:10009899-1750669200-1750672800@tillamookchamber.org
SUMMARY:Yoga in Pacific City
DESCRIPTION:Yoga with Dawn 9am Mondays\, Wednesday\, Fridays & Saturdays \nCome enjoy the natural light with a forested dune as your backdrop on the mat.
URL:https://tillamookchamber.org/event/yoga-in-pacific-city/2025-06-23/
LOCATION:Kiawanda Community Center\, 34600 Cape Kiwanda Dr\, Pacific City\, OR 97135\, OR\, United States
CATEGORIES:Fitness and Athletics
ATTACH;FMTTYPE=image/png:https://tillamookchamber.org/wp-content/uploads/2024/04/Yoga.png
END:VEVENT
BEGIN:VEVENT
DTSTART;TZID=America/Los_Angeles:20250621T090000
DTEND;TZID=America/Los_Angeles:20250621T100000
DTSTAMP:20260423T165947
CREATED:20240410T154520Z
LAST-MODIFIED:20240410T154520Z
UID:10009898-1750496400-1750500000@tillamookchamber.org
SUMMARY:Yoga in Pacific City
DESCRIPTION:Yoga with Dawn 9am Mondays\, Wednesday\, Fridays & Saturdays \nCome enjoy the natural light with a forested dune as your backdrop on the mat.
URL:https://tillamookchamber.org/event/yoga-in-pacific-city/2025-06-21/
LOCATION:Kiawanda Community Center\, 34600 Cape Kiwanda Dr\, Pacific City\, OR 97135\, OR\, United States
CATEGORIES:Fitness and Athletics
ATTACH;FMTTYPE=image/png:https://tillamookchamber.org/wp-content/uploads/2024/04/Yoga.png
END:VEVENT
BEGIN:VEVENT
DTSTART;TZID=America/Los_Angeles:20250621T080000
DTEND;TZID=America/Los_Angeles:20250621T170000
DTSTAMP:20260423T165947
CREATED:20250530T235847Z
LAST-MODIFIED:20250530T235847Z
UID:10022036-1750492800-1750525200@tillamookchamber.org
SUMMARY:Tillamook Cowbell Classic Pickleball Tournament
DESCRIPTION:We are excited to introduce the inaugural Tillamook Cowbell Classic Pickleball Tournament. All proceeds above expenses will go towards new lighting for the indoor courts at the Tillamook County Fairgrounds. \nThe Tillamook High School Girls Tennis Team and the Tillamook Pickleball Club use this facility during the winter months. The current lights are outdated\, inefficient\, and unsafe. Updating the lighting for maximum visibility is a key safety improvement for tennis and pickleball\, and will also allow the Fairgrounds to utilize the facility during the County Fair and the off-season in ways they have not been able to due to poor lighting. \nThe tournament is round robin with events in Mens Doubles\, Womens Doubles\, and Mixed Doubles. All participants receive a commemorative T-shirt and gift bag. A raffle and barbeque will be held at Al Griffin Park in Bay City following the completion of events on Saturday\, June 21st. \nLearn more and/or register here: \nhttps://pickleballtournaments.com/tournaments/tillamook-cowbell-classic/events
URL:https://tillamookchamber.org/event/tillamook-cowbell-classic-pickleball-tournament/
LOCATION:Al Griffin Memorial Park\, Bay City\, OR
CATEGORIES:Fitness and Athletics
ATTACH;FMTTYPE=image/jpeg:https://tillamookchamber.org/wp-content/uploads/2025/05/TPC-LOGO-FINAL-2.jpeg
END:VEVENT
BEGIN:VEVENT
DTSTART;TZID=America/Los_Angeles:20250620T100000
DTEND;TZID=America/Los_Angeles:20250620T110000
DTSTAMP:20260423T165947
CREATED:20240410T154635Z
LAST-MODIFIED:20240410T154635Z
UID:10011722-1750413600-1750417200@tillamookchamber.org
SUMMARY:Walking Wonders
DESCRIPTION:Join this active group rain or shine to get your steps in and around town.
URL:https://tillamookchamber.org/event/walking-wonders/2025-06-20/
LOCATION:Kiawanda Community Center\, 34600 Cape Kiwanda Dr\, Pacific City\, OR 97135\, OR\, United States
CATEGORIES:Fitness and Athletics
ATTACH;FMTTYPE=image/png:https://tillamookchamber.org/wp-content/uploads/2024/04/Walking-Wonders.png
END:VEVENT
BEGIN:VEVENT
DTSTART;TZID=America/Los_Angeles:20250620T090000
DTEND;TZID=America/Los_Angeles:20250620T100000
DTSTAMP:20260423T165947
CREATED:20240410T154520Z
LAST-MODIFIED:20240410T154520Z
UID:10009897-1750410000-1750413600@tillamookchamber.org
SUMMARY:Yoga in Pacific City
DESCRIPTION:Yoga with Dawn 9am Mondays\, Wednesday\, Fridays & Saturdays \nCome enjoy the natural light with a forested dune as your backdrop on the mat.
URL:https://tillamookchamber.org/event/yoga-in-pacific-city/2025-06-20/
LOCATION:Kiawanda Community Center\, 34600 Cape Kiwanda Dr\, Pacific City\, OR 97135\, OR\, United States
CATEGORIES:Fitness and Athletics
ATTACH;FMTTYPE=image/png:https://tillamookchamber.org/wp-content/uploads/2024/04/Yoga.png
END:VEVENT
END:VCALENDAR