BEGIN:VCALENDAR
VERSION:2.0
PRODID:-//Tillamook Area Chamber of Commerce - ECPv6.15.20//NONSGML v1.0//EN
CALSCALE:GREGORIAN
METHOD:PUBLISH
X-WR-CALNAME:Tillamook Area Chamber of Commerce
X-ORIGINAL-URL:https://tillamookchamber.org
X-WR-CALDESC:Events for Tillamook Area Chamber of Commerce
REFRESH-INTERVAL;VALUE=DURATION:PT1H
X-Robots-Tag:noindex
X-PUBLISHED-TTL:PT1H
BEGIN:VTIMEZONE
TZID:America/Los_Angeles
BEGIN:DAYLIGHT
TZOFFSETFROM:-0800
TZOFFSETTO:-0700
TZNAME:PDT
DTSTART:20270314T100000
END:DAYLIGHT
BEGIN:STANDARD
TZOFFSETFROM:-0700
TZOFFSETTO:-0800
TZNAME:PST
DTSTART:20271107T090000
END:STANDARD
BEGIN:DAYLIGHT
TZOFFSETFROM:-0800
TZOFFSETTO:-0700
TZNAME:PDT
DTSTART:20280312T100000
END:DAYLIGHT
BEGIN:STANDARD
TZOFFSETFROM:-0700
TZOFFSETTO:-0800
TZNAME:PST
DTSTART:20281105T090000
END:STANDARD
BEGIN:DAYLIGHT
TZOFFSETFROM:-0800
TZOFFSETTO:-0700
TZNAME:PDT
DTSTART:20290311T100000
END:DAYLIGHT
BEGIN:STANDARD
TZOFFSETFROM:-0700
TZOFFSETTO:-0800
TZNAME:PST
DTSTART:20291104T090000
END:STANDARD
END:VTIMEZONE
BEGIN:VEVENT
DTSTART;TZID=America/Los_Angeles:20280301T100000
DTEND;TZID=America/Los_Angeles:20280301T110000
DTSTAMP:20260423T124158
CREATED:20240410T154635Z
LAST-MODIFIED:20240410T154635Z
UID:10012144-1835517600-1835521200@tillamookchamber.org
SUMMARY:Walking Wonders
DESCRIPTION:Join this active group rain or shine to get your steps in and around town.
URL:https://tillamookchamber.org/event/walking-wonders/2028-03-01/
LOCATION:Kiawanda Community Center\, 34600 Cape Kiwanda Dr\, Pacific City\, OR 97135\, OR\, United States
CATEGORIES:Fitness and Athletics
ATTACH;FMTTYPE=image/png:https://tillamookchamber.org/wp-content/uploads/2024/04/Walking-Wonders.png
END:VEVENT
BEGIN:VEVENT
DTSTART;TZID=America/Los_Angeles:20280302T103000
DTEND;TZID=America/Los_Angeles:20280302T113000
DTSTAMP:20260423T124158
CREATED:20240410T154601Z
LAST-MODIFIED:20240410T154601Z
UID:10011417-1835605800-1835609400@tillamookchamber.org
SUMMARY:Tai Chi at the KCC
DESCRIPTION:Come to this weekly class in Pacific City to learn the forms in this moving meditation. Feel your life force flowing through you and get energized for you day!
URL:https://tillamookchamber.org/event/tai-chi-at-the-kcc/2028-03-02/
LOCATION:Kiawanda Community Center\, 34600 Cape Kiwanda Dr\, Pacific City\, OR 97135\, OR\, United States
CATEGORIES:Fitness and Athletics
ATTACH;FMTTYPE=image/png:https://tillamookchamber.org/wp-content/uploads/2024/04/Tai-Chi.png
END:VEVENT
BEGIN:VEVENT
DTSTART;TZID=America/Los_Angeles:20280303T100000
DTEND;TZID=America/Los_Angeles:20280303T110000
DTSTAMP:20260423T124158
CREATED:20240410T154635Z
LAST-MODIFIED:20240410T154635Z
UID:10012145-1835690400-1835694000@tillamookchamber.org
SUMMARY:Walking Wonders
DESCRIPTION:Join this active group rain or shine to get your steps in and around town.
URL:https://tillamookchamber.org/event/walking-wonders/2028-03-03/
LOCATION:Kiawanda Community Center\, 34600 Cape Kiwanda Dr\, Pacific City\, OR 97135\, OR\, United States
CATEGORIES:Fitness and Athletics
ATTACH;FMTTYPE=image/png:https://tillamookchamber.org/wp-content/uploads/2024/04/Walking-Wonders.png
END:VEVENT
BEGIN:VEVENT
DTSTART;TZID=America/Los_Angeles:20280306T100000
DTEND;TZID=America/Los_Angeles:20280306T110000
DTSTAMP:20260423T124158
CREATED:20240410T154635Z
LAST-MODIFIED:20240410T154635Z
UID:10012146-1835949600-1835953200@tillamookchamber.org
SUMMARY:Walking Wonders
DESCRIPTION:Join this active group rain or shine to get your steps in and around town.
URL:https://tillamookchamber.org/event/walking-wonders/2028-03-06/
LOCATION:Kiawanda Community Center\, 34600 Cape Kiwanda Dr\, Pacific City\, OR 97135\, OR\, United States
CATEGORIES:Fitness and Athletics
ATTACH;FMTTYPE=image/png:https://tillamookchamber.org/wp-content/uploads/2024/04/Walking-Wonders.png
END:VEVENT
BEGIN:VEVENT
DTSTART;TZID=America/Los_Angeles:20280308T100000
DTEND;TZID=America/Los_Angeles:20280308T110000
DTSTAMP:20260423T124158
CREATED:20240410T154635Z
LAST-MODIFIED:20240410T154635Z
UID:10012147-1836122400-1836126000@tillamookchamber.org
SUMMARY:Walking Wonders
DESCRIPTION:Join this active group rain or shine to get your steps in and around town.
URL:https://tillamookchamber.org/event/walking-wonders/2028-03-08/
LOCATION:Kiawanda Community Center\, 34600 Cape Kiwanda Dr\, Pacific City\, OR 97135\, OR\, United States
CATEGORIES:Fitness and Athletics
ATTACH;FMTTYPE=image/png:https://tillamookchamber.org/wp-content/uploads/2024/04/Walking-Wonders.png
END:VEVENT
BEGIN:VEVENT
DTSTART;TZID=America/Los_Angeles:20280309T103000
DTEND;TZID=America/Los_Angeles:20280309T113000
DTSTAMP:20260423T124158
CREATED:20240410T154601Z
LAST-MODIFIED:20240410T154601Z
UID:10011418-1836210600-1836214200@tillamookchamber.org
SUMMARY:Tai Chi at the KCC
DESCRIPTION:Come to this weekly class in Pacific City to learn the forms in this moving meditation. Feel your life force flowing through you and get energized for you day!
URL:https://tillamookchamber.org/event/tai-chi-at-the-kcc/2028-03-09/
LOCATION:Kiawanda Community Center\, 34600 Cape Kiwanda Dr\, Pacific City\, OR 97135\, OR\, United States
CATEGORIES:Fitness and Athletics
ATTACH;FMTTYPE=image/png:https://tillamookchamber.org/wp-content/uploads/2024/04/Tai-Chi.png
END:VEVENT
BEGIN:VEVENT
DTSTART;TZID=America/Los_Angeles:20280310T100000
DTEND;TZID=America/Los_Angeles:20280310T110000
DTSTAMP:20260423T124158
CREATED:20240410T154635Z
LAST-MODIFIED:20240410T154635Z
UID:10012148-1836295200-1836298800@tillamookchamber.org
SUMMARY:Walking Wonders
DESCRIPTION:Join this active group rain or shine to get your steps in and around town.
URL:https://tillamookchamber.org/event/walking-wonders/2028-03-10/
LOCATION:Kiawanda Community Center\, 34600 Cape Kiwanda Dr\, Pacific City\, OR 97135\, OR\, United States
CATEGORIES:Fitness and Athletics
ATTACH;FMTTYPE=image/png:https://tillamookchamber.org/wp-content/uploads/2024/04/Walking-Wonders.png
END:VEVENT
BEGIN:VEVENT
DTSTART;TZID=America/Los_Angeles:20280313T100000
DTEND;TZID=America/Los_Angeles:20280313T110000
DTSTAMP:20260423T124158
CREATED:20240410T154635Z
LAST-MODIFIED:20240410T154635Z
UID:10012149-1836554400-1836558000@tillamookchamber.org
SUMMARY:Walking Wonders
DESCRIPTION:Join this active group rain or shine to get your steps in and around town.
URL:https://tillamookchamber.org/event/walking-wonders/2028-03-13/
LOCATION:Kiawanda Community Center\, 34600 Cape Kiwanda Dr\, Pacific City\, OR 97135\, OR\, United States
CATEGORIES:Fitness and Athletics
ATTACH;FMTTYPE=image/png:https://tillamookchamber.org/wp-content/uploads/2024/04/Walking-Wonders.png
END:VEVENT
BEGIN:VEVENT
DTSTART;TZID=America/Los_Angeles:20280315T100000
DTEND;TZID=America/Los_Angeles:20280315T110000
DTSTAMP:20260423T124158
CREATED:20240410T154635Z
LAST-MODIFIED:20240410T154635Z
UID:10012150-1836727200-1836730800@tillamookchamber.org
SUMMARY:Walking Wonders
DESCRIPTION:Join this active group rain or shine to get your steps in and around town.
URL:https://tillamookchamber.org/event/walking-wonders/2028-03-15/
LOCATION:Kiawanda Community Center\, 34600 Cape Kiwanda Dr\, Pacific City\, OR 97135\, OR\, United States
CATEGORIES:Fitness and Athletics
ATTACH;FMTTYPE=image/png:https://tillamookchamber.org/wp-content/uploads/2024/04/Walking-Wonders.png
END:VEVENT
BEGIN:VEVENT
DTSTART;TZID=America/Los_Angeles:20280316T103000
DTEND;TZID=America/Los_Angeles:20280316T113000
DTSTAMP:20260423T124158
CREATED:20240410T154601Z
LAST-MODIFIED:20240410T154601Z
UID:10011419-1836815400-1836819000@tillamookchamber.org
SUMMARY:Tai Chi at the KCC
DESCRIPTION:Come to this weekly class in Pacific City to learn the forms in this moving meditation. Feel your life force flowing through you and get energized for you day!
URL:https://tillamookchamber.org/event/tai-chi-at-the-kcc/2028-03-16/
LOCATION:Kiawanda Community Center\, 34600 Cape Kiwanda Dr\, Pacific City\, OR 97135\, OR\, United States
CATEGORIES:Fitness and Athletics
ATTACH;FMTTYPE=image/png:https://tillamookchamber.org/wp-content/uploads/2024/04/Tai-Chi.png
END:VEVENT
BEGIN:VEVENT
DTSTART;TZID=America/Los_Angeles:20280317T100000
DTEND;TZID=America/Los_Angeles:20280317T110000
DTSTAMP:20260423T124158
CREATED:20240410T154635Z
LAST-MODIFIED:20240410T154635Z
UID:10012151-1836900000-1836903600@tillamookchamber.org
SUMMARY:Walking Wonders
DESCRIPTION:Join this active group rain or shine to get your steps in and around town.
URL:https://tillamookchamber.org/event/walking-wonders/2028-03-17/
LOCATION:Kiawanda Community Center\, 34600 Cape Kiwanda Dr\, Pacific City\, OR 97135\, OR\, United States
CATEGORIES:Fitness and Athletics
ATTACH;FMTTYPE=image/png:https://tillamookchamber.org/wp-content/uploads/2024/04/Walking-Wonders.png
END:VEVENT
BEGIN:VEVENT
DTSTART;TZID=America/Los_Angeles:20280320T100000
DTEND;TZID=America/Los_Angeles:20280320T110000
DTSTAMP:20260423T124158
CREATED:20240410T154635Z
LAST-MODIFIED:20240410T154635Z
UID:10012152-1837159200-1837162800@tillamookchamber.org
SUMMARY:Walking Wonders
DESCRIPTION:Join this active group rain or shine to get your steps in and around town.
URL:https://tillamookchamber.org/event/walking-wonders/2028-03-20/
LOCATION:Kiawanda Community Center\, 34600 Cape Kiwanda Dr\, Pacific City\, OR 97135\, OR\, United States
CATEGORIES:Fitness and Athletics
ATTACH;FMTTYPE=image/png:https://tillamookchamber.org/wp-content/uploads/2024/04/Walking-Wonders.png
END:VEVENT
BEGIN:VEVENT
DTSTART;TZID=America/Los_Angeles:20280322T100000
DTEND;TZID=America/Los_Angeles:20280322T110000
DTSTAMP:20260423T124158
CREATED:20240410T154635Z
LAST-MODIFIED:20240410T154635Z
UID:10012153-1837332000-1837335600@tillamookchamber.org
SUMMARY:Walking Wonders
DESCRIPTION:Join this active group rain or shine to get your steps in and around town.
URL:https://tillamookchamber.org/event/walking-wonders/2028-03-22/
LOCATION:Kiawanda Community Center\, 34600 Cape Kiwanda Dr\, Pacific City\, OR 97135\, OR\, United States
CATEGORIES:Fitness and Athletics
ATTACH;FMTTYPE=image/png:https://tillamookchamber.org/wp-content/uploads/2024/04/Walking-Wonders.png
END:VEVENT
BEGIN:VEVENT
DTSTART;TZID=America/Los_Angeles:20280323T103000
DTEND;TZID=America/Los_Angeles:20280323T113000
DTSTAMP:20260423T124158
CREATED:20240410T154601Z
LAST-MODIFIED:20240410T154601Z
UID:10011420-1837420200-1837423800@tillamookchamber.org
SUMMARY:Tai Chi at the KCC
DESCRIPTION:Come to this weekly class in Pacific City to learn the forms in this moving meditation. Feel your life force flowing through you and get energized for you day!
URL:https://tillamookchamber.org/event/tai-chi-at-the-kcc/2028-03-23/
LOCATION:Kiawanda Community Center\, 34600 Cape Kiwanda Dr\, Pacific City\, OR 97135\, OR\, United States
CATEGORIES:Fitness and Athletics
ATTACH;FMTTYPE=image/png:https://tillamookchamber.org/wp-content/uploads/2024/04/Tai-Chi.png
END:VEVENT
BEGIN:VEVENT
DTSTART;TZID=America/Los_Angeles:20280324T100000
DTEND;TZID=America/Los_Angeles:20280324T110000
DTSTAMP:20260423T124158
CREATED:20240410T154635Z
LAST-MODIFIED:20240410T154635Z
UID:10012154-1837504800-1837508400@tillamookchamber.org
SUMMARY:Walking Wonders
DESCRIPTION:Join this active group rain or shine to get your steps in and around town.
URL:https://tillamookchamber.org/event/walking-wonders/2028-03-24/
LOCATION:Kiawanda Community Center\, 34600 Cape Kiwanda Dr\, Pacific City\, OR 97135\, OR\, United States
CATEGORIES:Fitness and Athletics
ATTACH;FMTTYPE=image/png:https://tillamookchamber.org/wp-content/uploads/2024/04/Walking-Wonders.png
END:VEVENT
BEGIN:VEVENT
DTSTART;TZID=America/Los_Angeles:20280327T100000
DTEND;TZID=America/Los_Angeles:20280327T110000
DTSTAMP:20260423T124158
CREATED:20240410T154635Z
LAST-MODIFIED:20240410T154635Z
UID:10012155-1837764000-1837767600@tillamookchamber.org
SUMMARY:Walking Wonders
DESCRIPTION:Join this active group rain or shine to get your steps in and around town.
URL:https://tillamookchamber.org/event/walking-wonders/2028-03-27/
LOCATION:Kiawanda Community Center\, 34600 Cape Kiwanda Dr\, Pacific City\, OR 97135\, OR\, United States
CATEGORIES:Fitness and Athletics
ATTACH;FMTTYPE=image/png:https://tillamookchamber.org/wp-content/uploads/2024/04/Walking-Wonders.png
END:VEVENT
BEGIN:VEVENT
DTSTART;TZID=America/Los_Angeles:20280329T100000
DTEND;TZID=America/Los_Angeles:20280329T110000
DTSTAMP:20260423T124158
CREATED:20240410T154635Z
LAST-MODIFIED:20240410T154635Z
UID:10012156-1837936800-1837940400@tillamookchamber.org
SUMMARY:Walking Wonders
DESCRIPTION:Join this active group rain or shine to get your steps in and around town.
URL:https://tillamookchamber.org/event/walking-wonders/2028-03-29/
LOCATION:Kiawanda Community Center\, 34600 Cape Kiwanda Dr\, Pacific City\, OR 97135\, OR\, United States
CATEGORIES:Fitness and Athletics
ATTACH;FMTTYPE=image/png:https://tillamookchamber.org/wp-content/uploads/2024/04/Walking-Wonders.png
END:VEVENT
BEGIN:VEVENT
DTSTART;TZID=America/Los_Angeles:20280330T103000
DTEND;TZID=America/Los_Angeles:20280330T113000
DTSTAMP:20260423T124158
CREATED:20240410T154601Z
LAST-MODIFIED:20240410T154601Z
UID:10011421-1838025000-1838028600@tillamookchamber.org
SUMMARY:Tai Chi at the KCC
DESCRIPTION:Come to this weekly class in Pacific City to learn the forms in this moving meditation. Feel your life force flowing through you and get energized for you day!
URL:https://tillamookchamber.org/event/tai-chi-at-the-kcc/2028-03-30/
LOCATION:Kiawanda Community Center\, 34600 Cape Kiwanda Dr\, Pacific City\, OR 97135\, OR\, United States
CATEGORIES:Fitness and Athletics
ATTACH;FMTTYPE=image/png:https://tillamookchamber.org/wp-content/uploads/2024/04/Tai-Chi.png
END:VEVENT
BEGIN:VEVENT
DTSTART;TZID=America/Los_Angeles:20280331T100000
DTEND;TZID=America/Los_Angeles:20280331T110000
DTSTAMP:20260423T124158
CREATED:20240410T154635Z
LAST-MODIFIED:20240410T154635Z
UID:10012157-1838109600-1838113200@tillamookchamber.org
SUMMARY:Walking Wonders
DESCRIPTION:Join this active group rain or shine to get your steps in and around town.
URL:https://tillamookchamber.org/event/walking-wonders/2028-03-31/
LOCATION:Kiawanda Community Center\, 34600 Cape Kiwanda Dr\, Pacific City\, OR 97135\, OR\, United States
CATEGORIES:Fitness and Athletics
ATTACH;FMTTYPE=image/png:https://tillamookchamber.org/wp-content/uploads/2024/04/Walking-Wonders.png
END:VEVENT
END:VCALENDAR