BEGIN:VCALENDAR
VERSION:2.0
PRODID:-//Tillamook Area Chamber of Commerce - ECPv6.15.20//NONSGML v1.0//EN
CALSCALE:GREGORIAN
METHOD:PUBLISH
X-WR-CALNAME:Tillamook Area Chamber of Commerce
X-ORIGINAL-URL:https://tillamookchamber.org
X-WR-CALDESC:Events for Tillamook Area Chamber of Commerce
REFRESH-INTERVAL;VALUE=DURATION:PT1H
X-Robots-Tag:noindex
X-PUBLISHED-TTL:PT1H
BEGIN:VTIMEZONE
TZID:America/Los_Angeles
BEGIN:DAYLIGHT
TZOFFSETFROM:-0800
TZOFFSETTO:-0700
TZNAME:PDT
DTSTART:20270314T100000
END:DAYLIGHT
BEGIN:STANDARD
TZOFFSETFROM:-0700
TZOFFSETTO:-0800
TZNAME:PST
DTSTART:20271107T090000
END:STANDARD
BEGIN:DAYLIGHT
TZOFFSETFROM:-0800
TZOFFSETTO:-0700
TZNAME:PDT
DTSTART:20280312T100000
END:DAYLIGHT
BEGIN:STANDARD
TZOFFSETFROM:-0700
TZOFFSETTO:-0800
TZNAME:PST
DTSTART:20281105T090000
END:STANDARD
BEGIN:DAYLIGHT
TZOFFSETFROM:-0800
TZOFFSETTO:-0700
TZNAME:PDT
DTSTART:20290311T100000
END:DAYLIGHT
BEGIN:STANDARD
TZOFFSETFROM:-0700
TZOFFSETTO:-0800
TZNAME:PST
DTSTART:20291104T090000
END:STANDARD
END:VTIMEZONE
BEGIN:VEVENT
DTSTART;TZID=America/Los_Angeles:20280103T100000
DTEND;TZID=America/Los_Angeles:20280103T110000
DTSTAMP:20260423T062937
CREATED:20240410T154635Z
LAST-MODIFIED:20240410T154635Z
UID:10012119-1830506400-1830510000@tillamookchamber.org
SUMMARY:Walking Wonders
DESCRIPTION:Join this active group rain or shine to get your steps in and around town.
URL:https://tillamookchamber.org/event/walking-wonders/2028-01-03/
LOCATION:Kiawanda Community Center\, 34600 Cape Kiwanda Dr\, Pacific City\, OR 97135\, OR\, United States
CATEGORIES:Fitness and Athletics
ATTACH;FMTTYPE=image/png:https://tillamookchamber.org/wp-content/uploads/2024/04/Walking-Wonders.png
END:VEVENT
BEGIN:VEVENT
DTSTART;TZID=America/Los_Angeles:20280105T100000
DTEND;TZID=America/Los_Angeles:20280105T110000
DTSTAMP:20260423T062937
CREATED:20240410T154635Z
LAST-MODIFIED:20240410T154635Z
UID:10012120-1830679200-1830682800@tillamookchamber.org
SUMMARY:Walking Wonders
DESCRIPTION:Join this active group rain or shine to get your steps in and around town.
URL:https://tillamookchamber.org/event/walking-wonders/2028-01-05/
LOCATION:Kiawanda Community Center\, 34600 Cape Kiwanda Dr\, Pacific City\, OR 97135\, OR\, United States
CATEGORIES:Fitness and Athletics
ATTACH;FMTTYPE=image/png:https://tillamookchamber.org/wp-content/uploads/2024/04/Walking-Wonders.png
END:VEVENT
BEGIN:VEVENT
DTSTART;TZID=America/Los_Angeles:20280106T103000
DTEND;TZID=America/Los_Angeles:20280106T113000
DTSTAMP:20260423T062937
CREATED:20240410T154601Z
LAST-MODIFIED:20240410T154601Z
UID:10011409-1830767400-1830771000@tillamookchamber.org
SUMMARY:Tai Chi at the KCC
DESCRIPTION:Come to this weekly class in Pacific City to learn the forms in this moving meditation. Feel your life force flowing through you and get energized for you day!
URL:https://tillamookchamber.org/event/tai-chi-at-the-kcc/2028-01-06/
LOCATION:Kiawanda Community Center\, 34600 Cape Kiwanda Dr\, Pacific City\, OR 97135\, OR\, United States
CATEGORIES:Fitness and Athletics
ATTACH;FMTTYPE=image/png:https://tillamookchamber.org/wp-content/uploads/2024/04/Tai-Chi.png
END:VEVENT
BEGIN:VEVENT
DTSTART;TZID=America/Los_Angeles:20280107T100000
DTEND;TZID=America/Los_Angeles:20280107T110000
DTSTAMP:20260423T062937
CREATED:20240410T154635Z
LAST-MODIFIED:20240410T154635Z
UID:10012121-1830852000-1830855600@tillamookchamber.org
SUMMARY:Walking Wonders
DESCRIPTION:Join this active group rain or shine to get your steps in and around town.
URL:https://tillamookchamber.org/event/walking-wonders/2028-01-07/
LOCATION:Kiawanda Community Center\, 34600 Cape Kiwanda Dr\, Pacific City\, OR 97135\, OR\, United States
CATEGORIES:Fitness and Athletics
ATTACH;FMTTYPE=image/png:https://tillamookchamber.org/wp-content/uploads/2024/04/Walking-Wonders.png
END:VEVENT
BEGIN:VEVENT
DTSTART;TZID=America/Los_Angeles:20280110T100000
DTEND;TZID=America/Los_Angeles:20280110T110000
DTSTAMP:20260423T062937
CREATED:20240410T154635Z
LAST-MODIFIED:20240410T154635Z
UID:10012122-1831111200-1831114800@tillamookchamber.org
SUMMARY:Walking Wonders
DESCRIPTION:Join this active group rain or shine to get your steps in and around town.
URL:https://tillamookchamber.org/event/walking-wonders/2028-01-10/
LOCATION:Kiawanda Community Center\, 34600 Cape Kiwanda Dr\, Pacific City\, OR 97135\, OR\, United States
CATEGORIES:Fitness and Athletics
ATTACH;FMTTYPE=image/png:https://tillamookchamber.org/wp-content/uploads/2024/04/Walking-Wonders.png
END:VEVENT
BEGIN:VEVENT
DTSTART;TZID=America/Los_Angeles:20280112T100000
DTEND;TZID=America/Los_Angeles:20280112T110000
DTSTAMP:20260423T062937
CREATED:20240410T154635Z
LAST-MODIFIED:20240410T154635Z
UID:10012123-1831284000-1831287600@tillamookchamber.org
SUMMARY:Walking Wonders
DESCRIPTION:Join this active group rain or shine to get your steps in and around town.
URL:https://tillamookchamber.org/event/walking-wonders/2028-01-12/
LOCATION:Kiawanda Community Center\, 34600 Cape Kiwanda Dr\, Pacific City\, OR 97135\, OR\, United States
CATEGORIES:Fitness and Athletics
ATTACH;FMTTYPE=image/png:https://tillamookchamber.org/wp-content/uploads/2024/04/Walking-Wonders.png
END:VEVENT
BEGIN:VEVENT
DTSTART;TZID=America/Los_Angeles:20280113T103000
DTEND;TZID=America/Los_Angeles:20280113T113000
DTSTAMP:20260423T062937
CREATED:20240410T154601Z
LAST-MODIFIED:20240410T154601Z
UID:10011410-1831372200-1831375800@tillamookchamber.org
SUMMARY:Tai Chi at the KCC
DESCRIPTION:Come to this weekly class in Pacific City to learn the forms in this moving meditation. Feel your life force flowing through you and get energized for you day!
URL:https://tillamookchamber.org/event/tai-chi-at-the-kcc/2028-01-13/
LOCATION:Kiawanda Community Center\, 34600 Cape Kiwanda Dr\, Pacific City\, OR 97135\, OR\, United States
CATEGORIES:Fitness and Athletics
ATTACH;FMTTYPE=image/png:https://tillamookchamber.org/wp-content/uploads/2024/04/Tai-Chi.png
END:VEVENT
BEGIN:VEVENT
DTSTART;TZID=America/Los_Angeles:20280114T100000
DTEND;TZID=America/Los_Angeles:20280114T110000
DTSTAMP:20260423T062937
CREATED:20240410T154635Z
LAST-MODIFIED:20240410T154635Z
UID:10012124-1831456800-1831460400@tillamookchamber.org
SUMMARY:Walking Wonders
DESCRIPTION:Join this active group rain or shine to get your steps in and around town.
URL:https://tillamookchamber.org/event/walking-wonders/2028-01-14/
LOCATION:Kiawanda Community Center\, 34600 Cape Kiwanda Dr\, Pacific City\, OR 97135\, OR\, United States
CATEGORIES:Fitness and Athletics
ATTACH;FMTTYPE=image/png:https://tillamookchamber.org/wp-content/uploads/2024/04/Walking-Wonders.png
END:VEVENT
BEGIN:VEVENT
DTSTART;TZID=America/Los_Angeles:20280117T100000
DTEND;TZID=America/Los_Angeles:20280117T110000
DTSTAMP:20260423T062937
CREATED:20240410T154635Z
LAST-MODIFIED:20240410T154635Z
UID:10012125-1831716000-1831719600@tillamookchamber.org
SUMMARY:Walking Wonders
DESCRIPTION:Join this active group rain or shine to get your steps in and around town.
URL:https://tillamookchamber.org/event/walking-wonders/2028-01-17/
LOCATION:Kiawanda Community Center\, 34600 Cape Kiwanda Dr\, Pacific City\, OR 97135\, OR\, United States
CATEGORIES:Fitness and Athletics
ATTACH;FMTTYPE=image/png:https://tillamookchamber.org/wp-content/uploads/2024/04/Walking-Wonders.png
END:VEVENT
BEGIN:VEVENT
DTSTART;TZID=America/Los_Angeles:20280119T100000
DTEND;TZID=America/Los_Angeles:20280119T110000
DTSTAMP:20260423T062937
CREATED:20240410T154635Z
LAST-MODIFIED:20240410T154635Z
UID:10012126-1831888800-1831892400@tillamookchamber.org
SUMMARY:Walking Wonders
DESCRIPTION:Join this active group rain or shine to get your steps in and around town.
URL:https://tillamookchamber.org/event/walking-wonders/2028-01-19/
LOCATION:Kiawanda Community Center\, 34600 Cape Kiwanda Dr\, Pacific City\, OR 97135\, OR\, United States
CATEGORIES:Fitness and Athletics
ATTACH;FMTTYPE=image/png:https://tillamookchamber.org/wp-content/uploads/2024/04/Walking-Wonders.png
END:VEVENT
BEGIN:VEVENT
DTSTART;TZID=America/Los_Angeles:20280120T103000
DTEND;TZID=America/Los_Angeles:20280120T113000
DTSTAMP:20260423T062937
CREATED:20240410T154601Z
LAST-MODIFIED:20240410T154601Z
UID:10011411-1831977000-1831980600@tillamookchamber.org
SUMMARY:Tai Chi at the KCC
DESCRIPTION:Come to this weekly class in Pacific City to learn the forms in this moving meditation. Feel your life force flowing through you and get energized for you day!
URL:https://tillamookchamber.org/event/tai-chi-at-the-kcc/2028-01-20/
LOCATION:Kiawanda Community Center\, 34600 Cape Kiwanda Dr\, Pacific City\, OR 97135\, OR\, United States
CATEGORIES:Fitness and Athletics
ATTACH;FMTTYPE=image/png:https://tillamookchamber.org/wp-content/uploads/2024/04/Tai-Chi.png
END:VEVENT
BEGIN:VEVENT
DTSTART;TZID=America/Los_Angeles:20280121T100000
DTEND;TZID=America/Los_Angeles:20280121T110000
DTSTAMP:20260423T062937
CREATED:20240410T154635Z
LAST-MODIFIED:20240410T154635Z
UID:10012127-1832061600-1832065200@tillamookchamber.org
SUMMARY:Walking Wonders
DESCRIPTION:Join this active group rain or shine to get your steps in and around town.
URL:https://tillamookchamber.org/event/walking-wonders/2028-01-21/
LOCATION:Kiawanda Community Center\, 34600 Cape Kiwanda Dr\, Pacific City\, OR 97135\, OR\, United States
CATEGORIES:Fitness and Athletics
ATTACH;FMTTYPE=image/png:https://tillamookchamber.org/wp-content/uploads/2024/04/Walking-Wonders.png
END:VEVENT
BEGIN:VEVENT
DTSTART;TZID=America/Los_Angeles:20280124T100000
DTEND;TZID=America/Los_Angeles:20280124T110000
DTSTAMP:20260423T062937
CREATED:20240410T154635Z
LAST-MODIFIED:20240410T154635Z
UID:10012128-1832320800-1832324400@tillamookchamber.org
SUMMARY:Walking Wonders
DESCRIPTION:Join this active group rain or shine to get your steps in and around town.
URL:https://tillamookchamber.org/event/walking-wonders/2028-01-24/
LOCATION:Kiawanda Community Center\, 34600 Cape Kiwanda Dr\, Pacific City\, OR 97135\, OR\, United States
CATEGORIES:Fitness and Athletics
ATTACH;FMTTYPE=image/png:https://tillamookchamber.org/wp-content/uploads/2024/04/Walking-Wonders.png
END:VEVENT
BEGIN:VEVENT
DTSTART;TZID=America/Los_Angeles:20280126T100000
DTEND;TZID=America/Los_Angeles:20280126T110000
DTSTAMP:20260423T062937
CREATED:20240410T154635Z
LAST-MODIFIED:20240410T154635Z
UID:10012129-1832493600-1832497200@tillamookchamber.org
SUMMARY:Walking Wonders
DESCRIPTION:Join this active group rain or shine to get your steps in and around town.
URL:https://tillamookchamber.org/event/walking-wonders/2028-01-26/
LOCATION:Kiawanda Community Center\, 34600 Cape Kiwanda Dr\, Pacific City\, OR 97135\, OR\, United States
CATEGORIES:Fitness and Athletics
ATTACH;FMTTYPE=image/png:https://tillamookchamber.org/wp-content/uploads/2024/04/Walking-Wonders.png
END:VEVENT
BEGIN:VEVENT
DTSTART;TZID=America/Los_Angeles:20280127T103000
DTEND;TZID=America/Los_Angeles:20280127T113000
DTSTAMP:20260423T062937
CREATED:20240410T154601Z
LAST-MODIFIED:20240410T154601Z
UID:10011412-1832581800-1832585400@tillamookchamber.org
SUMMARY:Tai Chi at the KCC
DESCRIPTION:Come to this weekly class in Pacific City to learn the forms in this moving meditation. Feel your life force flowing through you and get energized for you day!
URL:https://tillamookchamber.org/event/tai-chi-at-the-kcc/2028-01-27/
LOCATION:Kiawanda Community Center\, 34600 Cape Kiwanda Dr\, Pacific City\, OR 97135\, OR\, United States
CATEGORIES:Fitness and Athletics
ATTACH;FMTTYPE=image/png:https://tillamookchamber.org/wp-content/uploads/2024/04/Tai-Chi.png
END:VEVENT
BEGIN:VEVENT
DTSTART;TZID=America/Los_Angeles:20280128T100000
DTEND;TZID=America/Los_Angeles:20280128T110000
DTSTAMP:20260423T062937
CREATED:20240410T154635Z
LAST-MODIFIED:20240410T154635Z
UID:10012130-1832666400-1832670000@tillamookchamber.org
SUMMARY:Walking Wonders
DESCRIPTION:Join this active group rain or shine to get your steps in and around town.
URL:https://tillamookchamber.org/event/walking-wonders/2028-01-28/
LOCATION:Kiawanda Community Center\, 34600 Cape Kiwanda Dr\, Pacific City\, OR 97135\, OR\, United States
CATEGORIES:Fitness and Athletics
ATTACH;FMTTYPE=image/png:https://tillamookchamber.org/wp-content/uploads/2024/04/Walking-Wonders.png
END:VEVENT
BEGIN:VEVENT
DTSTART;TZID=America/Los_Angeles:20280131T100000
DTEND;TZID=America/Los_Angeles:20280131T110000
DTSTAMP:20260423T062937
CREATED:20240410T154635Z
LAST-MODIFIED:20240410T154635Z
UID:10012131-1832925600-1832929200@tillamookchamber.org
SUMMARY:Walking Wonders
DESCRIPTION:Join this active group rain or shine to get your steps in and around town.
URL:https://tillamookchamber.org/event/walking-wonders/2028-01-31/
LOCATION:Kiawanda Community Center\, 34600 Cape Kiwanda Dr\, Pacific City\, OR 97135\, OR\, United States
CATEGORIES:Fitness and Athletics
ATTACH;FMTTYPE=image/png:https://tillamookchamber.org/wp-content/uploads/2024/04/Walking-Wonders.png
END:VEVENT
END:VCALENDAR