BEGIN:VCALENDAR
VERSION:2.0
PRODID:-//Tillamook Area Chamber of Commerce - ECPv6.15.20//NONSGML v1.0//EN
CALSCALE:GREGORIAN
METHOD:PUBLISH
X-WR-CALNAME:Tillamook Area Chamber of Commerce
X-ORIGINAL-URL:https://tillamookchamber.org
X-WR-CALDESC:Events for Tillamook Area Chamber of Commerce
REFRESH-INTERVAL;VALUE=DURATION:PT1H
X-Robots-Tag:noindex
X-PUBLISHED-TTL:PT1H
BEGIN:VTIMEZONE
TZID:America/Los_Angeles
BEGIN:DAYLIGHT
TZOFFSETFROM:-0800
TZOFFSETTO:-0700
TZNAME:PDT
DTSTART:20250309T100000
END:DAYLIGHT
BEGIN:STANDARD
TZOFFSETFROM:-0700
TZOFFSETTO:-0800
TZNAME:PST
DTSTART:20251102T090000
END:STANDARD
BEGIN:DAYLIGHT
TZOFFSETFROM:-0800
TZOFFSETTO:-0700
TZNAME:PDT
DTSTART:20260308T100000
END:DAYLIGHT
BEGIN:STANDARD
TZOFFSETFROM:-0700
TZOFFSETTO:-0800
TZNAME:PST
DTSTART:20261101T090000
END:STANDARD
BEGIN:DAYLIGHT
TZOFFSETFROM:-0800
TZOFFSETTO:-0700
TZNAME:PDT
DTSTART:20270314T100000
END:DAYLIGHT
BEGIN:STANDARD
TZOFFSETFROM:-0700
TZOFFSETTO:-0800
TZNAME:PST
DTSTART:20271107T090000
END:STANDARD
END:VTIMEZONE
BEGIN:VEVENT
DTSTART;TZID=America/Los_Angeles:20260601T100000
DTEND;TZID=America/Los_Angeles:20260601T110000
DTSTAMP:20260419T173704
CREATED:20240410T154635Z
LAST-MODIFIED:20240410T154635Z
UID:10011870-1780308000-1780311600@tillamookchamber.org
SUMMARY:Walking Wonders
DESCRIPTION:Join this active group rain or shine to get your steps in and around town.
URL:https://tillamookchamber.org/event/walking-wonders/2026-06-01/
LOCATION:Kiawanda Community Center\, 34600 Cape Kiwanda Dr\, Pacific City\, OR 97135\, OR\, United States
CATEGORIES:Fitness and Athletics
ATTACH;FMTTYPE=image/png:https://tillamookchamber.org/wp-content/uploads/2024/04/Walking-Wonders.png
END:VEVENT
BEGIN:VEVENT
DTSTART;TZID=America/Los_Angeles:20260602T090000
DTEND;TZID=America/Los_Angeles:20260602T100000
DTSTAMP:20260419T173704
CREATED:20250603T170933Z
LAST-MODIFIED:20250603T170936Z
UID:10010916-1780390800-1780394400@tillamookchamber.org
SUMMARY:Fit and Fabulous at the KCC
DESCRIPTION:Come join this group keeping active two days a week. Only $15 for the month!
URL:https://tillamookchamber.org/event/fit-and-fabulous-at-the-kcc-2/2026-06-02/
LOCATION:Kiawanda Community Center\, 34600 Cape Kiwanda Dr\, Pacific City\, OR 97135\, OR\, United States
CATEGORIES:Fitness and Athletics
ATTACH;FMTTYPE=image/png:https://tillamookchamber.org/wp-content/uploads/2024/04/Fit-Fabulous.png
END:VEVENT
BEGIN:VEVENT
DTSTART;TZID=America/Los_Angeles:20260603T100000
DTEND;TZID=America/Los_Angeles:20260603T110000
DTSTAMP:20260419T173704
CREATED:20240410T154635Z
LAST-MODIFIED:20240410T154635Z
UID:10011871-1780480800-1780484400@tillamookchamber.org
SUMMARY:Walking Wonders
DESCRIPTION:Join this active group rain or shine to get your steps in and around town.
URL:https://tillamookchamber.org/event/walking-wonders/2026-06-03/
LOCATION:Kiawanda Community Center\, 34600 Cape Kiwanda Dr\, Pacific City\, OR 97135\, OR\, United States
CATEGORIES:Fitness and Athletics
ATTACH;FMTTYPE=image/png:https://tillamookchamber.org/wp-content/uploads/2024/04/Walking-Wonders.png
END:VEVENT
BEGIN:VEVENT
DTSTART;TZID=America/Los_Angeles:20260604T090000
DTEND;TZID=America/Los_Angeles:20260604T100000
DTSTAMP:20260419T173704
CREATED:20250603T170933Z
LAST-MODIFIED:20250603T170936Z
UID:10010917-1780563600-1780567200@tillamookchamber.org
SUMMARY:Fit and Fabulous at the KCC
DESCRIPTION:Come join this group keeping active two days a week. Only $15 for the month!
URL:https://tillamookchamber.org/event/fit-and-fabulous-at-the-kcc-2/2026-06-04/
LOCATION:Kiawanda Community Center\, 34600 Cape Kiwanda Dr\, Pacific City\, OR 97135\, OR\, United States
CATEGORIES:Fitness and Athletics
ATTACH;FMTTYPE=image/png:https://tillamookchamber.org/wp-content/uploads/2024/04/Fit-Fabulous.png
END:VEVENT
BEGIN:VEVENT
DTSTART;TZID=America/Los_Angeles:20260604T103000
DTEND;TZID=America/Los_Angeles:20260604T113000
DTSTAMP:20260419T173704
CREATED:20240410T154601Z
LAST-MODIFIED:20240410T154601Z
UID:10011326-1780569000-1780572600@tillamookchamber.org
SUMMARY:Tai Chi at the KCC
DESCRIPTION:Come to this weekly class in Pacific City to learn the forms in this moving meditation. Feel your life force flowing through you and get energized for you day!
URL:https://tillamookchamber.org/event/tai-chi-at-the-kcc/2026-06-04/
LOCATION:Kiawanda Community Center\, 34600 Cape Kiwanda Dr\, Pacific City\, OR 97135\, OR\, United States
CATEGORIES:Fitness and Athletics
ATTACH;FMTTYPE=image/png:https://tillamookchamber.org/wp-content/uploads/2024/04/Tai-Chi.png
END:VEVENT
BEGIN:VEVENT
DTSTART;TZID=America/Los_Angeles:20260605T100000
DTEND;TZID=America/Los_Angeles:20260605T110000
DTSTAMP:20260419T173704
CREATED:20240410T154635Z
LAST-MODIFIED:20240410T154635Z
UID:10011872-1780653600-1780657200@tillamookchamber.org
SUMMARY:Walking Wonders
DESCRIPTION:Join this active group rain or shine to get your steps in and around town.
URL:https://tillamookchamber.org/event/walking-wonders/2026-06-05/
LOCATION:Kiawanda Community Center\, 34600 Cape Kiwanda Dr\, Pacific City\, OR 97135\, OR\, United States
CATEGORIES:Fitness and Athletics
ATTACH;FMTTYPE=image/png:https://tillamookchamber.org/wp-content/uploads/2024/04/Walking-Wonders.png
END:VEVENT
BEGIN:VEVENT
DTSTART;TZID=America/Los_Angeles:20260608T100000
DTEND;TZID=America/Los_Angeles:20260608T110000
DTSTAMP:20260419T173704
CREATED:20240410T154635Z
LAST-MODIFIED:20240410T154635Z
UID:10011873-1780912800-1780916400@tillamookchamber.org
SUMMARY:Walking Wonders
DESCRIPTION:Join this active group rain or shine to get your steps in and around town.
URL:https://tillamookchamber.org/event/walking-wonders/2026-06-08/
LOCATION:Kiawanda Community Center\, 34600 Cape Kiwanda Dr\, Pacific City\, OR 97135\, OR\, United States
CATEGORIES:Fitness and Athletics
ATTACH;FMTTYPE=image/png:https://tillamookchamber.org/wp-content/uploads/2024/04/Walking-Wonders.png
END:VEVENT
BEGIN:VEVENT
DTSTART;TZID=America/Los_Angeles:20260610T100000
DTEND;TZID=America/Los_Angeles:20260610T110000
DTSTAMP:20260419T173704
CREATED:20240410T154635Z
LAST-MODIFIED:20240410T154635Z
UID:10011874-1781085600-1781089200@tillamookchamber.org
SUMMARY:Walking Wonders
DESCRIPTION:Join this active group rain or shine to get your steps in and around town.
URL:https://tillamookchamber.org/event/walking-wonders/2026-06-10/
LOCATION:Kiawanda Community Center\, 34600 Cape Kiwanda Dr\, Pacific City\, OR 97135\, OR\, United States
CATEGORIES:Fitness and Athletics
ATTACH;FMTTYPE=image/png:https://tillamookchamber.org/wp-content/uploads/2024/04/Walking-Wonders.png
END:VEVENT
BEGIN:VEVENT
DTSTART;TZID=America/Los_Angeles:20260611T103000
DTEND;TZID=America/Los_Angeles:20260611T113000
DTSTAMP:20260419T173704
CREATED:20240410T154601Z
LAST-MODIFIED:20240410T154601Z
UID:10011327-1781173800-1781177400@tillamookchamber.org
SUMMARY:Tai Chi at the KCC
DESCRIPTION:Come to this weekly class in Pacific City to learn the forms in this moving meditation. Feel your life force flowing through you and get energized for you day!
URL:https://tillamookchamber.org/event/tai-chi-at-the-kcc/2026-06-11/
LOCATION:Kiawanda Community Center\, 34600 Cape Kiwanda Dr\, Pacific City\, OR 97135\, OR\, United States
CATEGORIES:Fitness and Athletics
ATTACH;FMTTYPE=image/png:https://tillamookchamber.org/wp-content/uploads/2024/04/Tai-Chi.png
END:VEVENT
BEGIN:VEVENT
DTSTART;TZID=America/Los_Angeles:20260612T100000
DTEND;TZID=America/Los_Angeles:20260612T110000
DTSTAMP:20260419T173704
CREATED:20240410T154635Z
LAST-MODIFIED:20240410T154635Z
UID:10011875-1781258400-1781262000@tillamookchamber.org
SUMMARY:Walking Wonders
DESCRIPTION:Join this active group rain or shine to get your steps in and around town.
URL:https://tillamookchamber.org/event/walking-wonders/2026-06-12/
LOCATION:Kiawanda Community Center\, 34600 Cape Kiwanda Dr\, Pacific City\, OR 97135\, OR\, United States
CATEGORIES:Fitness and Athletics
ATTACH;FMTTYPE=image/png:https://tillamookchamber.org/wp-content/uploads/2024/04/Walking-Wonders.png
END:VEVENT
BEGIN:VEVENT
DTSTART;TZID=America/Los_Angeles:20260615T100000
DTEND;TZID=America/Los_Angeles:20260615T110000
DTSTAMP:20260419T173704
CREATED:20240410T154635Z
LAST-MODIFIED:20240410T154635Z
UID:10011876-1781517600-1781521200@tillamookchamber.org
SUMMARY:Walking Wonders
DESCRIPTION:Join this active group rain or shine to get your steps in and around town.
URL:https://tillamookchamber.org/event/walking-wonders/2026-06-15/
LOCATION:Kiawanda Community Center\, 34600 Cape Kiwanda Dr\, Pacific City\, OR 97135\, OR\, United States
CATEGORIES:Fitness and Athletics
ATTACH;FMTTYPE=image/png:https://tillamookchamber.org/wp-content/uploads/2024/04/Walking-Wonders.png
END:VEVENT
BEGIN:VEVENT
DTSTART;TZID=America/Los_Angeles:20260617T100000
DTEND;TZID=America/Los_Angeles:20260617T110000
DTSTAMP:20260419T173704
CREATED:20240410T154635Z
LAST-MODIFIED:20240410T154635Z
UID:10011877-1781690400-1781694000@tillamookchamber.org
SUMMARY:Walking Wonders
DESCRIPTION:Join this active group rain or shine to get your steps in and around town.
URL:https://tillamookchamber.org/event/walking-wonders/2026-06-17/
LOCATION:Kiawanda Community Center\, 34600 Cape Kiwanda Dr\, Pacific City\, OR 97135\, OR\, United States
CATEGORIES:Fitness and Athletics
ATTACH;FMTTYPE=image/png:https://tillamookchamber.org/wp-content/uploads/2024/04/Walking-Wonders.png
END:VEVENT
BEGIN:VEVENT
DTSTART;TZID=America/Los_Angeles:20260618T103000
DTEND;TZID=America/Los_Angeles:20260618T113000
DTSTAMP:20260419T173704
CREATED:20240410T154601Z
LAST-MODIFIED:20240410T154601Z
UID:10011328-1781778600-1781782200@tillamookchamber.org
SUMMARY:Tai Chi at the KCC
DESCRIPTION:Come to this weekly class in Pacific City to learn the forms in this moving meditation. Feel your life force flowing through you and get energized for you day!
URL:https://tillamookchamber.org/event/tai-chi-at-the-kcc/2026-06-18/
LOCATION:Kiawanda Community Center\, 34600 Cape Kiwanda Dr\, Pacific City\, OR 97135\, OR\, United States
CATEGORIES:Fitness and Athletics
ATTACH;FMTTYPE=image/png:https://tillamookchamber.org/wp-content/uploads/2024/04/Tai-Chi.png
END:VEVENT
BEGIN:VEVENT
DTSTART;TZID=America/Los_Angeles:20260619T100000
DTEND;TZID=America/Los_Angeles:20260619T110000
DTSTAMP:20260419T173704
CREATED:20240410T154635Z
LAST-MODIFIED:20240410T154635Z
UID:10011878-1781863200-1781866800@tillamookchamber.org
SUMMARY:Walking Wonders
DESCRIPTION:Join this active group rain or shine to get your steps in and around town.
URL:https://tillamookchamber.org/event/walking-wonders/2026-06-19/
LOCATION:Kiawanda Community Center\, 34600 Cape Kiwanda Dr\, Pacific City\, OR 97135\, OR\, United States
CATEGORIES:Fitness and Athletics
ATTACH;FMTTYPE=image/png:https://tillamookchamber.org/wp-content/uploads/2024/04/Walking-Wonders.png
END:VEVENT
BEGIN:VEVENT
DTSTART;TZID=America/Los_Angeles:20260622T100000
DTEND;TZID=America/Los_Angeles:20260622T110000
DTSTAMP:20260419T173704
CREATED:20240410T154635Z
LAST-MODIFIED:20240410T154635Z
UID:10011879-1782122400-1782126000@tillamookchamber.org
SUMMARY:Walking Wonders
DESCRIPTION:Join this active group rain or shine to get your steps in and around town.
URL:https://tillamookchamber.org/event/walking-wonders/2026-06-22/
LOCATION:Kiawanda Community Center\, 34600 Cape Kiwanda Dr\, Pacific City\, OR 97135\, OR\, United States
CATEGORIES:Fitness and Athletics
ATTACH;FMTTYPE=image/png:https://tillamookchamber.org/wp-content/uploads/2024/04/Walking-Wonders.png
END:VEVENT
BEGIN:VEVENT
DTSTART;TZID=America/Los_Angeles:20260624T100000
DTEND;TZID=America/Los_Angeles:20260624T110000
DTSTAMP:20260419T173704
CREATED:20240410T154635Z
LAST-MODIFIED:20240410T154635Z
UID:10011880-1782295200-1782298800@tillamookchamber.org
SUMMARY:Walking Wonders
DESCRIPTION:Join this active group rain or shine to get your steps in and around town.
URL:https://tillamookchamber.org/event/walking-wonders/2026-06-24/
LOCATION:Kiawanda Community Center\, 34600 Cape Kiwanda Dr\, Pacific City\, OR 97135\, OR\, United States
CATEGORIES:Fitness and Athletics
ATTACH;FMTTYPE=image/png:https://tillamookchamber.org/wp-content/uploads/2024/04/Walking-Wonders.png
END:VEVENT
BEGIN:VEVENT
DTSTART;TZID=America/Los_Angeles:20260625T103000
DTEND;TZID=America/Los_Angeles:20260625T113000
DTSTAMP:20260419T173704
CREATED:20240410T154601Z
LAST-MODIFIED:20240410T154601Z
UID:10011329-1782383400-1782387000@tillamookchamber.org
SUMMARY:Tai Chi at the KCC
DESCRIPTION:Come to this weekly class in Pacific City to learn the forms in this moving meditation. Feel your life force flowing through you and get energized for you day!
URL:https://tillamookchamber.org/event/tai-chi-at-the-kcc/2026-06-25/
LOCATION:Kiawanda Community Center\, 34600 Cape Kiwanda Dr\, Pacific City\, OR 97135\, OR\, United States
CATEGORIES:Fitness and Athletics
ATTACH;FMTTYPE=image/png:https://tillamookchamber.org/wp-content/uploads/2024/04/Tai-Chi.png
END:VEVENT
BEGIN:VEVENT
DTSTART;TZID=America/Los_Angeles:20260626T100000
DTEND;TZID=America/Los_Angeles:20260626T110000
DTSTAMP:20260419T173704
CREATED:20240410T154635Z
LAST-MODIFIED:20240410T154635Z
UID:10011881-1782468000-1782471600@tillamookchamber.org
SUMMARY:Walking Wonders
DESCRIPTION:Join this active group rain or shine to get your steps in and around town.
URL:https://tillamookchamber.org/event/walking-wonders/2026-06-26/
LOCATION:Kiawanda Community Center\, 34600 Cape Kiwanda Dr\, Pacific City\, OR 97135\, OR\, United States
CATEGORIES:Fitness and Athletics
ATTACH;FMTTYPE=image/png:https://tillamookchamber.org/wp-content/uploads/2024/04/Walking-Wonders.png
END:VEVENT
BEGIN:VEVENT
DTSTART;TZID=America/Los_Angeles:20260629T100000
DTEND;TZID=America/Los_Angeles:20260629T110000
DTSTAMP:20260419T173704
CREATED:20240410T154635Z
LAST-MODIFIED:20240410T154635Z
UID:10011882-1782727200-1782730800@tillamookchamber.org
SUMMARY:Walking Wonders
DESCRIPTION:Join this active group rain or shine to get your steps in and around town.
URL:https://tillamookchamber.org/event/walking-wonders/2026-06-29/
LOCATION:Kiawanda Community Center\, 34600 Cape Kiwanda Dr\, Pacific City\, OR 97135\, OR\, United States
CATEGORIES:Fitness and Athletics
ATTACH;FMTTYPE=image/png:https://tillamookchamber.org/wp-content/uploads/2024/04/Walking-Wonders.png
END:VEVENT
END:VCALENDAR