BEGIN:VCALENDAR
VERSION:2.0
PRODID:-//Tillamook Area Chamber of Commerce - ECPv6.15.20//NONSGML v1.0//EN
CALSCALE:GREGORIAN
METHOD:PUBLISH
X-ORIGINAL-URL:https://tillamookchamber.org
X-WR-CALDESC:Events for Tillamook Area Chamber of Commerce
REFRESH-INTERVAL;VALUE=DURATION:PT1H
X-Robots-Tag:noindex
X-PUBLISHED-TTL:PT1H
BEGIN:VTIMEZONE
TZID:America/Los_Angeles
BEGIN:DAYLIGHT
TZOFFSETFROM:-0800
TZOFFSETTO:-0700
TZNAME:PDT
DTSTART:20240310T100000
END:DAYLIGHT
BEGIN:STANDARD
TZOFFSETFROM:-0700
TZOFFSETTO:-0800
TZNAME:PST
DTSTART:20241103T090000
END:STANDARD
BEGIN:DAYLIGHT
TZOFFSETFROM:-0800
TZOFFSETTO:-0700
TZNAME:PDT
DTSTART:20250309T100000
END:DAYLIGHT
BEGIN:STANDARD
TZOFFSETFROM:-0700
TZOFFSETTO:-0800
TZNAME:PST
DTSTART:20251102T090000
END:STANDARD
BEGIN:DAYLIGHT
TZOFFSETFROM:-0800
TZOFFSETTO:-0700
TZNAME:PDT
DTSTART:20260308T100000
END:DAYLIGHT
BEGIN:STANDARD
TZOFFSETFROM:-0700
TZOFFSETTO:-0800
TZNAME:PST
DTSTART:20261101T090000
END:STANDARD
END:VTIMEZONE
BEGIN:VEVENT
DTSTART;TZID=America/Los_Angeles:20250628T110000
DTEND;TZID=America/Los_Angeles:20250628T150000
DTSTAMP:20260424T054102
CREATED:20250623T232700Z
LAST-MODIFIED:20250623T232700Z
UID:10022664-1751108400-1751122800@tillamookchamber.org
SUMMARY:Tillamook Elk’s Dairy Parade BBQ
DESCRIPTION:Stop by the back patio of the Tillamook Elk’s Lodge for Hotdogs & Hamburgers before\, durning or after the Dairy Parade. Support your local Elk’s Lodge and donations will support Elk’s ENF program
URL:https://tillamookchamber.org/event/tillamook-elks-dairy-parade-bbq/
LOCATION:Tillamook Elk’s Lodge\, 1907 Third St.
CATEGORIES:Community,Family Fun,Festivals and Events
END:VEVENT
BEGIN:VEVENT
DTSTART;TZID=America/Los_Angeles:20250627T120000
DTEND;TZID=America/Los_Angeles:20250627T180000
DTSTAMP:20260424T054102
CREATED:20250613T232659Z
LAST-MODIFIED:20250613T233629Z
UID:10022102-1751025600-1751047200@tillamookchamber.org
SUMMARY:Blue Water Fine Art Gallery Grand Opening
DESCRIPTION:Join us in celebrating the grand opening of Blue Water Fine Art Gallery\, a new art space dedicated to showcasing local talent and the beauty of the Oregon Coast!\n\n\nWe’re thrilled to welcome art lovers\, community members\, and visitors to explore a thoughtfully curated collection of work by regional artists. As part of the celebration marking the beginning of an exciting new chapter for our creative community\, we would love to have you join us!\n\nLearn more here: bluewaterfineartgallery.com
URL:https://tillamookchamber.org/event/blue-water-fine-art-gallery-grand-opening/
CATEGORIES:Community,Festivals and Events
ATTACH;FMTTYPE=image/png:https://tillamookchamber.org/wp-content/uploads/2025/06/Blue-Water.png
END:VEVENT
BEGIN:VEVENT
DTSTART;TZID=America/Los_Angeles:20250622T130000
DTEND;TZID=America/Los_Angeles:20250622T150000
DTSTAMP:20260424T054102
CREATED:20250508T231807Z
LAST-MODIFIED:20250508T231807Z
UID:10021340-1750597200-1750604400@tillamookchamber.org
SUMMARY:Don’t Get High Tea
DESCRIPTION:The 11 th annual Don’t Get High Tea will take place on Sunday\, June 22\, 2025 at\nPacific Restaurant located at 205 Main Avenue in Tillamook\, and it promises to be an afternoon of\nelegance including delicious savory and sweet options along with specialty teas and the opportunity to\nwin the bid on many wonderful silent auction items. This fundraiser aims to raise essential funds to\ncontinue Tillamook Serenity’s addiction recovery mission within our community.
URL:https://tillamookchamber.org/event/dont-get-high-tea/
LOCATION:Pacific Restaurant\, 205 Main Avenue in Tillamook
CATEGORIES:Community,Festivals and Events
ATTACH;FMTTYPE=image/jpeg:https://tillamookchamber.org/wp-content/uploads/2025/05/2025-Tea-Poster-1-scaled.jpg
END:VEVENT
BEGIN:VEVENT
DTSTART;TZID=America/Los_Angeles:20250620T180000
DTEND;TZID=America/Los_Angeles:20250620T203000
DTSTAMP:20260424T054102
CREATED:20250613T232427Z
LAST-MODIFIED:20250613T232427Z
UID:10022099-1750442400-1750451400@tillamookchamber.org
SUMMARY:Cork and Brew Elks Stop
DESCRIPTION:The Elks Lodge is excited to join the Cork and Brew route this year! Cork and Brew participants are welcome to stop by our Tillamook Lodge to check out the 100-year-old building\, hang out on our back patio\, enjoy some bites to eat\, sample locally made wine and beer\, and mingle with Elks members! Still need tickets? Visit the Tillamook Chamber website or stop into their office!
URL:https://tillamookchamber.org/event/cork-and-brew-elks-stop/
LOCATION:Tillamook Elks\, 1907 3rd Street\, Tillamook\, 97141
CATEGORIES:Community,Festivals and Events
END:VEVENT
BEGIN:VEVENT
DTSTART;TZID=America/Los_Angeles:20250620T170000
DTEND;TZID=America/Los_Angeles:20250620T203000
DTSTAMP:20260424T054102
CREATED:20250513T211300Z
LAST-MODIFIED:20250513T211300Z
UID:10021356-1750438800-1750451400@tillamookchamber.org
SUMMARY:Cork & Brew Tour
DESCRIPTION:Cork & Brew Tour – Downtown Tillamook!\nGet ready for a fun-filled evening on Friday\, June 20th\, from 5:00 PM to 8:30 PM! Kick off the event at our launch party at Flavors on First (food truck court next to Kimmels) from 5-6 PM. Exchange your ticket for a commemorative Cork & Brew cup and enjoy complimentary beverages\, music\, and more! You’ll also receive your passport for a self-guided walking tour of Downtown Tillamook. At each stop\, savor Pacific Northwest beers and wines (plus non-alcoholic options) paired with delicious appetizers from local restaurants. Grab your tickets now at corkandbrewtour.com!
URL:https://tillamookchamber.org/event/cork-brew-tour/
LOCATION:Downtown Tillamook\, Tillamook\, OR\, 97141\, United States
CATEGORIES:Festivals and Events
ATTACH;FMTTYPE=image/png:https://tillamookchamber.org/wp-content/uploads/2025/05/early-bird-cork-and-brew-2.png
ORGANIZER;CN="Tillamook Chamber of Commerce":MAILTO:info@tillamookchamber.org
END:VEVENT
BEGIN:VEVENT
DTSTART;TZID=America/Los_Angeles:20250503T120000
DTEND;TZID=America/Los_Angeles:20250503T180000
DTSTAMP:20260424T054102
CREATED:20250313T224112Z
LAST-MODIFIED:20250313T224126Z
UID:10019080-1746273600-1746295200@tillamookchamber.org
SUMMARY:de Garde's 12th Anniversary Invitational
DESCRIPTION:We’re throwing a party like no other. \nThe event will be a celebration of place\, as well as of beer. There will be live music performed by some of the best regional artists throughout the event\, as well as excellent food vendors representing the diverse culinary delights of our area. \nMore details & tickets available here: https://12thanniversaryinvitational.eventbrite.com/
URL:https://tillamookchamber.org/event/de-gardes-12th-anniversary-invitational/
LOCATION:Tillamook County Fairgrounds\, 4603 3rd St\, Tillamook\, OR\, 97141\, United States
CATEGORIES:Community,Festivals and Events,Live Music
END:VEVENT
END:VCALENDAR