BEGIN:VCALENDAR
VERSION:2.0
PRODID:-//Tillamook Area Chamber of Commerce - ECPv6.15.20//NONSGML v1.0//EN
CALSCALE:GREGORIAN
METHOD:PUBLISH
X-ORIGINAL-URL:https://tillamookchamber.org
X-WR-CALDESC:Events for Tillamook Area Chamber of Commerce
REFRESH-INTERVAL;VALUE=DURATION:PT1H
X-Robots-Tag:noindex
X-PUBLISHED-TTL:PT1H
BEGIN:VTIMEZONE
TZID:America/Los_Angeles
BEGIN:DAYLIGHT
TZOFFSETFROM:-0800
TZOFFSETTO:-0700
TZNAME:PDT
DTSTART:20240310T100000
END:DAYLIGHT
BEGIN:STANDARD
TZOFFSETFROM:-0700
TZOFFSETTO:-0800
TZNAME:PST
DTSTART:20241103T090000
END:STANDARD
BEGIN:DAYLIGHT
TZOFFSETFROM:-0800
TZOFFSETTO:-0700
TZNAME:PDT
DTSTART:20250309T100000
END:DAYLIGHT
BEGIN:STANDARD
TZOFFSETFROM:-0700
TZOFFSETTO:-0800
TZNAME:PST
DTSTART:20251102T090000
END:STANDARD
BEGIN:DAYLIGHT
TZOFFSETFROM:-0800
TZOFFSETTO:-0700
TZNAME:PDT
DTSTART:20260308T100000
END:DAYLIGHT
BEGIN:STANDARD
TZOFFSETFROM:-0700
TZOFFSETTO:-0800
TZNAME:PST
DTSTART:20261101T090000
END:STANDARD
BEGIN:DAYLIGHT
TZOFFSETFROM:-0800
TZOFFSETTO:-0700
TZNAME:PDT
DTSTART:20270314T100000
END:DAYLIGHT
BEGIN:STANDARD
TZOFFSETFROM:-0700
TZOFFSETTO:-0800
TZNAME:PST
DTSTART:20271107T090000
END:STANDARD
END:VTIMEZONE
BEGIN:VEVENT
DTSTART;TZID=America/Los_Angeles:20260116T100000
DTEND;TZID=America/Los_Angeles:20260116T110000
DTSTAMP:20260421T110632
CREATED:20230113T205450Z
LAST-MODIFIED:20230113T205556Z
UID:10019766-1768557600-1768561200@tillamookchamber.org
SUMMARY:Tillamook Main Library Storytime: Mother Goose on the Loose
DESCRIPTION:Mother Goose on the Loose (MGOL) on Fri @ 10am; developmentally appropriate for birth to 24mos; rhythm\, rhymes\, instruments\, scarves and puppets! There is no expectation that your children will sit still or be quiet. It’s not developmentally appropriate to ask them to.
URL:https://tillamookchamber.org/event/tillamook-main-library-storytime-mother-goose-on-the-loose/2026-01-16/
LOCATION:Tillamook Main Library\, Tillamook\, 1716 3rd St\, Tillamook\, OR\, 97141\, United States
CATEGORIES:Education,Family Fun
ATTACH;FMTTYPE=image/png:https://tillamookchamber.org/wp-content/uploads/2023/01/TCL-transparent-logo-1.png
ORGANIZER;CN="Melanie Hetrick":MAILTO:mhetrick@co.tillamook.or.us
END:VEVENT
BEGIN:VEVENT
DTSTART;TZID=America/Los_Angeles:20260115T140000
DTEND;TZID=America/Los_Angeles:20260115T150000
DTSTAMP:20260421T110632
CREATED:20250929T192327Z
LAST-MODIFIED:20250929T192327Z
UID:10025787-1768485600-1768489200@tillamookchamber.org
SUMMARY:Mahjong at Manzanita Library
DESCRIPTION:Play mahjong in a fun informal group at the Manzanita library Thursdays at 2 pm!
URL:https://tillamookchamber.org/event/mahjong-at-manzanita-library/2026-01-15/
LOCATION:Manzanita Library\, 571 Laneda Ave Manzanita OR
CATEGORIES:Community,Family Fun
END:VEVENT
BEGIN:VEVENT
DTSTART;TZID=America/Los_Angeles:20260115T103000
DTEND;TZID=America/Los_Angeles:20260115T113000
DTSTAMP:20260421T110632
CREATED:20250929T192424Z
LAST-MODIFIED:20250929T192424Z
UID:10025715-1768473000-1768476600@tillamookchamber.org
SUMMARY:PreK Storytime at Manzanita Library
DESCRIPTION:Stories and activities for preschoolers at the Manzanita Library every 3rd Thursday at 10:30 am!
URL:https://tillamookchamber.org/event/prek-storytime-at-manzanita-library/2026-01-15/
LOCATION:Manzanita Library\, 571 Laneda Ave Manzanita OR
CATEGORIES:Community,Family Fun
ATTACH;FMTTYPE=image/png:https://tillamookchamber.org/wp-content/uploads/2025/09/PreK-Storytime-TZ.png
END:VEVENT
BEGIN:VEVENT
DTSTART;TZID=America/Los_Angeles:20260115T100000
DTEND;TZID=America/Los_Angeles:20260115T110000
DTSTAMP:20260421T110632
CREATED:20241226T211146Z
LAST-MODIFIED:20241226T211146Z
UID:10017513-1768471200-1768474800@tillamookchamber.org
SUMMARY:Family Storytime at Bay City Library
DESCRIPTION:Bring the whole family down to the Bay City Library for a fun storytime and activity every Thursday at 10am!
URL:https://tillamookchamber.org/event/family-storytime-at-bay-city-library-2/2026-01-15/
LOCATION:Bay City Library\, 5525 B St\, Bay City\, OR
CATEGORIES:Community,Family Fun
ATTACH;FMTTYPE=image/png:https://tillamookchamber.org/wp-content/uploads/2024/12/Bay-City-Storytime1.png
END:VEVENT
BEGIN:VEVENT
DTSTART;TZID=America/Los_Angeles:20260114T100000
DTEND;TZID=America/Los_Angeles:20260114T110000
DTSTAMP:20260421T110632
CREATED:20230113T205344Z
LAST-MODIFIED:20230113T205344Z
UID:10019445-1768384800-1768388400@tillamookchamber.org
SUMMARY:Tillamook Main Library Storytime: Preschool
DESCRIPTION:Preschool storytime (PS) on Wed @ 10; developmentally appropriate for 3-5 yos; music\, stories\, interactive play and lots of laughs! In this class little begin to learn about a leader at the front of the room\, how to hold their wiggles\, listening and sitting still. When a child is transitioning from TT to PS my expectation is that they will sit for 5-10 minutes and then they might go play. I do not force them to sit still if they are not ready to. \nA couple of things about the children’s room that might set you at ease: \n\nThere is no expectation that it will be a quiet zone; kids are kids and they are allowed to act like themselves in the children’s room.\nOnly 2 hard and fast rules: No Running & No Screaming.\nIf your child needs a snack\, feed them!
URL:https://tillamookchamber.org/event/tillamook-main-library-storytime-preschool/2026-01-14/
LOCATION:Tillamook Main Library\, Tillamook\, 1716 3rd St\, Tillamook\, OR\, 97141\, United States
CATEGORIES:Education,Family Fun
ATTACH;FMTTYPE=image/png:https://tillamookchamber.org/wp-content/uploads/2023/01/TCL-transparent-logo.png
ORGANIZER;CN="Melanie Hetrick":MAILTO:mhetrick@co.tillamook.or.us
END:VEVENT
BEGIN:VEVENT
DTSTART;TZID=America/Los_Angeles:20260113T100000
DTEND;TZID=America/Los_Angeles:20260113T110000
DTSTAMP:20260421T110633
CREATED:20230113T201225Z
LAST-MODIFIED:20230124T214552Z
UID:10020086-1768298400-1768302000@tillamookchamber.org
SUMMARY:Tillamook Main Library Storytime: Terrific Twos
DESCRIPTION:Terrific Twos (TT) on Tues @ 10am; developmentally appropriate for 24-36mos; bubbles\, balls\, parachute & instruments! There is no expectation that your children will sit still or be quiet. It’s not developmentally appropriate to ask them to. \nA couple of things about the children’s room that might set you at ease: \n\nThere is no expectation that it will be a quiet zone; kids are kids and they are allowed to act themselves in the children’s room.\nOnly 2 hard and fast rules: No Running & No Screaming.\nIf your child needs a snack\, feed them!
URL:https://tillamookchamber.org/event/tillamook-main-library-storytime-terrific-twos/2026-01-13/
LOCATION:Tillamook Main Library\, Tillamook\, 1716 3rd St\, Tillamook\, OR\, 97141\, United States
CATEGORIES:Education,Family Fun
ATTACH;FMTTYPE=image/jpeg:https://tillamookchamber.org/wp-content/uploads/2023/01/TCL-white.jpg
ORGANIZER;CN="Melanie Hetrick":MAILTO:mhetrick@co.tillamook.or.us
END:VEVENT
BEGIN:VEVENT
DTSTART;TZID=America/Los_Angeles:20260109T110000
DTEND;TZID=America/Los_Angeles:20260109T120000
DTSTAMP:20260421T110633
CREATED:20250623T163658Z
LAST-MODIFIED:20250623T163658Z
UID:10022254-1767956400-1767960000@tillamookchamber.org
SUMMARY:Storytime at Garibaldi Library
DESCRIPTION:Kids of all ages are welcome to the Garibaldi Library for storytime\, Fridays at 11:00am.
URL:https://tillamookchamber.org/event/storytime-at-garibaldi-library/2026-01-09/
LOCATION:Garibaldi Library\, 107 6th St\, Garibaldi OR
CATEGORIES:Community,Family Fun
ATTACH;FMTTYPE=image/png:https://tillamookchamber.org/wp-content/uploads/2024/12/Garibaldi-Story-Time-flyer.png
END:VEVENT
BEGIN:VEVENT
DTSTART;TZID=America/Los_Angeles:20260109T100000
DTEND;TZID=America/Los_Angeles:20260109T110000
DTSTAMP:20260421T110633
CREATED:20230113T205450Z
LAST-MODIFIED:20230113T205556Z
UID:10019765-1767952800-1767956400@tillamookchamber.org
SUMMARY:Tillamook Main Library Storytime: Mother Goose on the Loose
DESCRIPTION:Mother Goose on the Loose (MGOL) on Fri @ 10am; developmentally appropriate for birth to 24mos; rhythm\, rhymes\, instruments\, scarves and puppets! There is no expectation that your children will sit still or be quiet. It’s not developmentally appropriate to ask them to.
URL:https://tillamookchamber.org/event/tillamook-main-library-storytime-mother-goose-on-the-loose/2026-01-09/
LOCATION:Tillamook Main Library\, Tillamook\, 1716 3rd St\, Tillamook\, OR\, 97141\, United States
CATEGORIES:Education,Family Fun
ATTACH;FMTTYPE=image/png:https://tillamookchamber.org/wp-content/uploads/2023/01/TCL-transparent-logo-1.png
ORGANIZER;CN="Melanie Hetrick":MAILTO:mhetrick@co.tillamook.or.us
END:VEVENT
BEGIN:VEVENT
DTSTART;TZID=America/Los_Angeles:20260108T140000
DTEND;TZID=America/Los_Angeles:20260108T150000
DTSTAMP:20260421T110633
CREATED:20250929T192327Z
LAST-MODIFIED:20250929T192327Z
UID:10025786-1767880800-1767884400@tillamookchamber.org
SUMMARY:Mahjong at Manzanita Library
DESCRIPTION:Play mahjong in a fun informal group at the Manzanita library Thursdays at 2 pm!
URL:https://tillamookchamber.org/event/mahjong-at-manzanita-library/2026-01-08/
LOCATION:Manzanita Library\, 571 Laneda Ave Manzanita OR
CATEGORIES:Community,Family Fun
END:VEVENT
BEGIN:VEVENT
DTSTART;TZID=America/Los_Angeles:20260108T100000
DTEND;TZID=America/Los_Angeles:20260108T110000
DTSTAMP:20260421T110633
CREATED:20241226T211146Z
LAST-MODIFIED:20241226T211146Z
UID:10017512-1767866400-1767870000@tillamookchamber.org
SUMMARY:Family Storytime at Bay City Library
DESCRIPTION:Bring the whole family down to the Bay City Library for a fun storytime and activity every Thursday at 10am!
URL:https://tillamookchamber.org/event/family-storytime-at-bay-city-library-2/2026-01-08/
LOCATION:Bay City Library\, 5525 B St\, Bay City\, OR
CATEGORIES:Community,Family Fun
ATTACH;FMTTYPE=image/png:https://tillamookchamber.org/wp-content/uploads/2024/12/Bay-City-Storytime1.png
END:VEVENT
BEGIN:VEVENT
DTSTART;TZID=America/Los_Angeles:20260107T100000
DTEND;TZID=America/Los_Angeles:20260107T110000
DTSTAMP:20260421T110633
CREATED:20230113T205344Z
LAST-MODIFIED:20230113T205344Z
UID:10019444-1767780000-1767783600@tillamookchamber.org
SUMMARY:Tillamook Main Library Storytime: Preschool
DESCRIPTION:Preschool storytime (PS) on Wed @ 10; developmentally appropriate for 3-5 yos; music\, stories\, interactive play and lots of laughs! In this class little begin to learn about a leader at the front of the room\, how to hold their wiggles\, listening and sitting still. When a child is transitioning from TT to PS my expectation is that they will sit for 5-10 minutes and then they might go play. I do not force them to sit still if they are not ready to. \nA couple of things about the children’s room that might set you at ease: \n\nThere is no expectation that it will be a quiet zone; kids are kids and they are allowed to act like themselves in the children’s room.\nOnly 2 hard and fast rules: No Running & No Screaming.\nIf your child needs a snack\, feed them!
URL:https://tillamookchamber.org/event/tillamook-main-library-storytime-preschool/2026-01-07/
LOCATION:Tillamook Main Library\, Tillamook\, 1716 3rd St\, Tillamook\, OR\, 97141\, United States
CATEGORIES:Education,Family Fun
ATTACH;FMTTYPE=image/png:https://tillamookchamber.org/wp-content/uploads/2023/01/TCL-transparent-logo.png
ORGANIZER;CN="Melanie Hetrick":MAILTO:mhetrick@co.tillamook.or.us
END:VEVENT
BEGIN:VEVENT
DTSTART;TZID=America/Los_Angeles:20260106T100000
DTEND;TZID=America/Los_Angeles:20260106T110000
DTSTAMP:20260421T110633
CREATED:20230113T201225Z
LAST-MODIFIED:20230124T214552Z
UID:10020085-1767693600-1767697200@tillamookchamber.org
SUMMARY:Tillamook Main Library Storytime: Terrific Twos
DESCRIPTION:Terrific Twos (TT) on Tues @ 10am; developmentally appropriate for 24-36mos; bubbles\, balls\, parachute & instruments! There is no expectation that your children will sit still or be quiet. It’s not developmentally appropriate to ask them to. \nA couple of things about the children’s room that might set you at ease: \n\nThere is no expectation that it will be a quiet zone; kids are kids and they are allowed to act themselves in the children’s room.\nOnly 2 hard and fast rules: No Running & No Screaming.\nIf your child needs a snack\, feed them!
URL:https://tillamookchamber.org/event/tillamook-main-library-storytime-terrific-twos/2026-01-06/
LOCATION:Tillamook Main Library\, Tillamook\, 1716 3rd St\, Tillamook\, OR\, 97141\, United States
CATEGORIES:Education,Family Fun
ATTACH;FMTTYPE=image/jpeg:https://tillamookchamber.org/wp-content/uploads/2023/01/TCL-white.jpg
ORGANIZER;CN="Melanie Hetrick":MAILTO:mhetrick@co.tillamook.or.us
END:VEVENT
BEGIN:VEVENT
DTSTART;TZID=America/Los_Angeles:20260102T110000
DTEND;TZID=America/Los_Angeles:20260102T120000
DTSTAMP:20260421T110633
CREATED:20250623T163658Z
LAST-MODIFIED:20250623T163658Z
UID:10022253-1767351600-1767355200@tillamookchamber.org
SUMMARY:Storytime at Garibaldi Library
DESCRIPTION:Kids of all ages are welcome to the Garibaldi Library for storytime\, Fridays at 11:00am.
URL:https://tillamookchamber.org/event/storytime-at-garibaldi-library/2026-01-02/
LOCATION:Garibaldi Library\, 107 6th St\, Garibaldi OR
CATEGORIES:Community,Family Fun
ATTACH;FMTTYPE=image/png:https://tillamookchamber.org/wp-content/uploads/2024/12/Garibaldi-Story-Time-flyer.png
END:VEVENT
BEGIN:VEVENT
DTSTART;TZID=America/Los_Angeles:20260102T100000
DTEND;TZID=America/Los_Angeles:20260102T110000
DTSTAMP:20260421T110633
CREATED:20230113T205450Z
LAST-MODIFIED:20230113T205556Z
UID:10019764-1767348000-1767351600@tillamookchamber.org
SUMMARY:Tillamook Main Library Storytime: Mother Goose on the Loose
DESCRIPTION:Mother Goose on the Loose (MGOL) on Fri @ 10am; developmentally appropriate for birth to 24mos; rhythm\, rhymes\, instruments\, scarves and puppets! There is no expectation that your children will sit still or be quiet. It’s not developmentally appropriate to ask them to.
URL:https://tillamookchamber.org/event/tillamook-main-library-storytime-mother-goose-on-the-loose/2026-01-02/
LOCATION:Tillamook Main Library\, Tillamook\, 1716 3rd St\, Tillamook\, OR\, 97141\, United States
CATEGORIES:Education,Family Fun
ATTACH;FMTTYPE=image/png:https://tillamookchamber.org/wp-content/uploads/2023/01/TCL-transparent-logo-1.png
ORGANIZER;CN="Melanie Hetrick":MAILTO:mhetrick@co.tillamook.or.us
END:VEVENT
BEGIN:VEVENT
DTSTART;TZID=America/Los_Angeles:20260101T140000
DTEND;TZID=America/Los_Angeles:20260101T150000
DTSTAMP:20260421T110633
CREATED:20250929T192327Z
LAST-MODIFIED:20250929T192327Z
UID:10025785-1767276000-1767279600@tillamookchamber.org
SUMMARY:Mahjong at Manzanita Library
DESCRIPTION:Play mahjong in a fun informal group at the Manzanita library Thursdays at 2 pm!
URL:https://tillamookchamber.org/event/mahjong-at-manzanita-library/2026-01-01/
LOCATION:Manzanita Library\, 571 Laneda Ave Manzanita OR
CATEGORIES:Community,Family Fun
END:VEVENT
BEGIN:VEVENT
DTSTART;TZID=America/Los_Angeles:20260101T100000
DTEND;TZID=America/Los_Angeles:20260101T110000
DTSTAMP:20260421T110633
CREATED:20241226T211146Z
LAST-MODIFIED:20241226T211146Z
UID:10017511-1767261600-1767265200@tillamookchamber.org
SUMMARY:Family Storytime at Bay City Library
DESCRIPTION:Bring the whole family down to the Bay City Library for a fun storytime and activity every Thursday at 10am!
URL:https://tillamookchamber.org/event/family-storytime-at-bay-city-library-2/2026-01-01/
LOCATION:Bay City Library\, 5525 B St\, Bay City\, OR
CATEGORIES:Community,Family Fun
ATTACH;FMTTYPE=image/png:https://tillamookchamber.org/wp-content/uploads/2024/12/Bay-City-Storytime1.png
END:VEVENT
BEGIN:VEVENT
DTSTART;TZID=America/Los_Angeles:20251231T100000
DTEND;TZID=America/Los_Angeles:20251231T110000
DTSTAMP:20260421T110633
CREATED:20230113T205344Z
LAST-MODIFIED:20230113T205344Z
UID:10019443-1767175200-1767178800@tillamookchamber.org
SUMMARY:Tillamook Main Library Storytime: Preschool
DESCRIPTION:Preschool storytime (PS) on Wed @ 10; developmentally appropriate for 3-5 yos; music\, stories\, interactive play and lots of laughs! In this class little begin to learn about a leader at the front of the room\, how to hold their wiggles\, listening and sitting still. When a child is transitioning from TT to PS my expectation is that they will sit for 5-10 minutes and then they might go play. I do not force them to sit still if they are not ready to. \nA couple of things about the children’s room that might set you at ease: \n\nThere is no expectation that it will be a quiet zone; kids are kids and they are allowed to act like themselves in the children’s room.\nOnly 2 hard and fast rules: No Running & No Screaming.\nIf your child needs a snack\, feed them!
URL:https://tillamookchamber.org/event/tillamook-main-library-storytime-preschool/2025-12-31/
LOCATION:Tillamook Main Library\, Tillamook\, 1716 3rd St\, Tillamook\, OR\, 97141\, United States
CATEGORIES:Education,Family Fun
ATTACH;FMTTYPE=image/png:https://tillamookchamber.org/wp-content/uploads/2023/01/TCL-transparent-logo.png
ORGANIZER;CN="Melanie Hetrick":MAILTO:mhetrick@co.tillamook.or.us
END:VEVENT
BEGIN:VEVENT
DTSTART;TZID=America/Los_Angeles:20251230T130000
DTEND;TZID=America/Los_Angeles:20251230T150000
DTSTAMP:20260421T110633
CREATED:20251007T234340Z
LAST-MODIFIED:20251007T234340Z
UID:10026214-1767099600-1767106800@tillamookchamber.org
SUMMARY:Open Skate
DESCRIPTION:Are you looking for something to do with your kids during Holiday Break? Join us at Tillaskate for open skate. Bring your own skates or use ours. $5.00 if you use ours or $4 to use your own. Socks are required.
URL:https://tillamookchamber.org/event/open-skate-2/2025-12-30/
LOCATION:Tillamook County Fairgrounds\, 4603 3rd St\, Tillamook\, OR\, 97141\, United States
CATEGORIES:Community,Family Fun,Holiday
ATTACH;FMTTYPE=image/jpeg:https://tillamookchamber.org/wp-content/uploads/2025/10/Skating.jpg
END:VEVENT
BEGIN:VEVENT
DTSTART;TZID=America/Los_Angeles:20251230T100000
DTEND;TZID=America/Los_Angeles:20251230T110000
DTSTAMP:20260421T110633
CREATED:20230113T201225Z
LAST-MODIFIED:20230124T214552Z
UID:10020084-1767088800-1767092400@tillamookchamber.org
SUMMARY:Tillamook Main Library Storytime: Terrific Twos
DESCRIPTION:Terrific Twos (TT) on Tues @ 10am; developmentally appropriate for 24-36mos; bubbles\, balls\, parachute & instruments! There is no expectation that your children will sit still or be quiet. It’s not developmentally appropriate to ask them to. \nA couple of things about the children’s room that might set you at ease: \n\nThere is no expectation that it will be a quiet zone; kids are kids and they are allowed to act themselves in the children’s room.\nOnly 2 hard and fast rules: No Running & No Screaming.\nIf your child needs a snack\, feed them!
URL:https://tillamookchamber.org/event/tillamook-main-library-storytime-terrific-twos/2025-12-30/
LOCATION:Tillamook Main Library\, Tillamook\, 1716 3rd St\, Tillamook\, OR\, 97141\, United States
CATEGORIES:Education,Family Fun
ATTACH;FMTTYPE=image/jpeg:https://tillamookchamber.org/wp-content/uploads/2023/01/TCL-white.jpg
ORGANIZER;CN="Melanie Hetrick":MAILTO:mhetrick@co.tillamook.or.us
END:VEVENT
BEGIN:VEVENT
DTSTART;TZID=America/Los_Angeles:20251229T130000
DTEND;TZID=America/Los_Angeles:20251229T150000
DTSTAMP:20260421T110633
CREATED:20251007T234340Z
LAST-MODIFIED:20251007T234340Z
UID:10026213-1767013200-1767020400@tillamookchamber.org
SUMMARY:Open Skate
DESCRIPTION:Are you looking for something to do with your kids during Holiday Break? Join us at Tillaskate for open skate. Bring your own skates or use ours. $5.00 if you use ours or $4 to use your own. Socks are required.
URL:https://tillamookchamber.org/event/open-skate-2/2025-12-29/
LOCATION:Tillamook County Fairgrounds\, 4603 3rd St\, Tillamook\, OR\, 97141\, United States
CATEGORIES:Community,Family Fun,Holiday
ATTACH;FMTTYPE=image/jpeg:https://tillamookchamber.org/wp-content/uploads/2025/10/Skating.jpg
END:VEVENT
BEGIN:VEVENT
DTSTART;TZID=America/Los_Angeles:20251226T110000
DTEND;TZID=America/Los_Angeles:20251226T120000
DTSTAMP:20260421T110633
CREATED:20250623T163658Z
LAST-MODIFIED:20250623T163658Z
UID:10022252-1766746800-1766750400@tillamookchamber.org
SUMMARY:Storytime at Garibaldi Library
DESCRIPTION:Kids of all ages are welcome to the Garibaldi Library for storytime\, Fridays at 11:00am.
URL:https://tillamookchamber.org/event/storytime-at-garibaldi-library/2025-12-26/
LOCATION:Garibaldi Library\, 107 6th St\, Garibaldi OR
CATEGORIES:Community,Family Fun
ATTACH;FMTTYPE=image/png:https://tillamookchamber.org/wp-content/uploads/2024/12/Garibaldi-Story-Time-flyer.png
END:VEVENT
BEGIN:VEVENT
DTSTART;TZID=America/Los_Angeles:20251226T100000
DTEND;TZID=America/Los_Angeles:20251226T110000
DTSTAMP:20260421T110633
CREATED:20230113T205450Z
LAST-MODIFIED:20230113T205556Z
UID:10019763-1766743200-1766746800@tillamookchamber.org
SUMMARY:Tillamook Main Library Storytime: Mother Goose on the Loose
DESCRIPTION:Mother Goose on the Loose (MGOL) on Fri @ 10am; developmentally appropriate for birth to 24mos; rhythm\, rhymes\, instruments\, scarves and puppets! There is no expectation that your children will sit still or be quiet. It’s not developmentally appropriate to ask them to.
URL:https://tillamookchamber.org/event/tillamook-main-library-storytime-mother-goose-on-the-loose/2025-12-26/
LOCATION:Tillamook Main Library\, Tillamook\, 1716 3rd St\, Tillamook\, OR\, 97141\, United States
CATEGORIES:Education,Family Fun
ATTACH;FMTTYPE=image/png:https://tillamookchamber.org/wp-content/uploads/2023/01/TCL-transparent-logo-1.png
ORGANIZER;CN="Melanie Hetrick":MAILTO:mhetrick@co.tillamook.or.us
END:VEVENT
BEGIN:VEVENT
DTSTART;TZID=America/Los_Angeles:20251225T140000
DTEND;TZID=America/Los_Angeles:20251225T150000
DTSTAMP:20260421T110633
CREATED:20250929T192327Z
LAST-MODIFIED:20250929T192327Z
UID:10025784-1766671200-1766674800@tillamookchamber.org
SUMMARY:Mahjong at Manzanita Library
DESCRIPTION:Play mahjong in a fun informal group at the Manzanita library Thursdays at 2 pm!
URL:https://tillamookchamber.org/event/mahjong-at-manzanita-library/2025-12-25/
LOCATION:Manzanita Library\, 571 Laneda Ave Manzanita OR
CATEGORIES:Community,Family Fun
END:VEVENT
BEGIN:VEVENT
DTSTART;TZID=America/Los_Angeles:20251225T100000
DTEND;TZID=America/Los_Angeles:20251225T110000
DTSTAMP:20260421T110633
CREATED:20241226T211146Z
LAST-MODIFIED:20241226T211146Z
UID:10017510-1766656800-1766660400@tillamookchamber.org
SUMMARY:Family Storytime at Bay City Library
DESCRIPTION:Bring the whole family down to the Bay City Library for a fun storytime and activity every Thursday at 10am!
URL:https://tillamookchamber.org/event/family-storytime-at-bay-city-library-2/2025-12-25/
LOCATION:Bay City Library\, 5525 B St\, Bay City\, OR
CATEGORIES:Community,Family Fun
ATTACH;FMTTYPE=image/png:https://tillamookchamber.org/wp-content/uploads/2024/12/Bay-City-Storytime1.png
END:VEVENT
BEGIN:VEVENT
DTSTART;TZID=America/Los_Angeles:20251224T100000
DTEND;TZID=America/Los_Angeles:20251224T110000
DTSTAMP:20260421T110633
CREATED:20230113T205344Z
LAST-MODIFIED:20230113T205344Z
UID:10019442-1766570400-1766574000@tillamookchamber.org
SUMMARY:Tillamook Main Library Storytime: Preschool
DESCRIPTION:Preschool storytime (PS) on Wed @ 10; developmentally appropriate for 3-5 yos; music\, stories\, interactive play and lots of laughs! In this class little begin to learn about a leader at the front of the room\, how to hold their wiggles\, listening and sitting still. When a child is transitioning from TT to PS my expectation is that they will sit for 5-10 minutes and then they might go play. I do not force them to sit still if they are not ready to. \nA couple of things about the children’s room that might set you at ease: \n\nThere is no expectation that it will be a quiet zone; kids are kids and they are allowed to act like themselves in the children’s room.\nOnly 2 hard and fast rules: No Running & No Screaming.\nIf your child needs a snack\, feed them!
URL:https://tillamookchamber.org/event/tillamook-main-library-storytime-preschool/2025-12-24/
LOCATION:Tillamook Main Library\, Tillamook\, 1716 3rd St\, Tillamook\, OR\, 97141\, United States
CATEGORIES:Education,Family Fun
ATTACH;FMTTYPE=image/png:https://tillamookchamber.org/wp-content/uploads/2023/01/TCL-transparent-logo.png
ORGANIZER;CN="Melanie Hetrick":MAILTO:mhetrick@co.tillamook.or.us
END:VEVENT
BEGIN:VEVENT
DTSTART;TZID=America/Los_Angeles:20251223T130000
DTEND;TZID=America/Los_Angeles:20251223T150000
DTSTAMP:20260421T110633
CREATED:20251007T234340Z
LAST-MODIFIED:20251007T234340Z
UID:10026212-1766494800-1766502000@tillamookchamber.org
SUMMARY:Open Skate
DESCRIPTION:Are you looking for something to do with your kids during Holiday Break? Join us at Tillaskate for open skate. Bring your own skates or use ours. $5.00 if you use ours or $4 to use your own. Socks are required.
URL:https://tillamookchamber.org/event/open-skate-2/2025-12-23/
LOCATION:Tillamook County Fairgrounds\, 4603 3rd St\, Tillamook\, OR\, 97141\, United States
CATEGORIES:Community,Family Fun,Holiday
ATTACH;FMTTYPE=image/jpeg:https://tillamookchamber.org/wp-content/uploads/2025/10/Skating.jpg
END:VEVENT
BEGIN:VEVENT
DTSTART;TZID=America/Los_Angeles:20251223T100000
DTEND;TZID=America/Los_Angeles:20251223T110000
DTSTAMP:20260421T110633
CREATED:20230113T201225Z
LAST-MODIFIED:20230124T214552Z
UID:10020083-1766484000-1766487600@tillamookchamber.org
SUMMARY:Tillamook Main Library Storytime: Terrific Twos
DESCRIPTION:Terrific Twos (TT) on Tues @ 10am; developmentally appropriate for 24-36mos; bubbles\, balls\, parachute & instruments! There is no expectation that your children will sit still or be quiet. It’s not developmentally appropriate to ask them to. \nA couple of things about the children’s room that might set you at ease: \n\nThere is no expectation that it will be a quiet zone; kids are kids and they are allowed to act themselves in the children’s room.\nOnly 2 hard and fast rules: No Running & No Screaming.\nIf your child needs a snack\, feed them!
URL:https://tillamookchamber.org/event/tillamook-main-library-storytime-terrific-twos/2025-12-23/
LOCATION:Tillamook Main Library\, Tillamook\, 1716 3rd St\, Tillamook\, OR\, 97141\, United States
CATEGORIES:Education,Family Fun
ATTACH;FMTTYPE=image/jpeg:https://tillamookchamber.org/wp-content/uploads/2023/01/TCL-white.jpg
ORGANIZER;CN="Melanie Hetrick":MAILTO:mhetrick@co.tillamook.or.us
END:VEVENT
BEGIN:VEVENT
DTSTART;TZID=America/Los_Angeles:20251222T130000
DTEND;TZID=America/Los_Angeles:20251222T150000
DTSTAMP:20260421T110633
CREATED:20251007T234340Z
LAST-MODIFIED:20251007T234340Z
UID:10026211-1766408400-1766415600@tillamookchamber.org
SUMMARY:Open Skate
DESCRIPTION:Are you looking for something to do with your kids during Holiday Break? Join us at Tillaskate for open skate. Bring your own skates or use ours. $5.00 if you use ours or $4 to use your own. Socks are required.
URL:https://tillamookchamber.org/event/open-skate-2/2025-12-22/
LOCATION:Tillamook County Fairgrounds\, 4603 3rd St\, Tillamook\, OR\, 97141\, United States
CATEGORIES:Community,Family Fun,Holiday
ATTACH;FMTTYPE=image/jpeg:https://tillamookchamber.org/wp-content/uploads/2025/10/Skating.jpg
END:VEVENT
BEGIN:VEVENT
DTSTART;TZID=America/Los_Angeles:20251221T180000
DTEND;TZID=America/Los_Angeles:20251221T203000
DTSTAMP:20260421T110633
CREATED:20251202T002729Z
LAST-MODIFIED:20251202T002746Z
UID:10028570-1766340000-1766349000@tillamookchamber.org
SUMMARY:Blessing Chimanga - African Dance
DESCRIPTION:Unique opportunity to enjoy live music and dancing at the Bay City Arts Center! Doors open at 6\, music begins at 6:30! Tickets are $20 and can be purchased online on the Bay City Arts Center website or at the door!
URL:https://tillamookchamber.org/event/blessing-chimanga-african-dance/
CATEGORIES:Arts and Culture,Family Fun,Live Music
ATTACH;FMTTYPE=image/png:https://tillamookchamber.org/wp-content/uploads/2025/12/Blessings.png
END:VEVENT
BEGIN:VEVENT
DTSTART;TZID=America/Los_Angeles:20251221T100000
DTEND;TZID=America/Los_Angeles:20251221T160000
DTSTAMP:20260421T110633
CREATED:20250312T224125Z
LAST-MODIFIED:20250312T224125Z
UID:10019027-1766311200-1766332800@tillamookchamber.org
SUMMARY:Locals Free Day @ Hangar B
DESCRIPTION:Every month on the 3rd Sunday of the month\, we offer Tillamook County residents a FREE Day! \nFlash your ID or library card as proof and enjoy the museum!
URL:https://tillamookchamber.org/event/locals-free-day-hangar-b/2025-12-21/
LOCATION:Tillamook Air Museum\, 6030 Hangar Rd\, OR\, United States
CATEGORIES:Community,Education,Family Fun
ATTACH;FMTTYPE=image/png:https://tillamookchamber.org/wp-content/uploads/2025/03/TILLAMOOK-CO-LOCALS-DAY.png
END:VEVENT
END:VCALENDAR