BEGIN:VCALENDAR
VERSION:2.0
PRODID:-//Tillamook Area Chamber of Commerce - ECPv6.15.20//NONSGML v1.0//EN
CALSCALE:GREGORIAN
METHOD:PUBLISH
X-WR-CALNAME:Tillamook Area Chamber of Commerce
X-ORIGINAL-URL:https://tillamookchamber.org
X-WR-CALDESC:Events for Tillamook Area Chamber of Commerce
REFRESH-INTERVAL;VALUE=DURATION:PT1H
X-Robots-Tag:noindex
X-PUBLISHED-TTL:PT1H
BEGIN:VTIMEZONE
TZID:America/Los_Angeles
BEGIN:DAYLIGHT
TZOFFSETFROM:-0800
TZOFFSETTO:-0700
TZNAME:PDT
DTSTART:20240310T100000
END:DAYLIGHT
BEGIN:STANDARD
TZOFFSETFROM:-0700
TZOFFSETTO:-0800
TZNAME:PST
DTSTART:20241103T090000
END:STANDARD
BEGIN:DAYLIGHT
TZOFFSETFROM:-0800
TZOFFSETTO:-0700
TZNAME:PDT
DTSTART:20250309T100000
END:DAYLIGHT
BEGIN:STANDARD
TZOFFSETFROM:-0700
TZOFFSETTO:-0800
TZNAME:PST
DTSTART:20251102T090000
END:STANDARD
BEGIN:DAYLIGHT
TZOFFSETFROM:-0800
TZOFFSETTO:-0700
TZNAME:PDT
DTSTART:20260308T100000
END:DAYLIGHT
BEGIN:STANDARD
TZOFFSETFROM:-0700
TZOFFSETTO:-0800
TZNAME:PST
DTSTART:20261101T090000
END:STANDARD
END:VTIMEZONE
BEGIN:VEVENT
DTSTART;TZID=America/Los_Angeles:20250603T100000
DTEND;TZID=America/Los_Angeles:20250603T110000
DTSTAMP:20260422T090415
CREATED:20230113T201225Z
LAST-MODIFIED:20230124T214552Z
UID:10020054-1748944800-1748948400@tillamookchamber.org
SUMMARY:Tillamook Main Library Storytime: Terrific Twos
DESCRIPTION:Terrific Twos (TT) on Tues @ 10am; developmentally appropriate for 24-36mos; bubbles\, balls\, parachute & instruments! There is no expectation that your children will sit still or be quiet. It’s not developmentally appropriate to ask them to. \nA couple of things about the children’s room that might set you at ease: \n\nThere is no expectation that it will be a quiet zone; kids are kids and they are allowed to act themselves in the children’s room.\nOnly 2 hard and fast rules: No Running & No Screaming.\nIf your child needs a snack\, feed them!
URL:https://tillamookchamber.org/event/tillamook-main-library-storytime-terrific-twos/2025-06-03/
LOCATION:Tillamook Main Library\, Tillamook\, 1716 3rd St\, Tillamook\, OR\, 97141\, United States
CATEGORIES:Education,Family Fun
ATTACH;FMTTYPE=image/jpeg:https://tillamookchamber.org/wp-content/uploads/2023/01/TCL-white.jpg
ORGANIZER;CN="Melanie Hetrick":MAILTO:mhetrick@co.tillamook.or.us
END:VEVENT
BEGIN:VEVENT
DTSTART;TZID=America/Los_Angeles:20250604T100000
DTEND;TZID=America/Los_Angeles:20250604T110000
DTSTAMP:20260422T090415
CREATED:20230113T205344Z
LAST-MODIFIED:20230113T205344Z
UID:10019413-1749031200-1749034800@tillamookchamber.org
SUMMARY:Tillamook Main Library Storytime: Preschool
DESCRIPTION:Preschool storytime (PS) on Wed @ 10; developmentally appropriate for 3-5 yos; music\, stories\, interactive play and lots of laughs! In this class little begin to learn about a leader at the front of the room\, how to hold their wiggles\, listening and sitting still. When a child is transitioning from TT to PS my expectation is that they will sit for 5-10 minutes and then they might go play. I do not force them to sit still if they are not ready to. \nA couple of things about the children’s room that might set you at ease: \n\nThere is no expectation that it will be a quiet zone; kids are kids and they are allowed to act like themselves in the children’s room.\nOnly 2 hard and fast rules: No Running & No Screaming.\nIf your child needs a snack\, feed them!
URL:https://tillamookchamber.org/event/tillamook-main-library-storytime-preschool/2025-06-04/
LOCATION:Tillamook Main Library\, Tillamook\, 1716 3rd St\, Tillamook\, OR\, 97141\, United States
CATEGORIES:Education,Family Fun
ATTACH;FMTTYPE=image/png:https://tillamookchamber.org/wp-content/uploads/2023/01/TCL-transparent-logo.png
ORGANIZER;CN="Melanie Hetrick":MAILTO:mhetrick@co.tillamook.or.us
END:VEVENT
BEGIN:VEVENT
DTSTART;TZID=America/Los_Angeles:20250605T100000
DTEND;TZID=America/Los_Angeles:20250605T110000
DTSTAMP:20260422T090415
CREATED:20241226T211146Z
LAST-MODIFIED:20241226T211146Z
UID:10017481-1749117600-1749121200@tillamookchamber.org
SUMMARY:Family Storytime at Bay City Library
DESCRIPTION:Bring the whole family down to the Bay City Library for a fun storytime and activity every Thursday at 10am!
URL:https://tillamookchamber.org/event/family-storytime-at-bay-city-library-2/2025-06-05/
LOCATION:Bay City Library\, 5525 B St\, Bay City\, OR
CATEGORIES:Community,Family Fun
ATTACH;FMTTYPE=image/png:https://tillamookchamber.org/wp-content/uploads/2024/12/Bay-City-Storytime1.png
END:VEVENT
BEGIN:VEVENT
DTSTART;TZID=America/Los_Angeles:20250606T100000
DTEND;TZID=America/Los_Angeles:20250606T110000
DTSTAMP:20260422T090415
CREATED:20230113T205450Z
LAST-MODIFIED:20230113T205556Z
UID:10019734-1749204000-1749207600@tillamookchamber.org
SUMMARY:Tillamook Main Library Storytime: Mother Goose on the Loose
DESCRIPTION:Mother Goose on the Loose (MGOL) on Fri @ 10am; developmentally appropriate for birth to 24mos; rhythm\, rhymes\, instruments\, scarves and puppets! There is no expectation that your children will sit still or be quiet. It’s not developmentally appropriate to ask them to.
URL:https://tillamookchamber.org/event/tillamook-main-library-storytime-mother-goose-on-the-loose/2025-06-06/
LOCATION:Tillamook Main Library\, Tillamook\, 1716 3rd St\, Tillamook\, OR\, 97141\, United States
CATEGORIES:Education,Family Fun
ATTACH;FMTTYPE=image/png:https://tillamookchamber.org/wp-content/uploads/2023/01/TCL-transparent-logo-1.png
ORGANIZER;CN="Melanie Hetrick":MAILTO:mhetrick@co.tillamook.or.us
END:VEVENT
BEGIN:VEVENT
DTSTART;TZID=America/Los_Angeles:20250607T090000
DTEND;TZID=America/Los_Angeles:20250607T170000
DTSTAMP:20260422T090415
CREATED:20250514T223650Z
LAST-MODIFIED:20250514T223650Z
UID:10021397-1749286800-1749315600@tillamookchamber.org
SUMMARY:The Nehalem Bay Crab Derby 2025
DESCRIPTION:Mark your calendars for Saturday\, June 7th for a chance to win $1\,000! \nScheduled to coincide with Free Fishing Weekend\, the Crab Derby is a fundraising event for two local charities – the MuddNick Foundation of Manzanita\, OR –  and North Tillamook County and Animal Haven By The Sea Rescue in Nehalem\, OR. Hosted by Kelly’s Brighton Marina\, this unique event is one of the favorite summer activites for outdoor enthusiasts and families alike! \nKelly’s Brighton Marina will release 26 tagged crabs on Saturday at 9am and a $10 per ticket entry fee is required to participate in the Crab Derby\, with proceeds from ticket sales going to the sponsored charities. All captured tagged crabs must be returned to the marina by 5:00pm and a drawing will be held to determine the top prize of $1\,000 cash. Games\, crafts\, many great vendors\, raffles\, and a wide array of prizes round out an exciting event. \nThe Band “Uncle Jerry” will perform live that evening at 6:00pm to end our amazing day! \nA huge shout out to the many Oregon businesses who have donated for our raffles (all proceeds will go to the above charities): \nBeach Crafters \nCaptain Kid Amusement Park \nColumbia Distributing \nFort George Brewery \nGrumpy’s Cafe \nMo’s Restaurant\, Cannon Beach \nMt Hood Meadows Ski Resort \nThe Olive Branch \nOregon Coast Surf Adventures \nReCurrent\, Tillamook \nRiverbend Players\, Nehalem \nSeaside Aquarium \nSeaside Surf Shop \nTillamook Creamery \nTillamook Ice \nWanda’s Cafe & Bakery \nWings and Waves Waterpark\, McMinnville
URL:https://tillamookchamber.org/event/the-nehalem-bay-crab-derby-2025/
LOCATION:Kelly’s Brighton Marina\, 29200 Hwy 101 N\, OR\, United States
CATEGORIES:Community,Family Fun,Outdoor
ATTACH;FMTTYPE=image/png:https://tillamookchamber.org/wp-content/uploads/2025/05/2025-Crab-Derby-Poster.png
END:VEVENT
BEGIN:VEVENT
DTSTART;TZID=America/Los_Angeles:20250610T100000
DTEND;TZID=America/Los_Angeles:20250610T110000
DTSTAMP:20260422T090415
CREATED:20230113T201225Z
LAST-MODIFIED:20230124T214552Z
UID:10020055-1749549600-1749553200@tillamookchamber.org
SUMMARY:Tillamook Main Library Storytime: Terrific Twos
DESCRIPTION:Terrific Twos (TT) on Tues @ 10am; developmentally appropriate for 24-36mos; bubbles\, balls\, parachute & instruments! There is no expectation that your children will sit still or be quiet. It’s not developmentally appropriate to ask them to. \nA couple of things about the children’s room that might set you at ease: \n\nThere is no expectation that it will be a quiet zone; kids are kids and they are allowed to act themselves in the children’s room.\nOnly 2 hard and fast rules: No Running & No Screaming.\nIf your child needs a snack\, feed them!
URL:https://tillamookchamber.org/event/tillamook-main-library-storytime-terrific-twos/2025-06-10/
LOCATION:Tillamook Main Library\, Tillamook\, 1716 3rd St\, Tillamook\, OR\, 97141\, United States
CATEGORIES:Education,Family Fun
ATTACH;FMTTYPE=image/jpeg:https://tillamookchamber.org/wp-content/uploads/2023/01/TCL-white.jpg
ORGANIZER;CN="Melanie Hetrick":MAILTO:mhetrick@co.tillamook.or.us
END:VEVENT
BEGIN:VEVENT
DTSTART;TZID=America/Los_Angeles:20250611T100000
DTEND;TZID=America/Los_Angeles:20250611T110000
DTSTAMP:20260422T090415
CREATED:20230113T205344Z
LAST-MODIFIED:20230113T205344Z
UID:10019414-1749636000-1749639600@tillamookchamber.org
SUMMARY:Tillamook Main Library Storytime: Preschool
DESCRIPTION:Preschool storytime (PS) on Wed @ 10; developmentally appropriate for 3-5 yos; music\, stories\, interactive play and lots of laughs! In this class little begin to learn about a leader at the front of the room\, how to hold their wiggles\, listening and sitting still. When a child is transitioning from TT to PS my expectation is that they will sit for 5-10 minutes and then they might go play. I do not force them to sit still if they are not ready to. \nA couple of things about the children’s room that might set you at ease: \n\nThere is no expectation that it will be a quiet zone; kids are kids and they are allowed to act like themselves in the children’s room.\nOnly 2 hard and fast rules: No Running & No Screaming.\nIf your child needs a snack\, feed them!
URL:https://tillamookchamber.org/event/tillamook-main-library-storytime-preschool/2025-06-11/
LOCATION:Tillamook Main Library\, Tillamook\, 1716 3rd St\, Tillamook\, OR\, 97141\, United States
CATEGORIES:Education,Family Fun
ATTACH;FMTTYPE=image/png:https://tillamookchamber.org/wp-content/uploads/2023/01/TCL-transparent-logo.png
ORGANIZER;CN="Melanie Hetrick":MAILTO:mhetrick@co.tillamook.or.us
END:VEVENT
BEGIN:VEVENT
DTSTART;TZID=America/Los_Angeles:20250612T100000
DTEND;TZID=America/Los_Angeles:20250612T110000
DTSTAMP:20260422T090415
CREATED:20241226T211146Z
LAST-MODIFIED:20241226T211146Z
UID:10017482-1749722400-1749726000@tillamookchamber.org
SUMMARY:Family Storytime at Bay City Library
DESCRIPTION:Bring the whole family down to the Bay City Library for a fun storytime and activity every Thursday at 10am!
URL:https://tillamookchamber.org/event/family-storytime-at-bay-city-library-2/2025-06-12/
LOCATION:Bay City Library\, 5525 B St\, Bay City\, OR
CATEGORIES:Community,Family Fun
ATTACH;FMTTYPE=image/png:https://tillamookchamber.org/wp-content/uploads/2024/12/Bay-City-Storytime1.png
END:VEVENT
BEGIN:VEVENT
DTSTART;TZID=America/Los_Angeles:20250612T120000
DTEND;TZID=America/Los_Angeles:20250612T130000
DTSTAMP:20260422T090415
CREATED:20250604T171634Z
LAST-MODIFIED:20250604T171634Z
UID:10022083-1749729600-1749733200@tillamookchamber.org
SUMMARY:Mz. Pearl's Circuspalooza at Bay City Library
DESCRIPTION:Mz. Pearl will astound and surprise you!
URL:https://tillamookchamber.org/event/mz-pearls-circuspalooza-at-bay-city-library/
LOCATION:Bay City Library\, 5525 B St\, Bay City\, OR
CATEGORIES:Community,Family Fun
END:VEVENT
BEGIN:VEVENT
DTSTART;TZID=America/Los_Angeles:20250612T140000
DTEND;TZID=America/Los_Angeles:20250612T150000
DTSTAMP:20260422T090415
CREATED:20250604T170613Z
LAST-MODIFIED:20250604T170613Z
UID:10022092-1749736800-1749740400@tillamookchamber.org
SUMMARY:Vikki Gasko Green at Manzanita Library
DESCRIPTION:Vikki will delight with puppets\, ventriloquism\, and more in English and Spanish
URL:https://tillamookchamber.org/event/vikki-gasko-green-at-manzanita-library/
LOCATION:Manzanita Library\, 571 Laneda Ave Manzanita OR
CATEGORIES:Community,Education,Family Fun
END:VEVENT
BEGIN:VEVENT
DTSTART;TZID=America/Los_Angeles:20250612T200000
DTEND;TZID=America/Los_Angeles:20250612T200000
DTSTAMP:20260422T090415
CREATED:20250604T171528Z
LAST-MODIFIED:20250604T171554Z
UID:10022085-1749758400-1749758400@tillamookchamber.org
SUMMARY:Mz. Pearl's Circuspalooza at Tillamook Library
DESCRIPTION:Mz. Pearl will astound and surprise you!
URL:https://tillamookchamber.org/event/mz-pearls-circuspalooza-at-tillamook-library/
LOCATION:Tillamook County Library\, 1716 3rd Street Tillamook Oregon 97141
CATEGORIES:Community,Family Fun
END:VEVENT
BEGIN:VEVENT
DTSTART;TZID=America/Los_Angeles:20250613T100000
DTEND;TZID=America/Los_Angeles:20250613T110000
DTSTAMP:20260422T090415
CREATED:20230113T205450Z
LAST-MODIFIED:20230113T205556Z
UID:10019735-1749808800-1749812400@tillamookchamber.org
SUMMARY:Tillamook Main Library Storytime: Mother Goose on the Loose
DESCRIPTION:Mother Goose on the Loose (MGOL) on Fri @ 10am; developmentally appropriate for birth to 24mos; rhythm\, rhymes\, instruments\, scarves and puppets! There is no expectation that your children will sit still or be quiet. It’s not developmentally appropriate to ask them to.
URL:https://tillamookchamber.org/event/tillamook-main-library-storytime-mother-goose-on-the-loose/2025-06-13/
LOCATION:Tillamook Main Library\, Tillamook\, 1716 3rd St\, Tillamook\, OR\, 97141\, United States
CATEGORIES:Education,Family Fun
ATTACH;FMTTYPE=image/png:https://tillamookchamber.org/wp-content/uploads/2023/01/TCL-transparent-logo-1.png
ORGANIZER;CN="Melanie Hetrick":MAILTO:mhetrick@co.tillamook.or.us
END:VEVENT
BEGIN:VEVENT
DTSTART;TZID=America/Los_Angeles:20250614T080000
DTEND;TZID=America/Los_Angeles:20250614T170000
DTSTAMP:20260422T090415
CREATED:20250604T170812Z
LAST-MODIFIED:20250604T222933Z
UID:10022089-1749888000-1749920400@tillamookchamber.org
SUMMARY:Crafternoon at Tillamook Library
DESCRIPTION:Join us for a fun time decorating bird houses and tie-dying tiles! \n1:00 pm to 2:00 pm \n 
URL:https://tillamookchamber.org/event/crafternoon-at-tillamook-library-2/
LOCATION:Tillamook County Library\, 1716 3rd Street Tillamook Oregon 97141
CATEGORIES:Community,Family Fun
END:VEVENT
BEGIN:VEVENT
DTSTART;TZID=America/Los_Angeles:20250614T130000
DTEND;TZID=America/Los_Angeles:20250614T140000
DTSTAMP:20260422T090415
CREATED:20250604T170812Z
LAST-MODIFIED:20250604T222933Z
UID:10022090-1749906000-1749909600@tillamookchamber.org
SUMMARY:Crafternoon at Tillamook Library
DESCRIPTION:Join us for a fun time decorating bird houses and tie-dying tiles! \n1:00 pm to 2:00 pm \n 
URL:https://tillamookchamber.org/event/crafternoon-at-tillamook-library-2/
LOCATION:Tillamook County Library\, 1716 3rd Street Tillamook Oregon 97141
CATEGORIES:Community,Family Fun
END:VEVENT
BEGIN:VEVENT
DTSTART;TZID=America/Los_Angeles:20250614T130000
DTEND;TZID=America/Los_Angeles:20250614T150000
DTSTAMP:20260422T090415
CREATED:20250331T182458Z
LAST-MODIFIED:20250331T182458Z
UID:10019336-1749906000-1749913200@tillamookchamber.org
SUMMARY:North County Recreation District (NCRD) Nehalem Legacy Pool Family Swim - FREE
DESCRIPTION:Join us at NCRD to celebrate our nearly 100 year old pool … 2nd Saturday last swims in April\, May & June.  As we prepare to open the new Aquatics Center\, we are inviting EVERYONE that learned to swim at the Nehalem Pool to come for one last swim with your family. How many generations of your family learned to swim in Nehalem?? Second Saturday Swims – April 12\, May 10\, June 14 from 1 to 3 pm FREE – LIMITED SPACES!! RSVP to pool@ncrdnehalem.org – Come Celebrate the Old Pool!
URL:https://tillamookchamber.org/event/north-county-recreation-district-ncrd-nehalem-legacy-pool-family-swim-free/2025-06-14/
LOCATION:North County Recreation District\, 36155 9th St\, Nehalem\, OR\, 97131\, United States
CATEGORIES:Community,Family Fun
ATTACH;FMTTYPE=image/jpeg:https://tillamookchamber.org/wp-content/uploads/2025/03/NCRD-Pool-SatSwims25-4-page-001-1-scaled.jpg
END:VEVENT
BEGIN:VEVENT
DTSTART;TZID=America/Los_Angeles:20250615T100000
DTEND;TZID=America/Los_Angeles:20250615T160000
DTSTAMP:20260422T090415
CREATED:20250312T224125Z
LAST-MODIFIED:20250312T224125Z
UID:10019021-1749981600-1750003200@tillamookchamber.org
SUMMARY:Locals Free Day @ Hangar B
DESCRIPTION:Every month on the 3rd Sunday of the month\, we offer Tillamook County residents a FREE Day! \nFlash your ID or library card as proof and enjoy the museum!
URL:https://tillamookchamber.org/event/locals-free-day-hangar-b/2025-06-15/
LOCATION:Tillamook Air Museum\, 6030 Hangar Rd\, OR\, United States
CATEGORIES:Community,Education,Family Fun
ATTACH;FMTTYPE=image/png:https://tillamookchamber.org/wp-content/uploads/2025/03/TILLAMOOK-CO-LOCALS-DAY.png
END:VEVENT
BEGIN:VEVENT
DTSTART;TZID=America/Los_Angeles:20250617T100000
DTEND;TZID=America/Los_Angeles:20250617T110000
DTSTAMP:20260422T090415
CREATED:20230113T201225Z
LAST-MODIFIED:20230124T214552Z
UID:10020056-1750154400-1750158000@tillamookchamber.org
SUMMARY:Tillamook Main Library Storytime: Terrific Twos
DESCRIPTION:Terrific Twos (TT) on Tues @ 10am; developmentally appropriate for 24-36mos; bubbles\, balls\, parachute & instruments! There is no expectation that your children will sit still or be quiet. It’s not developmentally appropriate to ask them to. \nA couple of things about the children’s room that might set you at ease: \n\nThere is no expectation that it will be a quiet zone; kids are kids and they are allowed to act themselves in the children’s room.\nOnly 2 hard and fast rules: No Running & No Screaming.\nIf your child needs a snack\, feed them!
URL:https://tillamookchamber.org/event/tillamook-main-library-storytime-terrific-twos/2025-06-17/
LOCATION:Tillamook Main Library\, Tillamook\, 1716 3rd St\, Tillamook\, OR\, 97141\, United States
CATEGORIES:Education,Family Fun
ATTACH;FMTTYPE=image/jpeg:https://tillamookchamber.org/wp-content/uploads/2023/01/TCL-white.jpg
ORGANIZER;CN="Melanie Hetrick":MAILTO:mhetrick@co.tillamook.or.us
END:VEVENT
BEGIN:VEVENT
DTSTART;TZID=America/Los_Angeles:20250617T140000
DTEND;TZID=America/Los_Angeles:20250617T150000
DTSTAMP:20260422T090415
CREATED:20250604T170448Z
LAST-MODIFIED:20250604T170448Z
UID:10022093-1750168800-1750172400@tillamookchamber.org
SUMMARY:Vikki Gasko Green at Tillamook Library
DESCRIPTION:Vikki will delight with puppets\, ventriloquism\, and more in English and Spanish!
URL:https://tillamookchamber.org/event/vikki-gasko-green-at-tillamook-library/
LOCATION:Tillamook County Library\, 1716 3rd Street Tillamook Oregon 97141
CATEGORIES:Community,Education,Family Fun
END:VEVENT
BEGIN:VEVENT
DTSTART;TZID=America/Los_Angeles:20250617T180000
DTEND;TZID=America/Los_Angeles:20250617T190000
DTSTAMP:20260422T090415
CREATED:20250604T170915Z
LAST-MODIFIED:20250604T170915Z
UID:10022087-1750183200-1750186800@tillamookchamber.org
SUMMARY:Teen IRL Pokemon at Tillamook Library
DESCRIPTION:Teens can find pokémon and engage in battle in the library!
URL:https://tillamookchamber.org/event/teen-irl-pokemon-at-tillamook-library/
LOCATION:Tillamook County Library\, 1716 3rd Street Tillamook Oregon 97141
CATEGORIES:Community,Family Fun
END:VEVENT
BEGIN:VEVENT
DTSTART;TZID=America/Los_Angeles:20250618T100000
DTEND;TZID=America/Los_Angeles:20250618T110000
DTSTAMP:20260422T090415
CREATED:20230113T205344Z
LAST-MODIFIED:20230113T205344Z
UID:10019415-1750240800-1750244400@tillamookchamber.org
SUMMARY:Tillamook Main Library Storytime: Preschool
DESCRIPTION:Preschool storytime (PS) on Wed @ 10; developmentally appropriate for 3-5 yos; music\, stories\, interactive play and lots of laughs! In this class little begin to learn about a leader at the front of the room\, how to hold their wiggles\, listening and sitting still. When a child is transitioning from TT to PS my expectation is that they will sit for 5-10 minutes and then they might go play. I do not force them to sit still if they are not ready to. \nA couple of things about the children’s room that might set you at ease: \n\nThere is no expectation that it will be a quiet zone; kids are kids and they are allowed to act like themselves in the children’s room.\nOnly 2 hard and fast rules: No Running & No Screaming.\nIf your child needs a snack\, feed them!
URL:https://tillamookchamber.org/event/tillamook-main-library-storytime-preschool/2025-06-18/
LOCATION:Tillamook Main Library\, Tillamook\, 1716 3rd St\, Tillamook\, OR\, 97141\, United States
CATEGORIES:Education,Family Fun
ATTACH;FMTTYPE=image/png:https://tillamookchamber.org/wp-content/uploads/2023/01/TCL-transparent-logo.png
ORGANIZER;CN="Melanie Hetrick":MAILTO:mhetrick@co.tillamook.or.us
END:VEVENT
BEGIN:VEVENT
DTSTART;TZID=America/Los_Angeles:20250618T140000
DTEND;TZID=America/Los_Angeles:20250618T150000
DTSTAMP:20260422T090415
CREATED:20250604T175019Z
LAST-MODIFIED:20250604T175019Z
UID:10022076-1750255200-1750258800@tillamookchamber.org
SUMMARY:Hearts and Hands Drumming Playshop at Garibaldi Library
DESCRIPTION:Fun for kids and families! Brief introduction to interactive drumming followed by group drumming. Come make a happy noise!
URL:https://tillamookchamber.org/event/hearts-and-hands-drumming-playshop-at-garibaldi-library/
LOCATION:Garibaldi Library\, 107 6th St\, Garibaldi OR
CATEGORIES:Community,Family Fun
END:VEVENT
BEGIN:VEVENT
DTSTART;TZID=America/Los_Angeles:20250618T140000
DTEND;TZID=America/Los_Angeles:20250618T150000
DTSTAMP:20260422T090415
CREATED:20250623T165225Z
LAST-MODIFIED:20250623T165225Z
UID:10022280-1750255200-1750258800@tillamookchamber.org
SUMMARY:Summer Reading Program at Garibaldi Library
DESCRIPTION:
URL:https://tillamookchamber.org/event/summer-reading-program-at-garibaldi-library/2025-06-18/
CATEGORIES:Classes and Workshops,Community,Family Fun
ATTACH;FMTTYPE=image/png:https://tillamookchamber.org/wp-content/uploads/2025/06/Garibaldi-SRP-Schedule.png
END:VEVENT
BEGIN:VEVENT
DTSTART;TZID=America/Los_Angeles:20250619T100000
DTEND;TZID=America/Los_Angeles:20250619T110000
DTSTAMP:20260422T090415
CREATED:20241226T211146Z
LAST-MODIFIED:20241226T211146Z
UID:10017483-1750327200-1750330800@tillamookchamber.org
SUMMARY:Family Storytime at Bay City Library
DESCRIPTION:Bring the whole family down to the Bay City Library for a fun storytime and activity every Thursday at 10am!
URL:https://tillamookchamber.org/event/family-storytime-at-bay-city-library-2/2025-06-19/
LOCATION:Bay City Library\, 5525 B St\, Bay City\, OR
CATEGORIES:Community,Family Fun
ATTACH;FMTTYPE=image/png:https://tillamookchamber.org/wp-content/uploads/2024/12/Bay-City-Storytime1.png
END:VEVENT
BEGIN:VEVENT
DTSTART;TZID=America/Los_Angeles:20250620T100000
DTEND;TZID=America/Los_Angeles:20250620T110000
DTSTAMP:20260422T090415
CREATED:20230113T205450Z
LAST-MODIFIED:20230113T205556Z
UID:10019736-1750413600-1750417200@tillamookchamber.org
SUMMARY:Tillamook Main Library Storytime: Mother Goose on the Loose
DESCRIPTION:Mother Goose on the Loose (MGOL) on Fri @ 10am; developmentally appropriate for birth to 24mos; rhythm\, rhymes\, instruments\, scarves and puppets! There is no expectation that your children will sit still or be quiet. It’s not developmentally appropriate to ask them to.
URL:https://tillamookchamber.org/event/tillamook-main-library-storytime-mother-goose-on-the-loose/2025-06-20/
LOCATION:Tillamook Main Library\, Tillamook\, 1716 3rd St\, Tillamook\, OR\, 97141\, United States
CATEGORIES:Education,Family Fun
ATTACH;FMTTYPE=image/png:https://tillamookchamber.org/wp-content/uploads/2023/01/TCL-transparent-logo-1.png
ORGANIZER;CN="Melanie Hetrick":MAILTO:mhetrick@co.tillamook.or.us
END:VEVENT
BEGIN:VEVENT
DTSTART;TZID=America/Los_Angeles:20250620T150000
DTEND;TZID=America/Los_Angeles:20250620T160000
DTSTAMP:20260422T090415
CREATED:20250604T170655Z
LAST-MODIFIED:20250604T170655Z
UID:10022091-1750431600-1750435200@tillamookchamber.org
SUMMARY:Teen Nerd Nite Afternoon
DESCRIPTION:Nerd out about your interests!
URL:https://tillamookchamber.org/event/teen-nerd-nite-afternoon/
LOCATION:Tillamook County Library\, 1716 3rd Street Tillamook Oregon 97141
CATEGORIES:Community,Family Fun
END:VEVENT
BEGIN:VEVENT
DTSTART;TZID=America/Los_Angeles:20250620T153000
DTEND;TZID=America/Los_Angeles:20250620T170000
DTSTAMP:20260422T090415
CREATED:20250604T170337Z
LAST-MODIFIED:20250604T170337Z
UID:10022094-1750433400-1750438800@tillamookchamber.org
SUMMARY:Movie Night at Pacific City Library
DESCRIPTION:Watch the Wild Robot at Pacific City Library
URL:https://tillamookchamber.org/event/movie-night-at-pacific-city-library/
LOCATION:Pacific City Library\, 6200 Camp St Pacific City\, OR
CATEGORIES:Community,Family Fun
END:VEVENT
BEGIN:VEVENT
DTSTART;TZID=America/Los_Angeles:20250624T100000
DTEND;TZID=America/Los_Angeles:20250624T110000
DTSTAMP:20260422T090415
CREATED:20230113T201225Z
LAST-MODIFIED:20230124T214552Z
UID:10020057-1750759200-1750762800@tillamookchamber.org
SUMMARY:Tillamook Main Library Storytime: Terrific Twos
DESCRIPTION:Terrific Twos (TT) on Tues @ 10am; developmentally appropriate for 24-36mos; bubbles\, balls\, parachute & instruments! There is no expectation that your children will sit still or be quiet. It’s not developmentally appropriate to ask them to. \nA couple of things about the children’s room that might set you at ease: \n\nThere is no expectation that it will be a quiet zone; kids are kids and they are allowed to act themselves in the children’s room.\nOnly 2 hard and fast rules: No Running & No Screaming.\nIf your child needs a snack\, feed them!
URL:https://tillamookchamber.org/event/tillamook-main-library-storytime-terrific-twos/2025-06-24/
LOCATION:Tillamook Main Library\, Tillamook\, 1716 3rd St\, Tillamook\, OR\, 97141\, United States
CATEGORIES:Education,Family Fun
ATTACH;FMTTYPE=image/jpeg:https://tillamookchamber.org/wp-content/uploads/2023/01/TCL-white.jpg
ORGANIZER;CN="Melanie Hetrick":MAILTO:mhetrick@co.tillamook.or.us
END:VEVENT
BEGIN:VEVENT
DTSTART;TZID=America/Los_Angeles:20250624T100000
DTEND;TZID=America/Los_Angeles:20250624T110000
DTSTAMP:20260422T090416
CREATED:20250604T160158Z
LAST-MODIFIED:20250604T160158Z
UID:10022096-1750759200-1750762800@tillamookchamber.org
SUMMARY:Teen Origami with Yuki at Pacific City Library
DESCRIPTION:Learn how a mere piece of paper can be folded into infinite possibilities with master paper shaper Yuki!
URL:https://tillamookchamber.org/event/teen-origami-with-yuki-at-pacific-city-library/
LOCATION:Pacific City Library\, 6200 Camp St Pacific City\, OR
CATEGORIES:Community,Family Fun
END:VEVENT
BEGIN:VEVENT
DTSTART;TZID=America/Los_Angeles:20250624T110000
DTEND;TZID=America/Los_Angeles:20250624T120000
DTSTAMP:20260422T090416
CREATED:20250604T174941Z
LAST-MODIFIED:20250604T174941Z
UID:10022077-1750762800-1750766400@tillamookchamber.org
SUMMARY:Heart of CARTM at Manzanita Branch Library
DESCRIPTION:Join us for fun crafts and activities with recycled items!
URL:https://tillamookchamber.org/event/heart-of-cartm-at-manzanita-branch-library/
LOCATION:Manzanita Library\, 571 Laneda Ave Manzanita OR
CATEGORIES:Community,Family Fun
END:VEVENT
BEGIN:VEVENT
DTSTART;TZID=America/Los_Angeles:20250624T150000
DTEND;TZID=America/Los_Angeles:20250624T160000
DTSTAMP:20260422T090416
CREATED:20250604T170136Z
LAST-MODIFIED:20250604T170136Z
UID:10022095-1750777200-1750780800@tillamookchamber.org
SUMMARY:Teen Origami with Yuki at Tillamook Library
DESCRIPTION:Learn how a mere piece of paper can be folded into infinite possibilities with master paper shaper Yuki!
URL:https://tillamookchamber.org/event/teen-origami-with-yuki-at-tillamook-library/
LOCATION:Tillamook County Library\, 1716 3rd Street Tillamook Oregon 97141
CATEGORIES:Community,Family Fun
END:VEVENT
END:VCALENDAR