BEGIN:VCALENDAR
VERSION:2.0
PRODID:-//Tillamook Area Chamber of Commerce - ECPv6.15.20//NONSGML v1.0//EN
CALSCALE:GREGORIAN
METHOD:PUBLISH
X-ORIGINAL-URL:https://tillamookchamber.org
X-WR-CALDESC:Events for Tillamook Area Chamber of Commerce
REFRESH-INTERVAL;VALUE=DURATION:PT1H
X-Robots-Tag:noindex
X-PUBLISHED-TTL:PT1H
BEGIN:VTIMEZONE
TZID:America/Los_Angeles
BEGIN:DAYLIGHT
TZOFFSETFROM:-0800
TZOFFSETTO:-0700
TZNAME:PDT
DTSTART:20240310T100000
END:DAYLIGHT
BEGIN:STANDARD
TZOFFSETFROM:-0700
TZOFFSETTO:-0800
TZNAME:PST
DTSTART:20241103T090000
END:STANDARD
BEGIN:DAYLIGHT
TZOFFSETFROM:-0800
TZOFFSETTO:-0700
TZNAME:PDT
DTSTART:20250309T100000
END:DAYLIGHT
BEGIN:STANDARD
TZOFFSETFROM:-0700
TZOFFSETTO:-0800
TZNAME:PST
DTSTART:20251102T090000
END:STANDARD
BEGIN:DAYLIGHT
TZOFFSETFROM:-0800
TZOFFSETTO:-0700
TZNAME:PDT
DTSTART:20260308T100000
END:DAYLIGHT
BEGIN:STANDARD
TZOFFSETFROM:-0700
TZOFFSETTO:-0800
TZNAME:PST
DTSTART:20261101T090000
END:STANDARD
END:VTIMEZONE
BEGIN:VEVENT
DTSTART;TZID=America/Los_Angeles:20250304T100000
DTEND;TZID=America/Los_Angeles:20250304T110000
DTSTAMP:20260423T043843
CREATED:20230113T201225Z
LAST-MODIFIED:20230124T214552Z
UID:10020041-1741082400-1741086000@tillamookchamber.org
SUMMARY:Tillamook Main Library Storytime: Terrific Twos
DESCRIPTION:Terrific Twos (TT) on Tues @ 10am; developmentally appropriate for 24-36mos; bubbles\, balls\, parachute & instruments! There is no expectation that your children will sit still or be quiet. It’s not developmentally appropriate to ask them to. \nA couple of things about the children’s room that might set you at ease: \n\nThere is no expectation that it will be a quiet zone; kids are kids and they are allowed to act themselves in the children’s room.\nOnly 2 hard and fast rules: No Running & No Screaming.\nIf your child needs a snack\, feed them!
URL:https://tillamookchamber.org/event/tillamook-main-library-storytime-terrific-twos/2025-03-04/
LOCATION:Tillamook Main Library\, Tillamook\, 1716 3rd St\, Tillamook\, OR\, 97141\, United States
CATEGORIES:Education,Family Fun
ATTACH;FMTTYPE=image/jpeg:https://tillamookchamber.org/wp-content/uploads/2023/01/TCL-white.jpg
ORGANIZER;CN="Melanie Hetrick":MAILTO:mhetrick@co.tillamook.or.us
END:VEVENT
BEGIN:VEVENT
DTSTART;TZID=America/Los_Angeles:20250305T100000
DTEND;TZID=America/Los_Angeles:20250305T110000
DTSTAMP:20260423T043843
CREATED:20230113T205344Z
LAST-MODIFIED:20230113T205344Z
UID:10019400-1741168800-1741172400@tillamookchamber.org
SUMMARY:Tillamook Main Library Storytime: Preschool
DESCRIPTION:Preschool storytime (PS) on Wed @ 10; developmentally appropriate for 3-5 yos; music\, stories\, interactive play and lots of laughs! In this class little begin to learn about a leader at the front of the room\, how to hold their wiggles\, listening and sitting still. When a child is transitioning from TT to PS my expectation is that they will sit for 5-10 minutes and then they might go play. I do not force them to sit still if they are not ready to. \nA couple of things about the children’s room that might set you at ease: \n\nThere is no expectation that it will be a quiet zone; kids are kids and they are allowed to act like themselves in the children’s room.\nOnly 2 hard and fast rules: No Running & No Screaming.\nIf your child needs a snack\, feed them!
URL:https://tillamookchamber.org/event/tillamook-main-library-storytime-preschool/2025-03-05/
LOCATION:Tillamook Main Library\, Tillamook\, 1716 3rd St\, Tillamook\, OR\, 97141\, United States
CATEGORIES:Education,Family Fun
ATTACH;FMTTYPE=image/png:https://tillamookchamber.org/wp-content/uploads/2023/01/TCL-transparent-logo.png
ORGANIZER;CN="Melanie Hetrick":MAILTO:mhetrick@co.tillamook.or.us
END:VEVENT
BEGIN:VEVENT
DTSTART;TZID=America/Los_Angeles:20250305T180000
DTEND;TZID=America/Los_Angeles:20250305T200000
DTSTAMP:20260423T043843
CREATED:20250226T004917Z
LAST-MODIFIED:20250226T004917Z
UID:10018297-1741197600-1741204800@tillamookchamber.org
SUMMARY:March Movies at Main: Retro Science Fiction
DESCRIPTION:Join us at the library for movies at 6 pm! \n\n3/5 Forbidden Planet (1956)  \n\n\n3/19 The Day The Earth Stood Still (1951)  \n\n\n3/26 The Thing from another world (1951) 
URL:https://tillamookchamber.org/event/march-movies-at-main-retro-science-fiction/2025-03-05/
LOCATION:Tillamook County Library\, 1716 3rd Street Tillamook Oregon 97141
CATEGORIES:Community,Family Fun
END:VEVENT
BEGIN:VEVENT
DTSTART;TZID=America/Los_Angeles:20250306T100000
DTEND;TZID=America/Los_Angeles:20250306T110000
DTSTAMP:20260423T043843
CREATED:20241226T211146Z
LAST-MODIFIED:20241226T211146Z
UID:10017468-1741255200-1741258800@tillamookchamber.org
SUMMARY:Family Storytime at Bay City Library
DESCRIPTION:Bring the whole family down to the Bay City Library for a fun storytime and activity every Thursday at 10am!
URL:https://tillamookchamber.org/event/family-storytime-at-bay-city-library-2/2025-03-06/
LOCATION:Bay City Library\, 5525 B St\, Bay City\, OR
CATEGORIES:Community,Family Fun
ATTACH;FMTTYPE=image/png:https://tillamookchamber.org/wp-content/uploads/2024/12/Bay-City-Storytime1.png
END:VEVENT
BEGIN:VEVENT
DTSTART;TZID=America/Los_Angeles:20250307T100000
DTEND;TZID=America/Los_Angeles:20250307T110000
DTSTAMP:20260423T043843
CREATED:20230113T205450Z
LAST-MODIFIED:20230113T205556Z
UID:10019721-1741341600-1741345200@tillamookchamber.org
SUMMARY:Tillamook Main Library Storytime: Mother Goose on the Loose
DESCRIPTION:Mother Goose on the Loose (MGOL) on Fri @ 10am; developmentally appropriate for birth to 24mos; rhythm\, rhymes\, instruments\, scarves and puppets! There is no expectation that your children will sit still or be quiet. It’s not developmentally appropriate to ask them to.
URL:https://tillamookchamber.org/event/tillamook-main-library-storytime-mother-goose-on-the-loose/2025-03-07/
LOCATION:Tillamook Main Library\, Tillamook\, 1716 3rd St\, Tillamook\, OR\, 97141\, United States
CATEGORIES:Education,Family Fun
ATTACH;FMTTYPE=image/png:https://tillamookchamber.org/wp-content/uploads/2023/01/TCL-transparent-logo-1.png
ORGANIZER;CN="Melanie Hetrick":MAILTO:mhetrick@co.tillamook.or.us
END:VEVENT
BEGIN:VEVENT
DTSTART;TZID=America/Los_Angeles:20250308T100000
DTEND;TZID=America/Los_Angeles:20250308T180000
DTSTAMP:20260423T043843
CREATED:20250212T190623Z
LAST-MODIFIED:20250212T190623Z
UID:10017871-1741428000-1741456800@tillamookchamber.org
SUMMARY:38th Annual Garibaldi Crab Races
DESCRIPTION:Garibaldi Crab Races are a family friendly event racing Dungeness Crab for prizes and “Bragging Rights” at The Old Mill RV and Event Center in Garibaldi\, Oregon. \nThe goal is to raise funds for the Lions Club sight & Hearing and other charities. Saturday all the Championship Races will \ntake place and Sunday the races will compete for Charter Fishing Trips\, Bicycles\, Limo Tour\, Wind Spinner and other great prizes.
URL:https://tillamookchamber.org/event/38th-annual-garibaldi-crab-races/2025-03-08/
LOCATION:OR
CATEGORIES:Community,Family Fun
END:VEVENT
BEGIN:VEVENT
DTSTART;TZID=America/Los_Angeles:20250308T100000
DTEND;TZID=America/Los_Angeles:20250308T180000
DTSTAMP:20260423T043843
CREATED:20250218T180354Z
LAST-MODIFIED:20250218T180354Z
UID:10017873-1741428000-1741456800@tillamookchamber.org
SUMMARY:38th Annual Garibaldi Crab Races
DESCRIPTION:Racing Local Dungeness Crab to raise funds for Garibaldi Lions Club Sight & Hearing and other charities. Competition to \nspur your racer over the finish line for great prizes (Charter trips\, bicycles\, wind spinner\, limo services\, and more) and to possibly be named \nthe 2025 Grand Champion! Saturday the championship races occur and Sunday the large prizes are won!
URL:https://tillamookchamber.org/event/38th-annual-garibaldi-crab-races-2/2025-03-08/
LOCATION:Old Mill RV Event Center\, 210 South 3rd Street\, GARIBALDI\, OR\, 97118\, United States
CATEGORIES:Community,Family Fun
ATTACH;FMTTYPE=image/png:https://tillamookchamber.org/wp-content/uploads/2025/02/Crab-Image-3.png
END:VEVENT
BEGIN:VEVENT
DTSTART;TZID=America/Los_Angeles:20250308T173000
DTEND;TZID=America/Los_Angeles:20250308T213000
DTSTAMP:20260423T043843
CREATED:20250120T230618Z
LAST-MODIFIED:20250120T230618Z
UID:10017774-1741455000-1741469400@tillamookchamber.org
SUMMARY:Bulls & Broncs
DESCRIPTION:Hold onto your hats\, folks! We’re wrangling the wild broncs and bulls back for a coastal bash like no other! Get ready for a rip-roaring good time featuring tasty grub\, fun merch\, and giveaways! And the best part? You’ll have a front-row seat to all the action at the Pavilion Indoor Arena—where every seat feels like VIP!\n\nGet your tickets today! https://aftontickets.com/bullsandbroncs\n*all sales are final and non-refundable*
URL:https://tillamookchamber.org/event/bulls-broncs-2/
LOCATION:Tillamook County Fairgrounds\, 4603 3rd St\, Tillamook\, OR\, 97141\, United States
CATEGORIES:Community,Family Fun
ATTACH;FMTTYPE=image/jpeg:https://tillamookchamber.org/wp-content/uploads/2025/01/BullsBroncs-logo.jpg
END:VEVENT
BEGIN:VEVENT
DTSTART;TZID=America/Los_Angeles:20250308T173000
DTEND;TZID=America/Los_Angeles:20250308T220000
DTSTAMP:20260423T043843
CREATED:20250212T190520Z
LAST-MODIFIED:20250212T190520Z
UID:10017870-1741455000-1741471200@tillamookchamber.org
SUMMARY:Bulls n Broncs
DESCRIPTION:Hold onto your hats\, folks! We’re wrangling the wild broncs and bulls back for a coastal bash like no other! Get ready for a rip-roaring good time featuring tasty grub\, fun merch\, and giveaways! Buy your tickets online before they are sold out.
URL:https://tillamookchamber.org/event/bulls-n-broncs-2/
LOCATION:Tillamook County Fairgrounds\, 4603 3rd St\, Tillamook\, OR\, 97141\, United States
CATEGORIES:Community,Family Fun
END:VEVENT
BEGIN:VEVENT
DTSTART;TZID=America/Los_Angeles:20250309T103000
DTEND;TZID=America/Los_Angeles:20250309T140000
DTSTAMP:20260423T043843
CREATED:20250212T190623Z
LAST-MODIFIED:20250212T190623Z
UID:10017872-1741516200-1741528800@tillamookchamber.org
SUMMARY:38th Annual Garibaldi Crab Races
DESCRIPTION:Garibaldi Crab Races are a family friendly event racing Dungeness Crab for prizes and “Bragging Rights” at The Old Mill RV and Event Center in Garibaldi\, Oregon. \nThe goal is to raise funds for the Lions Club sight & Hearing and other charities. Saturday all the Championship Races will \ntake place and Sunday the races will compete for Charter Fishing Trips\, Bicycles\, Limo Tour\, Wind Spinner and other great prizes.
URL:https://tillamookchamber.org/event/38th-annual-garibaldi-crab-races/2025-03-09/
LOCATION:OR
CATEGORIES:Community,Family Fun
END:VEVENT
BEGIN:VEVENT
DTSTART;TZID=America/Los_Angeles:20250309T103000
DTEND;TZID=America/Los_Angeles:20250311T140000
DTSTAMP:20260423T043843
CREATED:20250218T180354Z
LAST-MODIFIED:20250218T180354Z
UID:10017874-1741516200-1741701600@tillamookchamber.org
SUMMARY:38th Annual Garibaldi Crab Races
DESCRIPTION:Racing Local Dungeness Crab to raise funds for Garibaldi Lions Club Sight & Hearing and other charities. Competition to \nspur your racer over the finish line for great prizes (Charter trips\, bicycles\, wind spinner\, limo services\, and more) and to possibly be named \nthe 2025 Grand Champion! Saturday the championship races occur and Sunday the large prizes are won!
URL:https://tillamookchamber.org/event/38th-annual-garibaldi-crab-races-2/2025-03-09/
LOCATION:Old Mill RV Event Center\, 210 South 3rd Street\, GARIBALDI\, OR\, 97118\, United States
CATEGORIES:Community,Family Fun
ATTACH;FMTTYPE=image/png:https://tillamookchamber.org/wp-content/uploads/2025/02/Crab-Image-3.png
END:VEVENT
BEGIN:VEVENT
DTSTART;TZID=America/Los_Angeles:20250310T100000
DTEND;TZID=America/Los_Angeles:20250310T110000
DTSTAMP:20260423T043843
CREATED:20250305T193534Z
LAST-MODIFIED:20250305T193534Z
UID:10018702-1741600800-1741604400@tillamookchamber.org
SUMMARY:Children's Music and Story Hour with North Oregon Coast Symphony
DESCRIPTION:Listen to and participate in a musical story with skilled musicians at the Manzanita branch library
URL:https://tillamookchamber.org/event/childrens-music-and-story-hour-with-north-oregon-coast-symphony/
LOCATION:Manzanita Library\, 571 Laneda Ave Manzanita OR
CATEGORIES:Community,Family Fun
ATTACH;FMTTYPE=image/png:https://tillamookchamber.org/wp-content/uploads/2025/03/Music-Storytime-031025-TZ.png
END:VEVENT
BEGIN:VEVENT
DTSTART;TZID=America/Los_Angeles:20250311T100000
DTEND;TZID=America/Los_Angeles:20250311T110000
DTSTAMP:20260423T043843
CREATED:20230113T201225Z
LAST-MODIFIED:20230124T214552Z
UID:10020042-1741687200-1741690800@tillamookchamber.org
SUMMARY:Tillamook Main Library Storytime: Terrific Twos
DESCRIPTION:Terrific Twos (TT) on Tues @ 10am; developmentally appropriate for 24-36mos; bubbles\, balls\, parachute & instruments! There is no expectation that your children will sit still or be quiet. It’s not developmentally appropriate to ask them to. \nA couple of things about the children’s room that might set you at ease: \n\nThere is no expectation that it will be a quiet zone; kids are kids and they are allowed to act themselves in the children’s room.\nOnly 2 hard and fast rules: No Running & No Screaming.\nIf your child needs a snack\, feed them!
URL:https://tillamookchamber.org/event/tillamook-main-library-storytime-terrific-twos/2025-03-11/
LOCATION:Tillamook Main Library\, Tillamook\, 1716 3rd St\, Tillamook\, OR\, 97141\, United States
CATEGORIES:Education,Family Fun
ATTACH;FMTTYPE=image/jpeg:https://tillamookchamber.org/wp-content/uploads/2023/01/TCL-white.jpg
ORGANIZER;CN="Melanie Hetrick":MAILTO:mhetrick@co.tillamook.or.us
END:VEVENT
BEGIN:VEVENT
DTSTART;TZID=America/Los_Angeles:20250311T160000
DTEND;TZID=America/Los_Angeles:20250311T170000
DTSTAMP:20260423T043843
CREATED:20250305T193632Z
LAST-MODIFIED:20250305T193632Z
UID:10018703-1741708800-1741712400@tillamookchamber.org
SUMMARY:Teen Blindfolded Painting at Tillamook Library
DESCRIPTION:On Tuesday\, March 11th at 4pm teens will put on blindfolds and create works of art! Sure to be a fun and creative time.
URL:https://tillamookchamber.org/event/teen-blindfolded-painting-at-tillamook-library/
LOCATION:Tillamook County Library\, 1716 3rd Street Tillamook Oregon 97141
CATEGORIES:Community,Family Fun
ATTACH;FMTTYPE=image/png:https://tillamookchamber.org/wp-content/uploads/2025/03/Blindfolded-painting12.png
END:VEVENT
BEGIN:VEVENT
DTSTART;TZID=America/Los_Angeles:20250311T170000
DTEND;TZID=America/Los_Angeles:20250311T190000
DTSTAMP:20260423T043843
CREATED:20250305T193823Z
LAST-MODIFIED:20250305T193823Z
UID:10018704-1741712400-1741719600@tillamookchamber.org
SUMMARY:Bilingual Family Movie Night/ Películas Bilingües para la Familia
DESCRIPTION:Bilingual Family Movie Night/ Películas Bilingües para la Familia  Movies for all ages/families in English and Spanish: Spanish audio and English subtitles  \nPelículas para todas las edades con audio en español y subtítulos en inglés. 
URL:https://tillamookchamber.org/event/bilingual-family-movie-night-peliculas-bilingues-para-la-familia/
LOCATION:Tillamook County Library\, 1716 3rd Street Tillamook Oregon 97141
CATEGORIES:Family Fun
ATTACH;FMTTYPE=image/png:https://tillamookchamber.org/wp-content/uploads/2025/03/Bilingual-Spiderverse-031125-TM-eng1.png
END:VEVENT
BEGIN:VEVENT
DTSTART;TZID=America/Los_Angeles:20250312T100000
DTEND;TZID=America/Los_Angeles:20250312T110000
DTSTAMP:20260423T043843
CREATED:20230113T205344Z
LAST-MODIFIED:20230113T205344Z
UID:10019401-1741773600-1741777200@tillamookchamber.org
SUMMARY:Tillamook Main Library Storytime: Preschool
DESCRIPTION:Preschool storytime (PS) on Wed @ 10; developmentally appropriate for 3-5 yos; music\, stories\, interactive play and lots of laughs! In this class little begin to learn about a leader at the front of the room\, how to hold their wiggles\, listening and sitting still. When a child is transitioning from TT to PS my expectation is that they will sit for 5-10 minutes and then they might go play. I do not force them to sit still if they are not ready to. \nA couple of things about the children’s room that might set you at ease: \n\nThere is no expectation that it will be a quiet zone; kids are kids and they are allowed to act like themselves in the children’s room.\nOnly 2 hard and fast rules: No Running & No Screaming.\nIf your child needs a snack\, feed them!
URL:https://tillamookchamber.org/event/tillamook-main-library-storytime-preschool/2025-03-12/
LOCATION:Tillamook Main Library\, Tillamook\, 1716 3rd St\, Tillamook\, OR\, 97141\, United States
CATEGORIES:Education,Family Fun
ATTACH;FMTTYPE=image/png:https://tillamookchamber.org/wp-content/uploads/2023/01/TCL-transparent-logo.png
ORGANIZER;CN="Melanie Hetrick":MAILTO:mhetrick@co.tillamook.or.us
END:VEVENT
BEGIN:VEVENT
DTSTART;TZID=America/Los_Angeles:20250312T110000
DTEND;TZID=America/Los_Angeles:20250312T120000
DTSTAMP:20260423T043843
CREATED:20241226T211242Z
LAST-MODIFIED:20241226T211242Z
UID:10017723-1741777200-1741780800@tillamookchamber.org
SUMMARY:Family Storytime at Rockaway Beach Library
DESCRIPTION:Every 2nd and 4th Wednesday at 11 am come on in for an all ages storytime and craft at the Rockaway Branch Library.
URL:https://tillamookchamber.org/event/family-storytime-at-rockaway-beach-library/2025-03-12/
LOCATION:Rockaway Beach Library\, 120 N Coral St\, Rockaway Beach\, OR 97136
CATEGORIES:Community,Family Fun
ATTACH;FMTTYPE=image/png:https://tillamookchamber.org/wp-content/uploads/2024/12/Rockaway-Storytime1.png
END:VEVENT
BEGIN:VEVENT
DTSTART;TZID=America/Los_Angeles:20250312T153000
DTEND;TZID=America/Los_Angeles:20250312T163000
DTSTAMP:20260423T043843
CREATED:20250306T185203Z
LAST-MODIFIED:20250306T185203Z
UID:10018989-1741793400-1741797000@tillamookchamber.org
SUMMARY:Storytime at Pacific City Library
DESCRIPTION:Storytime at the South Tillamook County Library in Pacific City! \nDavid hosts Storytime on the 2nd and 4th Wednesdays of each month at 3:30pm. \nThese events are open to all ages! \nWe’ll read\, sing\, and move about! \nWe look forward to seeing you!
URL:https://tillamookchamber.org/event/storytime-at-pacific-city-library-2/2025-03-12/
LOCATION:Pacific City Library\, 6200 Camp St Pacific City\, OR
CATEGORIES:Community,Family Fun
ATTACH;FMTTYPE=image/jpeg:https://tillamookchamber.org/wp-content/uploads/2025/03/pc_storytimes_2023.jpg
END:VEVENT
BEGIN:VEVENT
DTSTART;TZID=America/Los_Angeles:20250313T100000
DTEND;TZID=America/Los_Angeles:20250313T110000
DTSTAMP:20260423T043843
CREATED:20241226T211146Z
LAST-MODIFIED:20241226T211146Z
UID:10017469-1741860000-1741863600@tillamookchamber.org
SUMMARY:Family Storytime at Bay City Library
DESCRIPTION:Bring the whole family down to the Bay City Library for a fun storytime and activity every Thursday at 10am!
URL:https://tillamookchamber.org/event/family-storytime-at-bay-city-library-2/2025-03-13/
LOCATION:Bay City Library\, 5525 B St\, Bay City\, OR
CATEGORIES:Community,Family Fun
ATTACH;FMTTYPE=image/png:https://tillamookchamber.org/wp-content/uploads/2024/12/Bay-City-Storytime1.png
END:VEVENT
BEGIN:VEVENT
DTSTART;TZID=America/Los_Angeles:20250314T100000
DTEND;TZID=America/Los_Angeles:20250314T110000
DTSTAMP:20260423T043843
CREATED:20230113T205450Z
LAST-MODIFIED:20230113T205556Z
UID:10019722-1741946400-1741950000@tillamookchamber.org
SUMMARY:Tillamook Main Library Storytime: Mother Goose on the Loose
DESCRIPTION:Mother Goose on the Loose (MGOL) on Fri @ 10am; developmentally appropriate for birth to 24mos; rhythm\, rhymes\, instruments\, scarves and puppets! There is no expectation that your children will sit still or be quiet. It’s not developmentally appropriate to ask them to.
URL:https://tillamookchamber.org/event/tillamook-main-library-storytime-mother-goose-on-the-loose/2025-03-14/
LOCATION:Tillamook Main Library\, Tillamook\, 1716 3rd St\, Tillamook\, OR\, 97141\, United States
CATEGORIES:Education,Family Fun
ATTACH;FMTTYPE=image/png:https://tillamookchamber.org/wp-content/uploads/2023/01/TCL-transparent-logo-1.png
ORGANIZER;CN="Melanie Hetrick":MAILTO:mhetrick@co.tillamook.or.us
END:VEVENT
BEGIN:VEVENT
DTSTART;TZID=America/Los_Angeles:20250314T120000
DTEND;TZID=America/Los_Angeles:20250314T190000
DTSTAMP:20260423T043843
CREATED:20250218T181307Z
LAST-MODIFIED:20250218T190828Z
UID:10018256-1741953600-1741978800@tillamookchamber.org
SUMMARY:Spring Bazaar
DESCRIPTION:The Tillamook County Fair Board would like to invite you to their annual Spring Bazaar to be held at the Tillamook County Fairgrounds\, March 14th\, 12:00pm – 7:00pm and March 15th\, 10:00am – 5:00pm. \n 
URL:https://tillamookchamber.org/event/spring-bazaar-3/2025-03-14/
LOCATION:Tillamook County Fairgrounds\, 4603 3rd St\, Tillamook\, OR\, 97141\, United States
CATEGORIES:Community,Family Fun,Shopping and Sales
END:VEVENT
BEGIN:VEVENT
DTSTART;TZID=America/Los_Angeles:20250315T100000
DTEND;TZID=America/Los_Angeles:20250315T170000
DTSTAMP:20260423T043843
CREATED:20250218T181307Z
LAST-MODIFIED:20250218T190828Z
UID:10018257-1742032800-1742058000@tillamookchamber.org
SUMMARY:Spring Bazaar
DESCRIPTION:The Tillamook County Fair Board would like to invite you to their annual Spring Bazaar to be held at the Tillamook County Fairgrounds\, March 14th\, 12:00pm – 7:00pm and March 15th\, 10:00am – 5:00pm. \n 
URL:https://tillamookchamber.org/event/spring-bazaar-3/2025-03-15/
LOCATION:Tillamook County Fairgrounds\, 4603 3rd St\, Tillamook\, OR\, 97141\, United States
CATEGORIES:Community,Family Fun,Shopping and Sales
END:VEVENT
BEGIN:VEVENT
DTSTART;TZID=America/Los_Angeles:20250315T140000
DTEND;TZID=America/Los_Angeles:20250315T150000
DTSTAMP:20260423T043843
CREATED:20250306T184802Z
LAST-MODIFIED:20250306T184802Z
UID:10019001-1742047200-1742050800@tillamookchamber.org
SUMMARY:LEGO Time at the Rockaway Beach Library
DESCRIPTION:Kids are not going to want to miss LEGO Time on the 3rd Satuday of every month at 2:00 pm!
URL:https://tillamookchamber.org/event/lego-time-at-the-rockaway-beach-library-2/2025-03-15/
LOCATION:Rockaway Beach Library\, 120 N Coral St\, Rockaway Beach\, OR 97136
CATEGORIES:Community,Family Fun
ATTACH;FMTTYPE=image/png:https://tillamookchamber.org/wp-content/uploads/2025/03/lego_time_tr.png
END:VEVENT
BEGIN:VEVENT
DTSTART;TZID=America/Los_Angeles:20250316T100000
DTEND;TZID=America/Los_Angeles:20250316T160000
DTSTAMP:20260423T043843
CREATED:20250312T224125Z
LAST-MODIFIED:20250312T224125Z
UID:10019018-1742119200-1742140800@tillamookchamber.org
SUMMARY:Locals Free Day @ Hangar B
DESCRIPTION:Every month on the 3rd Sunday of the month\, we offer Tillamook County residents a FREE Day! \nFlash your ID or library card as proof and enjoy the museum!
URL:https://tillamookchamber.org/event/locals-free-day-hangar-b/2025-03-16/
LOCATION:Tillamook Air Museum\, 6030 Hangar Rd\, OR\, United States
CATEGORIES:Community,Education,Family Fun
ATTACH;FMTTYPE=image/png:https://tillamookchamber.org/wp-content/uploads/2025/03/TILLAMOOK-CO-LOCALS-DAY.png
END:VEVENT
BEGIN:VEVENT
DTSTART;TZID=America/Los_Angeles:20250318T100000
DTEND;TZID=America/Los_Angeles:20250318T110000
DTSTAMP:20260423T043843
CREATED:20230113T201225Z
LAST-MODIFIED:20230124T214552Z
UID:10020043-1742292000-1742295600@tillamookchamber.org
SUMMARY:Tillamook Main Library Storytime: Terrific Twos
DESCRIPTION:Terrific Twos (TT) on Tues @ 10am; developmentally appropriate for 24-36mos; bubbles\, balls\, parachute & instruments! There is no expectation that your children will sit still or be quiet. It’s not developmentally appropriate to ask them to. \nA couple of things about the children’s room that might set you at ease: \n\nThere is no expectation that it will be a quiet zone; kids are kids and they are allowed to act themselves in the children’s room.\nOnly 2 hard and fast rules: No Running & No Screaming.\nIf your child needs a snack\, feed them!
URL:https://tillamookchamber.org/event/tillamook-main-library-storytime-terrific-twos/2025-03-18/
LOCATION:Tillamook Main Library\, Tillamook\, 1716 3rd St\, Tillamook\, OR\, 97141\, United States
CATEGORIES:Education,Family Fun
ATTACH;FMTTYPE=image/jpeg:https://tillamookchamber.org/wp-content/uploads/2023/01/TCL-white.jpg
ORGANIZER;CN="Melanie Hetrick":MAILTO:mhetrick@co.tillamook.or.us
END:VEVENT
BEGIN:VEVENT
DTSTART;TZID=America/Los_Angeles:20250319T100000
DTEND;TZID=America/Los_Angeles:20250319T110000
DTSTAMP:20260423T043843
CREATED:20230113T205344Z
LAST-MODIFIED:20230113T205344Z
UID:10019402-1742378400-1742382000@tillamookchamber.org
SUMMARY:Tillamook Main Library Storytime: Preschool
DESCRIPTION:Preschool storytime (PS) on Wed @ 10; developmentally appropriate for 3-5 yos; music\, stories\, interactive play and lots of laughs! In this class little begin to learn about a leader at the front of the room\, how to hold their wiggles\, listening and sitting still. When a child is transitioning from TT to PS my expectation is that they will sit for 5-10 minutes and then they might go play. I do not force them to sit still if they are not ready to. \nA couple of things about the children’s room that might set you at ease: \n\nThere is no expectation that it will be a quiet zone; kids are kids and they are allowed to act like themselves in the children’s room.\nOnly 2 hard and fast rules: No Running & No Screaming.\nIf your child needs a snack\, feed them!
URL:https://tillamookchamber.org/event/tillamook-main-library-storytime-preschool/2025-03-19/
LOCATION:Tillamook Main Library\, Tillamook\, 1716 3rd St\, Tillamook\, OR\, 97141\, United States
CATEGORIES:Education,Family Fun
ATTACH;FMTTYPE=image/png:https://tillamookchamber.org/wp-content/uploads/2023/01/TCL-transparent-logo.png
ORGANIZER;CN="Melanie Hetrick":MAILTO:mhetrick@co.tillamook.or.us
END:VEVENT
BEGIN:VEVENT
DTSTART;TZID=America/Los_Angeles:20250319T180000
DTEND;TZID=America/Los_Angeles:20250319T200000
DTSTAMP:20260423T043843
CREATED:20250226T004917Z
LAST-MODIFIED:20250226T004917Z
UID:10018298-1742407200-1742414400@tillamookchamber.org
SUMMARY:March Movies at Main: Retro Science Fiction
DESCRIPTION:Join us at the library for movies at 6 pm! \n\n3/5 Forbidden Planet (1956)  \n\n\n3/19 The Day The Earth Stood Still (1951)  \n\n\n3/26 The Thing from another world (1951) 
URL:https://tillamookchamber.org/event/march-movies-at-main-retro-science-fiction/2025-03-19/
LOCATION:Tillamook County Library\, 1716 3rd Street Tillamook Oregon 97141
CATEGORIES:Community,Family Fun
END:VEVENT
BEGIN:VEVENT
DTSTART;TZID=America/Los_Angeles:20250320T100000
DTEND;TZID=America/Los_Angeles:20250320T110000
DTSTAMP:20260423T043843
CREATED:20241226T211146Z
LAST-MODIFIED:20241226T211146Z
UID:10017470-1742464800-1742468400@tillamookchamber.org
SUMMARY:Family Storytime at Bay City Library
DESCRIPTION:Bring the whole family down to the Bay City Library for a fun storytime and activity every Thursday at 10am!
URL:https://tillamookchamber.org/event/family-storytime-at-bay-city-library-2/2025-03-20/
LOCATION:Bay City Library\, 5525 B St\, Bay City\, OR
CATEGORIES:Community,Family Fun
ATTACH;FMTTYPE=image/png:https://tillamookchamber.org/wp-content/uploads/2024/12/Bay-City-Storytime1.png
END:VEVENT
BEGIN:VEVENT
DTSTART;TZID=America/Los_Angeles:20250321T100000
DTEND;TZID=America/Los_Angeles:20250321T110000
DTSTAMP:20260423T043843
CREATED:20230113T205450Z
LAST-MODIFIED:20230113T205556Z
UID:10019723-1742551200-1742554800@tillamookchamber.org
SUMMARY:Tillamook Main Library Storytime: Mother Goose on the Loose
DESCRIPTION:Mother Goose on the Loose (MGOL) on Fri @ 10am; developmentally appropriate for birth to 24mos; rhythm\, rhymes\, instruments\, scarves and puppets! There is no expectation that your children will sit still or be quiet. It’s not developmentally appropriate to ask them to.
URL:https://tillamookchamber.org/event/tillamook-main-library-storytime-mother-goose-on-the-loose/2025-03-21/
LOCATION:Tillamook Main Library\, Tillamook\, 1716 3rd St\, Tillamook\, OR\, 97141\, United States
CATEGORIES:Education,Family Fun
ATTACH;FMTTYPE=image/png:https://tillamookchamber.org/wp-content/uploads/2023/01/TCL-transparent-logo-1.png
ORGANIZER;CN="Melanie Hetrick":MAILTO:mhetrick@co.tillamook.or.us
END:VEVENT
BEGIN:VEVENT
DTSTART;TZID=America/Los_Angeles:20250321T153000
DTEND;TZID=America/Los_Angeles:20250321T170000
DTSTAMP:20260423T043843
CREATED:20250306T184930Z
LAST-MODIFIED:20250306T184930Z
UID:10018998-1742571000-1742576400@tillamookchamber.org
SUMMARY:Movie Night at Pacific City Library
DESCRIPTION:Join us for Pacific City Movie Night every third Friday at 3:30 pm.  \nDrop by the branch to let us know what movies you’d like to see featured in the coming months.
URL:https://tillamookchamber.org/event/movie-night-at-pacific-city-library-2/2025-03-21/
LOCATION:Pacific City Library\, 6200 Camp St Pacific City\, OR
CATEGORIES:Community,Family Fun
ATTACH;FMTTYPE=image/png:https://tillamookchamber.org/wp-content/uploads/2025/03/pc_movie_night_0.png
END:VEVENT
END:VCALENDAR