BEGIN:VCALENDAR
VERSION:2.0
PRODID:-//Tillamook Area Chamber of Commerce - ECPv6.15.20//NONSGML v1.0//EN
CALSCALE:GREGORIAN
METHOD:PUBLISH
X-ORIGINAL-URL:https://tillamookchamber.org
X-WR-CALDESC:Events for Tillamook Area Chamber of Commerce
REFRESH-INTERVAL;VALUE=DURATION:PT1H
X-Robots-Tag:noindex
X-PUBLISHED-TTL:PT1H
BEGIN:VTIMEZONE
TZID:America/Los_Angeles
BEGIN:DAYLIGHT
TZOFFSETFROM:-0800
TZOFFSETTO:-0700
TZNAME:PDT
DTSTART:20270314T100000
END:DAYLIGHT
BEGIN:STANDARD
TZOFFSETFROM:-0700
TZOFFSETTO:-0800
TZNAME:PST
DTSTART:20271107T090000
END:STANDARD
BEGIN:DAYLIGHT
TZOFFSETFROM:-0800
TZOFFSETTO:-0700
TZNAME:PDT
DTSTART:20280312T100000
END:DAYLIGHT
BEGIN:STANDARD
TZOFFSETFROM:-0700
TZOFFSETTO:-0800
TZNAME:PST
DTSTART:20281105T090000
END:STANDARD
BEGIN:DAYLIGHT
TZOFFSETFROM:-0800
TZOFFSETTO:-0700
TZNAME:PDT
DTSTART:20290311T100000
END:DAYLIGHT
BEGIN:STANDARD
TZOFFSETFROM:-0700
TZOFFSETTO:-0800
TZNAME:PST
DTSTART:20291104T090000
END:STANDARD
END:VTIMEZONE
BEGIN:VEVENT
DTSTART;TZID=America/Los_Angeles:20280601T090000
DTEND;TZID=America/Los_Angeles:20280601T100000
DTSTAMP:20260425T164558
CREATED:20260211T171143Z
LAST-MODIFIED:20260303T230438Z
UID:10029501-1843462800-1843466400@tillamookchamber.org
SUMMARY:Virtual Grief Support Groups
DESCRIPTION:Grief touches every part of life\, often in ways we never expected. Whether you are navigating the loss of a loved one\, a major life change\, or the overwhelming emotions that follow loss of any kind\, you don’t have to face it alone. \nThese groups offer gentle guidance\, practical tools\, and heartfelt support to help you move through your grief at your own pace. \nVirtual groups led by: \nCami Aufdermauer\, Bereavement Coordinator and Associate Chaplain \nVirtual Grief Support Groups\nOccurs the first and last Thursday of every month for one hour starting at 9 a.m.\nRegistration required visiting ahlink.org/tillamookgg
URL:https://tillamookchamber.org/event/virtual-grief-support-groups/2028-06-01/
CATEGORIES:Community,Education
ATTACH;FMTTYPE=image/jpeg:https://tillamookchamber.org/wp-content/uploads/2026/02/2026-Grief-Groups-2-Flyer-Single-Page-1.jpg
END:VEVENT
BEGIN:VEVENT
DTSTART;TZID=America/Los_Angeles:20280601T160000
DTEND;TZID=America/Los_Angeles:20280601T173000
DTSTAMP:20260425T164558
CREATED:20240822T191911Z
LAST-MODIFIED:20240822T191911Z
UID:10015759-1843488000-1843493400@tillamookchamber.org
SUMMARY:Knitting Group
DESCRIPTION:Join a fun group of knitters at North Tillamook Library in Manzanita on Thursdays from 4pm to 5:30pm.
URL:https://tillamookchamber.org/event/knitting-group/2028-06-01/
LOCATION:North Tillamook Library\, 571 Laneda Ave\, Manzanita\, OR 97130
CATEGORIES:Community,Education
ATTACH;FMTTYPE=image/png:https://tillamookchamber.org/wp-content/uploads/2024/08/logo.png
END:VEVENT
BEGIN:VEVENT
DTSTART;TZID=America/Los_Angeles:20280602T100000
DTEND;TZID=America/Los_Angeles:20280602T110000
DTSTAMP:20260425T164558
CREATED:20230113T205450Z
LAST-MODIFIED:20230113T205556Z
UID:10019890-1843552800-1843556400@tillamookchamber.org
SUMMARY:Tillamook Main Library Storytime: Mother Goose on the Loose
DESCRIPTION:Mother Goose on the Loose (MGOL) on Fri @ 10am; developmentally appropriate for birth to 24mos; rhythm\, rhymes\, instruments\, scarves and puppets! There is no expectation that your children will sit still or be quiet. It’s not developmentally appropriate to ask them to.
URL:https://tillamookchamber.org/event/tillamook-main-library-storytime-mother-goose-on-the-loose/2028-06-02/
LOCATION:Tillamook Main Library\, Tillamook\, 1716 3rd St\, Tillamook\, OR\, 97141\, United States
CATEGORIES:Education,Family Fun
ATTACH;FMTTYPE=image/png:https://tillamookchamber.org/wp-content/uploads/2023/01/TCL-transparent-logo-1.png
ORGANIZER;CN="Melanie Hetrick":MAILTO:mhetrick@co.tillamook.or.us
END:VEVENT
BEGIN:VEVENT
DTSTART;TZID=America/Los_Angeles:20280606T100000
DTEND;TZID=America/Los_Angeles:20280606T110000
DTSTAMP:20260425T164558
CREATED:20230113T201225Z
LAST-MODIFIED:20230124T214552Z
UID:10020211-1843898400-1843902000@tillamookchamber.org
SUMMARY:Tillamook Main Library Storytime: Terrific Twos
DESCRIPTION:Terrific Twos (TT) on Tues @ 10am; developmentally appropriate for 24-36mos; bubbles\, balls\, parachute & instruments! There is no expectation that your children will sit still or be quiet. It’s not developmentally appropriate to ask them to. \nA couple of things about the children’s room that might set you at ease: \n\nThere is no expectation that it will be a quiet zone; kids are kids and they are allowed to act themselves in the children’s room.\nOnly 2 hard and fast rules: No Running & No Screaming.\nIf your child needs a snack\, feed them!
URL:https://tillamookchamber.org/event/tillamook-main-library-storytime-terrific-twos/2028-06-06/
LOCATION:Tillamook Main Library\, Tillamook\, 1716 3rd St\, Tillamook\, OR\, 97141\, United States
CATEGORIES:Education,Family Fun
ATTACH;FMTTYPE=image/jpeg:https://tillamookchamber.org/wp-content/uploads/2023/01/TCL-white.jpg
ORGANIZER;CN="Melanie Hetrick":MAILTO:mhetrick@co.tillamook.or.us
END:VEVENT
BEGIN:VEVENT
DTSTART;TZID=America/Los_Angeles:20280607T100000
DTEND;TZID=America/Los_Angeles:20280607T110000
DTSTAMP:20260425T164558
CREATED:20230113T205344Z
LAST-MODIFIED:20230113T205344Z
UID:10019570-1843984800-1843988400@tillamookchamber.org
SUMMARY:Tillamook Main Library Storytime: Preschool
DESCRIPTION:Preschool storytime (PS) on Wed @ 10; developmentally appropriate for 3-5 yos; music\, stories\, interactive play and lots of laughs! In this class little begin to learn about a leader at the front of the room\, how to hold their wiggles\, listening and sitting still. When a child is transitioning from TT to PS my expectation is that they will sit for 5-10 minutes and then they might go play. I do not force them to sit still if they are not ready to. \nA couple of things about the children’s room that might set you at ease: \n\nThere is no expectation that it will be a quiet zone; kids are kids and they are allowed to act like themselves in the children’s room.\nOnly 2 hard and fast rules: No Running & No Screaming.\nIf your child needs a snack\, feed them!
URL:https://tillamookchamber.org/event/tillamook-main-library-storytime-preschool/2028-06-07/
LOCATION:Tillamook Main Library\, Tillamook\, 1716 3rd St\, Tillamook\, OR\, 97141\, United States
CATEGORIES:Education,Family Fun
ATTACH;FMTTYPE=image/png:https://tillamookchamber.org/wp-content/uploads/2023/01/TCL-transparent-logo.png
ORGANIZER;CN="Melanie Hetrick":MAILTO:mhetrick@co.tillamook.or.us
END:VEVENT
BEGIN:VEVENT
DTSTART;TZID=America/Los_Angeles:20280608T160000
DTEND;TZID=America/Los_Angeles:20280608T173000
DTSTAMP:20260425T164558
CREATED:20240822T191911Z
LAST-MODIFIED:20240822T191911Z
UID:10015760-1844092800-1844098200@tillamookchamber.org
SUMMARY:Knitting Group
DESCRIPTION:Join a fun group of knitters at North Tillamook Library in Manzanita on Thursdays from 4pm to 5:30pm.
URL:https://tillamookchamber.org/event/knitting-group/2028-06-08/
LOCATION:North Tillamook Library\, 571 Laneda Ave\, Manzanita\, OR 97130
CATEGORIES:Community,Education
ATTACH;FMTTYPE=image/png:https://tillamookchamber.org/wp-content/uploads/2024/08/logo.png
END:VEVENT
BEGIN:VEVENT
DTSTART;TZID=America/Los_Angeles:20280609T100000
DTEND;TZID=America/Los_Angeles:20280609T110000
DTSTAMP:20260425T164558
CREATED:20230113T205450Z
LAST-MODIFIED:20230113T205556Z
UID:10019891-1844157600-1844161200@tillamookchamber.org
SUMMARY:Tillamook Main Library Storytime: Mother Goose on the Loose
DESCRIPTION:Mother Goose on the Loose (MGOL) on Fri @ 10am; developmentally appropriate for birth to 24mos; rhythm\, rhymes\, instruments\, scarves and puppets! There is no expectation that your children will sit still or be quiet. It’s not developmentally appropriate to ask them to.
URL:https://tillamookchamber.org/event/tillamook-main-library-storytime-mother-goose-on-the-loose/2028-06-09/
LOCATION:Tillamook Main Library\, Tillamook\, 1716 3rd St\, Tillamook\, OR\, 97141\, United States
CATEGORIES:Education,Family Fun
ATTACH;FMTTYPE=image/png:https://tillamookchamber.org/wp-content/uploads/2023/01/TCL-transparent-logo-1.png
ORGANIZER;CN="Melanie Hetrick":MAILTO:mhetrick@co.tillamook.or.us
END:VEVENT
BEGIN:VEVENT
DTSTART;TZID=America/Los_Angeles:20280613T100000
DTEND;TZID=America/Los_Angeles:20280613T110000
DTSTAMP:20260425T164558
CREATED:20230113T201225Z
LAST-MODIFIED:20230124T214552Z
UID:10020212-1844503200-1844506800@tillamookchamber.org
SUMMARY:Tillamook Main Library Storytime: Terrific Twos
DESCRIPTION:Terrific Twos (TT) on Tues @ 10am; developmentally appropriate for 24-36mos; bubbles\, balls\, parachute & instruments! There is no expectation that your children will sit still or be quiet. It’s not developmentally appropriate to ask them to. \nA couple of things about the children’s room that might set you at ease: \n\nThere is no expectation that it will be a quiet zone; kids are kids and they are allowed to act themselves in the children’s room.\nOnly 2 hard and fast rules: No Running & No Screaming.\nIf your child needs a snack\, feed them!
URL:https://tillamookchamber.org/event/tillamook-main-library-storytime-terrific-twos/2028-06-13/
LOCATION:Tillamook Main Library\, Tillamook\, 1716 3rd St\, Tillamook\, OR\, 97141\, United States
CATEGORIES:Education,Family Fun
ATTACH;FMTTYPE=image/jpeg:https://tillamookchamber.org/wp-content/uploads/2023/01/TCL-white.jpg
ORGANIZER;CN="Melanie Hetrick":MAILTO:mhetrick@co.tillamook.or.us
END:VEVENT
BEGIN:VEVENT
DTSTART;TZID=America/Los_Angeles:20280614T100000
DTEND;TZID=America/Los_Angeles:20280614T110000
DTSTAMP:20260425T164558
CREATED:20230113T205344Z
LAST-MODIFIED:20230113T205344Z
UID:10019571-1844589600-1844593200@tillamookchamber.org
SUMMARY:Tillamook Main Library Storytime: Preschool
DESCRIPTION:Preschool storytime (PS) on Wed @ 10; developmentally appropriate for 3-5 yos; music\, stories\, interactive play and lots of laughs! In this class little begin to learn about a leader at the front of the room\, how to hold their wiggles\, listening and sitting still. When a child is transitioning from TT to PS my expectation is that they will sit for 5-10 minutes and then they might go play. I do not force them to sit still if they are not ready to. \nA couple of things about the children’s room that might set you at ease: \n\nThere is no expectation that it will be a quiet zone; kids are kids and they are allowed to act like themselves in the children’s room.\nOnly 2 hard and fast rules: No Running & No Screaming.\nIf your child needs a snack\, feed them!
URL:https://tillamookchamber.org/event/tillamook-main-library-storytime-preschool/2028-06-14/
LOCATION:Tillamook Main Library\, Tillamook\, 1716 3rd St\, Tillamook\, OR\, 97141\, United States
CATEGORIES:Education,Family Fun
ATTACH;FMTTYPE=image/png:https://tillamookchamber.org/wp-content/uploads/2023/01/TCL-transparent-logo.png
ORGANIZER;CN="Melanie Hetrick":MAILTO:mhetrick@co.tillamook.or.us
END:VEVENT
BEGIN:VEVENT
DTSTART;TZID=America/Los_Angeles:20280615T160000
DTEND;TZID=America/Los_Angeles:20280615T173000
DTSTAMP:20260425T164558
CREATED:20240822T191911Z
LAST-MODIFIED:20240822T191911Z
UID:10015761-1844697600-1844703000@tillamookchamber.org
SUMMARY:Knitting Group
DESCRIPTION:Join a fun group of knitters at North Tillamook Library in Manzanita on Thursdays from 4pm to 5:30pm.
URL:https://tillamookchamber.org/event/knitting-group/2028-06-15/
LOCATION:North Tillamook Library\, 571 Laneda Ave\, Manzanita\, OR 97130
CATEGORIES:Community,Education
ATTACH;FMTTYPE=image/png:https://tillamookchamber.org/wp-content/uploads/2024/08/logo.png
END:VEVENT
BEGIN:VEVENT
DTSTART;TZID=America/Los_Angeles:20280616T100000
DTEND;TZID=America/Los_Angeles:20280616T110000
DTSTAMP:20260425T164558
CREATED:20230113T205450Z
LAST-MODIFIED:20230113T205556Z
UID:10019892-1844762400-1844766000@tillamookchamber.org
SUMMARY:Tillamook Main Library Storytime: Mother Goose on the Loose
DESCRIPTION:Mother Goose on the Loose (MGOL) on Fri @ 10am; developmentally appropriate for birth to 24mos; rhythm\, rhymes\, instruments\, scarves and puppets! There is no expectation that your children will sit still or be quiet. It’s not developmentally appropriate to ask them to.
URL:https://tillamookchamber.org/event/tillamook-main-library-storytime-mother-goose-on-the-loose/2028-06-16/
LOCATION:Tillamook Main Library\, Tillamook\, 1716 3rd St\, Tillamook\, OR\, 97141\, United States
CATEGORIES:Education,Family Fun
ATTACH;FMTTYPE=image/png:https://tillamookchamber.org/wp-content/uploads/2023/01/TCL-transparent-logo-1.png
ORGANIZER;CN="Melanie Hetrick":MAILTO:mhetrick@co.tillamook.or.us
END:VEVENT
BEGIN:VEVENT
DTSTART;TZID=America/Los_Angeles:20280620T100000
DTEND;TZID=America/Los_Angeles:20280620T110000
DTSTAMP:20260425T164558
CREATED:20230113T201225Z
LAST-MODIFIED:20230124T214552Z
UID:10020213-1845108000-1845111600@tillamookchamber.org
SUMMARY:Tillamook Main Library Storytime: Terrific Twos
DESCRIPTION:Terrific Twos (TT) on Tues @ 10am; developmentally appropriate for 24-36mos; bubbles\, balls\, parachute & instruments! There is no expectation that your children will sit still or be quiet. It’s not developmentally appropriate to ask them to. \nA couple of things about the children’s room that might set you at ease: \n\nThere is no expectation that it will be a quiet zone; kids are kids and they are allowed to act themselves in the children’s room.\nOnly 2 hard and fast rules: No Running & No Screaming.\nIf your child needs a snack\, feed them!
URL:https://tillamookchamber.org/event/tillamook-main-library-storytime-terrific-twos/2028-06-20/
LOCATION:Tillamook Main Library\, Tillamook\, 1716 3rd St\, Tillamook\, OR\, 97141\, United States
CATEGORIES:Education,Family Fun
ATTACH;FMTTYPE=image/jpeg:https://tillamookchamber.org/wp-content/uploads/2023/01/TCL-white.jpg
ORGANIZER;CN="Melanie Hetrick":MAILTO:mhetrick@co.tillamook.or.us
END:VEVENT
BEGIN:VEVENT
DTSTART;TZID=America/Los_Angeles:20280621T100000
DTEND;TZID=America/Los_Angeles:20280621T110000
DTSTAMP:20260425T164558
CREATED:20230113T205344Z
LAST-MODIFIED:20230113T205344Z
UID:10019572-1845194400-1845198000@tillamookchamber.org
SUMMARY:Tillamook Main Library Storytime: Preschool
DESCRIPTION:Preschool storytime (PS) on Wed @ 10; developmentally appropriate for 3-5 yos; music\, stories\, interactive play and lots of laughs! In this class little begin to learn about a leader at the front of the room\, how to hold their wiggles\, listening and sitting still. When a child is transitioning from TT to PS my expectation is that they will sit for 5-10 minutes and then they might go play. I do not force them to sit still if they are not ready to. \nA couple of things about the children’s room that might set you at ease: \n\nThere is no expectation that it will be a quiet zone; kids are kids and they are allowed to act like themselves in the children’s room.\nOnly 2 hard and fast rules: No Running & No Screaming.\nIf your child needs a snack\, feed them!
URL:https://tillamookchamber.org/event/tillamook-main-library-storytime-preschool/2028-06-21/
LOCATION:Tillamook Main Library\, Tillamook\, 1716 3rd St\, Tillamook\, OR\, 97141\, United States
CATEGORIES:Education,Family Fun
ATTACH;FMTTYPE=image/png:https://tillamookchamber.org/wp-content/uploads/2023/01/TCL-transparent-logo.png
ORGANIZER;CN="Melanie Hetrick":MAILTO:mhetrick@co.tillamook.or.us
END:VEVENT
BEGIN:VEVENT
DTSTART;TZID=America/Los_Angeles:20280622T090000
DTEND;TZID=America/Los_Angeles:20280622T100000
DTSTAMP:20260425T164558
CREATED:20260211T171226Z
LAST-MODIFIED:20260211T171226Z
UID:10029442-1845277200-1845280800@tillamookchamber.org
SUMMARY:Virtual Grief Support Groups
DESCRIPTION:Grief touches every part of life\, often in ways we never expected. Whether you are navigating the loss of a loved one\, a major life\nchange\, or the overwhelming emotions that follow loss of any kind\, you don’t have to face it alone. \nThese groups offer gentle guidance\, practical tools\, and heartfelt support to help you move through your grief at your own pace. \nVirtual groups co-led by:\nCami Aufdermauer\, Bereavement Coordinator and Chaplain\nDr. Pam Strachan\, Board-Certified Chaplain and Bereavement Specialist \nVirtual Grief Support Groups\nOccurs the first and last Thursday of every month for one hour starting at 9 a.m.\nRegistration required visiting ahlink.org/tillamookgg
URL:https://tillamookchamber.org/event/virtual-grief-support-groups-2/2028-06-22/
CATEGORIES:Community,Education
ATTACH;FMTTYPE=image/jpeg:https://tillamookchamber.org/wp-content/uploads/2026/02/2026-Grief-Groups-2-Flyer-Single-Page.jpg
END:VEVENT
BEGIN:VEVENT
DTSTART;TZID=America/Los_Angeles:20280622T160000
DTEND;TZID=America/Los_Angeles:20280622T173000
DTSTAMP:20260425T164558
CREATED:20240822T191911Z
LAST-MODIFIED:20240822T191911Z
UID:10015762-1845302400-1845307800@tillamookchamber.org
SUMMARY:Knitting Group
DESCRIPTION:Join a fun group of knitters at North Tillamook Library in Manzanita on Thursdays from 4pm to 5:30pm.
URL:https://tillamookchamber.org/event/knitting-group/2028-06-22/
LOCATION:North Tillamook Library\, 571 Laneda Ave\, Manzanita\, OR 97130
CATEGORIES:Community,Education
ATTACH;FMTTYPE=image/png:https://tillamookchamber.org/wp-content/uploads/2024/08/logo.png
END:VEVENT
BEGIN:VEVENT
DTSTART;TZID=America/Los_Angeles:20280623T100000
DTEND;TZID=America/Los_Angeles:20280623T110000
DTSTAMP:20260425T164558
CREATED:20230113T205450Z
LAST-MODIFIED:20230113T205556Z
UID:10019893-1845367200-1845370800@tillamookchamber.org
SUMMARY:Tillamook Main Library Storytime: Mother Goose on the Loose
DESCRIPTION:Mother Goose on the Loose (MGOL) on Fri @ 10am; developmentally appropriate for birth to 24mos; rhythm\, rhymes\, instruments\, scarves and puppets! There is no expectation that your children will sit still or be quiet. It’s not developmentally appropriate to ask them to.
URL:https://tillamookchamber.org/event/tillamook-main-library-storytime-mother-goose-on-the-loose/2028-06-23/
LOCATION:Tillamook Main Library\, Tillamook\, 1716 3rd St\, Tillamook\, OR\, 97141\, United States
CATEGORIES:Education,Family Fun
ATTACH;FMTTYPE=image/png:https://tillamookchamber.org/wp-content/uploads/2023/01/TCL-transparent-logo-1.png
ORGANIZER;CN="Melanie Hetrick":MAILTO:mhetrick@co.tillamook.or.us
END:VEVENT
BEGIN:VEVENT
DTSTART;TZID=America/Los_Angeles:20280627T100000
DTEND;TZID=America/Los_Angeles:20280627T110000
DTSTAMP:20260425T164558
CREATED:20230113T201225Z
LAST-MODIFIED:20230124T214552Z
UID:10020214-1845712800-1845716400@tillamookchamber.org
SUMMARY:Tillamook Main Library Storytime: Terrific Twos
DESCRIPTION:Terrific Twos (TT) on Tues @ 10am; developmentally appropriate for 24-36mos; bubbles\, balls\, parachute & instruments! There is no expectation that your children will sit still or be quiet. It’s not developmentally appropriate to ask them to. \nA couple of things about the children’s room that might set you at ease: \n\nThere is no expectation that it will be a quiet zone; kids are kids and they are allowed to act themselves in the children’s room.\nOnly 2 hard and fast rules: No Running & No Screaming.\nIf your child needs a snack\, feed them!
URL:https://tillamookchamber.org/event/tillamook-main-library-storytime-terrific-twos/2028-06-27/
LOCATION:Tillamook Main Library\, Tillamook\, 1716 3rd St\, Tillamook\, OR\, 97141\, United States
CATEGORIES:Education,Family Fun
ATTACH;FMTTYPE=image/jpeg:https://tillamookchamber.org/wp-content/uploads/2023/01/TCL-white.jpg
ORGANIZER;CN="Melanie Hetrick":MAILTO:mhetrick@co.tillamook.or.us
END:VEVENT
BEGIN:VEVENT
DTSTART;TZID=America/Los_Angeles:20280628T100000
DTEND;TZID=America/Los_Angeles:20280628T110000
DTSTAMP:20260425T164558
CREATED:20230113T205344Z
LAST-MODIFIED:20230113T205344Z
UID:10019573-1845799200-1845802800@tillamookchamber.org
SUMMARY:Tillamook Main Library Storytime: Preschool
DESCRIPTION:Preschool storytime (PS) on Wed @ 10; developmentally appropriate for 3-5 yos; music\, stories\, interactive play and lots of laughs! In this class little begin to learn about a leader at the front of the room\, how to hold their wiggles\, listening and sitting still. When a child is transitioning from TT to PS my expectation is that they will sit for 5-10 minutes and then they might go play. I do not force them to sit still if they are not ready to. \nA couple of things about the children’s room that might set you at ease: \n\nThere is no expectation that it will be a quiet zone; kids are kids and they are allowed to act like themselves in the children’s room.\nOnly 2 hard and fast rules: No Running & No Screaming.\nIf your child needs a snack\, feed them!
URL:https://tillamookchamber.org/event/tillamook-main-library-storytime-preschool/2028-06-28/
LOCATION:Tillamook Main Library\, Tillamook\, 1716 3rd St\, Tillamook\, OR\, 97141\, United States
CATEGORIES:Education,Family Fun
ATTACH;FMTTYPE=image/png:https://tillamookchamber.org/wp-content/uploads/2023/01/TCL-transparent-logo.png
ORGANIZER;CN="Melanie Hetrick":MAILTO:mhetrick@co.tillamook.or.us
END:VEVENT
BEGIN:VEVENT
DTSTART;TZID=America/Los_Angeles:20280629T160000
DTEND;TZID=America/Los_Angeles:20280629T173000
DTSTAMP:20260425T164558
CREATED:20240822T191911Z
LAST-MODIFIED:20240822T191911Z
UID:10015763-1845907200-1845912600@tillamookchamber.org
SUMMARY:Knitting Group
DESCRIPTION:Join a fun group of knitters at North Tillamook Library in Manzanita on Thursdays from 4pm to 5:30pm.
URL:https://tillamookchamber.org/event/knitting-group/2028-06-29/
LOCATION:North Tillamook Library\, 571 Laneda Ave\, Manzanita\, OR 97130
CATEGORIES:Community,Education
ATTACH;FMTTYPE=image/png:https://tillamookchamber.org/wp-content/uploads/2024/08/logo.png
END:VEVENT
BEGIN:VEVENT
DTSTART;TZID=America/Los_Angeles:20280630T100000
DTEND;TZID=America/Los_Angeles:20280630T110000
DTSTAMP:20260425T164558
CREATED:20230113T205450Z
LAST-MODIFIED:20230113T205556Z
UID:10019894-1845972000-1845975600@tillamookchamber.org
SUMMARY:Tillamook Main Library Storytime: Mother Goose on the Loose
DESCRIPTION:Mother Goose on the Loose (MGOL) on Fri @ 10am; developmentally appropriate for birth to 24mos; rhythm\, rhymes\, instruments\, scarves and puppets! There is no expectation that your children will sit still or be quiet. It’s not developmentally appropriate to ask them to.
URL:https://tillamookchamber.org/event/tillamook-main-library-storytime-mother-goose-on-the-loose/2028-06-30/
LOCATION:Tillamook Main Library\, Tillamook\, 1716 3rd St\, Tillamook\, OR\, 97141\, United States
CATEGORIES:Education,Family Fun
ATTACH;FMTTYPE=image/png:https://tillamookchamber.org/wp-content/uploads/2023/01/TCL-transparent-logo-1.png
ORGANIZER;CN="Melanie Hetrick":MAILTO:mhetrick@co.tillamook.or.us
END:VEVENT
END:VCALENDAR