BEGIN:VCALENDAR
VERSION:2.0
PRODID:-//Tillamook Area Chamber of Commerce - ECPv6.15.20//NONSGML v1.0//EN
CALSCALE:GREGORIAN
METHOD:PUBLISH
X-ORIGINAL-URL:https://tillamookchamber.org
X-WR-CALDESC:Events for Tillamook Area Chamber of Commerce
REFRESH-INTERVAL;VALUE=DURATION:PT1H
X-Robots-Tag:noindex
X-PUBLISHED-TTL:PT1H
BEGIN:VTIMEZONE
TZID:America/Los_Angeles
BEGIN:DAYLIGHT
TZOFFSETFROM:-0800
TZOFFSETTO:-0700
TZNAME:PDT
DTSTART:20250309T100000
END:DAYLIGHT
BEGIN:STANDARD
TZOFFSETFROM:-0700
TZOFFSETTO:-0800
TZNAME:PST
DTSTART:20251102T090000
END:STANDARD
BEGIN:DAYLIGHT
TZOFFSETFROM:-0800
TZOFFSETTO:-0700
TZNAME:PDT
DTSTART:20260308T100000
END:DAYLIGHT
BEGIN:STANDARD
TZOFFSETFROM:-0700
TZOFFSETTO:-0800
TZNAME:PST
DTSTART:20261101T090000
END:STANDARD
BEGIN:DAYLIGHT
TZOFFSETFROM:-0800
TZOFFSETTO:-0700
TZNAME:PDT
DTSTART:20270314T100000
END:DAYLIGHT
BEGIN:STANDARD
TZOFFSETFROM:-0700
TZOFFSETTO:-0800
TZNAME:PST
DTSTART:20271107T090000
END:STANDARD
END:VTIMEZONE
BEGIN:VEVENT
DTSTART;TZID=America/Los_Angeles:20261001T090000
DTEND;TZID=America/Los_Angeles:20261001T100000
DTSTAMP:20260421T213512
CREATED:20260211T171143Z
LAST-MODIFIED:20260303T230438Z
UID:10029481-1790845200-1790848800@tillamookchamber.org
SUMMARY:Virtual Grief Support Groups
DESCRIPTION:Grief touches every part of life\, often in ways we never expected. Whether you are navigating the loss of a loved one\, a major life change\, or the overwhelming emotions that follow loss of any kind\, you don’t have to face it alone. \nThese groups offer gentle guidance\, practical tools\, and heartfelt support to help you move through your grief at your own pace. \nVirtual groups led by: \nCami Aufdermauer\, Bereavement Coordinator and Associate Chaplain \nVirtual Grief Support Groups\nOccurs the first and last Thursday of every month for one hour starting at 9 a.m.\nRegistration required visiting ahlink.org/tillamookgg
URL:https://tillamookchamber.org/event/virtual-grief-support-groups/2026-10-01/
CATEGORIES:Community,Education
ATTACH;FMTTYPE=image/jpeg:https://tillamookchamber.org/wp-content/uploads/2026/02/2026-Grief-Groups-2-Flyer-Single-Page-1.jpg
END:VEVENT
BEGIN:VEVENT
DTSTART;TZID=America/Los_Angeles:20261001T160000
DTEND;TZID=America/Los_Angeles:20261001T173000
DTSTAMP:20260421T213512
CREATED:20240822T191911Z
LAST-MODIFIED:20240822T191911Z
UID:10015672-1790870400-1790875800@tillamookchamber.org
SUMMARY:Knitting Group
DESCRIPTION:Join a fun group of knitters at North Tillamook Library in Manzanita on Thursdays from 4pm to 5:30pm.
URL:https://tillamookchamber.org/event/knitting-group/2026-10-01/
LOCATION:North Tillamook Library\, 571 Laneda Ave\, Manzanita\, OR 97130
CATEGORIES:Community,Education
ATTACH;FMTTYPE=image/png:https://tillamookchamber.org/wp-content/uploads/2024/08/logo.png
END:VEVENT
BEGIN:VEVENT
DTSTART;TZID=America/Los_Angeles:20261002T100000
DTEND;TZID=America/Los_Angeles:20261002T110000
DTSTAMP:20260421T213512
CREATED:20230113T205450Z
LAST-MODIFIED:20230113T205556Z
UID:10019803-1790935200-1790938800@tillamookchamber.org
SUMMARY:Tillamook Main Library Storytime: Mother Goose on the Loose
DESCRIPTION:Mother Goose on the Loose (MGOL) on Fri @ 10am; developmentally appropriate for birth to 24mos; rhythm\, rhymes\, instruments\, scarves and puppets! There is no expectation that your children will sit still or be quiet. It’s not developmentally appropriate to ask them to.
URL:https://tillamookchamber.org/event/tillamook-main-library-storytime-mother-goose-on-the-loose/2026-10-02/
LOCATION:Tillamook Main Library\, Tillamook\, 1716 3rd St\, Tillamook\, OR\, 97141\, United States
CATEGORIES:Education,Family Fun
ATTACH;FMTTYPE=image/png:https://tillamookchamber.org/wp-content/uploads/2023/01/TCL-transparent-logo-1.png
ORGANIZER;CN="Melanie Hetrick":MAILTO:mhetrick@co.tillamook.or.us
END:VEVENT
BEGIN:VEVENT
DTSTART;TZID=America/Los_Angeles:20261006T100000
DTEND;TZID=America/Los_Angeles:20261006T110000
DTSTAMP:20260421T213512
CREATED:20230113T201225Z
LAST-MODIFIED:20230124T214552Z
UID:10020124-1791280800-1791284400@tillamookchamber.org
SUMMARY:Tillamook Main Library Storytime: Terrific Twos
DESCRIPTION:Terrific Twos (TT) on Tues @ 10am; developmentally appropriate for 24-36mos; bubbles\, balls\, parachute & instruments! There is no expectation that your children will sit still or be quiet. It’s not developmentally appropriate to ask them to. \nA couple of things about the children’s room that might set you at ease: \n\nThere is no expectation that it will be a quiet zone; kids are kids and they are allowed to act themselves in the children’s room.\nOnly 2 hard and fast rules: No Running & No Screaming.\nIf your child needs a snack\, feed them!
URL:https://tillamookchamber.org/event/tillamook-main-library-storytime-terrific-twos/2026-10-06/
LOCATION:Tillamook Main Library\, Tillamook\, 1716 3rd St\, Tillamook\, OR\, 97141\, United States
CATEGORIES:Education,Family Fun
ATTACH;FMTTYPE=image/jpeg:https://tillamookchamber.org/wp-content/uploads/2023/01/TCL-white.jpg
ORGANIZER;CN="Melanie Hetrick":MAILTO:mhetrick@co.tillamook.or.us
END:VEVENT
BEGIN:VEVENT
DTSTART;TZID=America/Los_Angeles:20261007T100000
DTEND;TZID=America/Los_Angeles:20261007T110000
DTSTAMP:20260421T213512
CREATED:20230113T205344Z
LAST-MODIFIED:20230113T205344Z
UID:10019483-1791367200-1791370800@tillamookchamber.org
SUMMARY:Tillamook Main Library Storytime: Preschool
DESCRIPTION:Preschool storytime (PS) on Wed @ 10; developmentally appropriate for 3-5 yos; music\, stories\, interactive play and lots of laughs! In this class little begin to learn about a leader at the front of the room\, how to hold their wiggles\, listening and sitting still. When a child is transitioning from TT to PS my expectation is that they will sit for 5-10 minutes and then they might go play. I do not force them to sit still if they are not ready to. \nA couple of things about the children’s room that might set you at ease: \n\nThere is no expectation that it will be a quiet zone; kids are kids and they are allowed to act like themselves in the children’s room.\nOnly 2 hard and fast rules: No Running & No Screaming.\nIf your child needs a snack\, feed them!
URL:https://tillamookchamber.org/event/tillamook-main-library-storytime-preschool/2026-10-07/
LOCATION:Tillamook Main Library\, Tillamook\, 1716 3rd St\, Tillamook\, OR\, 97141\, United States
CATEGORIES:Education,Family Fun
ATTACH;FMTTYPE=image/png:https://tillamookchamber.org/wp-content/uploads/2023/01/TCL-transparent-logo.png
ORGANIZER;CN="Melanie Hetrick":MAILTO:mhetrick@co.tillamook.or.us
END:VEVENT
BEGIN:VEVENT
DTSTART;TZID=America/Los_Angeles:20261008T160000
DTEND;TZID=America/Los_Angeles:20261008T173000
DTSTAMP:20260421T213512
CREATED:20240822T191911Z
LAST-MODIFIED:20240822T191911Z
UID:10015673-1791475200-1791480600@tillamookchamber.org
SUMMARY:Knitting Group
DESCRIPTION:Join a fun group of knitters at North Tillamook Library in Manzanita on Thursdays from 4pm to 5:30pm.
URL:https://tillamookchamber.org/event/knitting-group/2026-10-08/
LOCATION:North Tillamook Library\, 571 Laneda Ave\, Manzanita\, OR 97130
CATEGORIES:Community,Education
ATTACH;FMTTYPE=image/png:https://tillamookchamber.org/wp-content/uploads/2024/08/logo.png
END:VEVENT
BEGIN:VEVENT
DTSTART;TZID=America/Los_Angeles:20261009T100000
DTEND;TZID=America/Los_Angeles:20261009T110000
DTSTAMP:20260421T213512
CREATED:20230113T205450Z
LAST-MODIFIED:20230113T205556Z
UID:10019804-1791540000-1791543600@tillamookchamber.org
SUMMARY:Tillamook Main Library Storytime: Mother Goose on the Loose
DESCRIPTION:Mother Goose on the Loose (MGOL) on Fri @ 10am; developmentally appropriate for birth to 24mos; rhythm\, rhymes\, instruments\, scarves and puppets! There is no expectation that your children will sit still or be quiet. It’s not developmentally appropriate to ask them to.
URL:https://tillamookchamber.org/event/tillamook-main-library-storytime-mother-goose-on-the-loose/2026-10-09/
LOCATION:Tillamook Main Library\, Tillamook\, 1716 3rd St\, Tillamook\, OR\, 97141\, United States
CATEGORIES:Education,Family Fun
ATTACH;FMTTYPE=image/png:https://tillamookchamber.org/wp-content/uploads/2023/01/TCL-transparent-logo-1.png
ORGANIZER;CN="Melanie Hetrick":MAILTO:mhetrick@co.tillamook.or.us
END:VEVENT
BEGIN:VEVENT
DTSTART;TZID=America/Los_Angeles:20261013T100000
DTEND;TZID=America/Los_Angeles:20261013T110000
DTSTAMP:20260421T213512
CREATED:20230113T201225Z
LAST-MODIFIED:20230124T214552Z
UID:10020125-1791885600-1791889200@tillamookchamber.org
SUMMARY:Tillamook Main Library Storytime: Terrific Twos
DESCRIPTION:Terrific Twos (TT) on Tues @ 10am; developmentally appropriate for 24-36mos; bubbles\, balls\, parachute & instruments! There is no expectation that your children will sit still or be quiet. It’s not developmentally appropriate to ask them to. \nA couple of things about the children’s room that might set you at ease: \n\nThere is no expectation that it will be a quiet zone; kids are kids and they are allowed to act themselves in the children’s room.\nOnly 2 hard and fast rules: No Running & No Screaming.\nIf your child needs a snack\, feed them!
URL:https://tillamookchamber.org/event/tillamook-main-library-storytime-terrific-twos/2026-10-13/
LOCATION:Tillamook Main Library\, Tillamook\, 1716 3rd St\, Tillamook\, OR\, 97141\, United States
CATEGORIES:Education,Family Fun
ATTACH;FMTTYPE=image/jpeg:https://tillamookchamber.org/wp-content/uploads/2023/01/TCL-white.jpg
ORGANIZER;CN="Melanie Hetrick":MAILTO:mhetrick@co.tillamook.or.us
END:VEVENT
BEGIN:VEVENT
DTSTART;TZID=America/Los_Angeles:20261014T100000
DTEND;TZID=America/Los_Angeles:20261014T110000
DTSTAMP:20260421T213512
CREATED:20230113T205344Z
LAST-MODIFIED:20230113T205344Z
UID:10019484-1791972000-1791975600@tillamookchamber.org
SUMMARY:Tillamook Main Library Storytime: Preschool
DESCRIPTION:Preschool storytime (PS) on Wed @ 10; developmentally appropriate for 3-5 yos; music\, stories\, interactive play and lots of laughs! In this class little begin to learn about a leader at the front of the room\, how to hold their wiggles\, listening and sitting still. When a child is transitioning from TT to PS my expectation is that they will sit for 5-10 minutes and then they might go play. I do not force them to sit still if they are not ready to. \nA couple of things about the children’s room that might set you at ease: \n\nThere is no expectation that it will be a quiet zone; kids are kids and they are allowed to act like themselves in the children’s room.\nOnly 2 hard and fast rules: No Running & No Screaming.\nIf your child needs a snack\, feed them!
URL:https://tillamookchamber.org/event/tillamook-main-library-storytime-preschool/2026-10-14/
LOCATION:Tillamook Main Library\, Tillamook\, 1716 3rd St\, Tillamook\, OR\, 97141\, United States
CATEGORIES:Education,Family Fun
ATTACH;FMTTYPE=image/png:https://tillamookchamber.org/wp-content/uploads/2023/01/TCL-transparent-logo.png
ORGANIZER;CN="Melanie Hetrick":MAILTO:mhetrick@co.tillamook.or.us
END:VEVENT
BEGIN:VEVENT
DTSTART;TZID=America/Los_Angeles:20261015T160000
DTEND;TZID=America/Los_Angeles:20261015T173000
DTSTAMP:20260421T213512
CREATED:20240822T191911Z
LAST-MODIFIED:20240822T191911Z
UID:10015674-1792080000-1792085400@tillamookchamber.org
SUMMARY:Knitting Group
DESCRIPTION:Join a fun group of knitters at North Tillamook Library in Manzanita on Thursdays from 4pm to 5:30pm.
URL:https://tillamookchamber.org/event/knitting-group/2026-10-15/
LOCATION:North Tillamook Library\, 571 Laneda Ave\, Manzanita\, OR 97130
CATEGORIES:Community,Education
ATTACH;FMTTYPE=image/png:https://tillamookchamber.org/wp-content/uploads/2024/08/logo.png
END:VEVENT
BEGIN:VEVENT
DTSTART;TZID=America/Los_Angeles:20261016T100000
DTEND;TZID=America/Los_Angeles:20261016T110000
DTSTAMP:20260421T213512
CREATED:20230113T205450Z
LAST-MODIFIED:20230113T205556Z
UID:10019805-1792144800-1792148400@tillamookchamber.org
SUMMARY:Tillamook Main Library Storytime: Mother Goose on the Loose
DESCRIPTION:Mother Goose on the Loose (MGOL) on Fri @ 10am; developmentally appropriate for birth to 24mos; rhythm\, rhymes\, instruments\, scarves and puppets! There is no expectation that your children will sit still or be quiet. It’s not developmentally appropriate to ask them to.
URL:https://tillamookchamber.org/event/tillamook-main-library-storytime-mother-goose-on-the-loose/2026-10-16/
LOCATION:Tillamook Main Library\, Tillamook\, 1716 3rd St\, Tillamook\, OR\, 97141\, United States
CATEGORIES:Education,Family Fun
ATTACH;FMTTYPE=image/png:https://tillamookchamber.org/wp-content/uploads/2023/01/TCL-transparent-logo-1.png
ORGANIZER;CN="Melanie Hetrick":MAILTO:mhetrick@co.tillamook.or.us
END:VEVENT
BEGIN:VEVENT
DTSTART;TZID=America/Los_Angeles:20261020T100000
DTEND;TZID=America/Los_Angeles:20261020T110000
DTSTAMP:20260421T213512
CREATED:20230113T201225Z
LAST-MODIFIED:20230124T214552Z
UID:10020126-1792490400-1792494000@tillamookchamber.org
SUMMARY:Tillamook Main Library Storytime: Terrific Twos
DESCRIPTION:Terrific Twos (TT) on Tues @ 10am; developmentally appropriate for 24-36mos; bubbles\, balls\, parachute & instruments! There is no expectation that your children will sit still or be quiet. It’s not developmentally appropriate to ask them to. \nA couple of things about the children’s room that might set you at ease: \n\nThere is no expectation that it will be a quiet zone; kids are kids and they are allowed to act themselves in the children’s room.\nOnly 2 hard and fast rules: No Running & No Screaming.\nIf your child needs a snack\, feed them!
URL:https://tillamookchamber.org/event/tillamook-main-library-storytime-terrific-twos/2026-10-20/
LOCATION:Tillamook Main Library\, Tillamook\, 1716 3rd St\, Tillamook\, OR\, 97141\, United States
CATEGORIES:Education,Family Fun
ATTACH;FMTTYPE=image/jpeg:https://tillamookchamber.org/wp-content/uploads/2023/01/TCL-white.jpg
ORGANIZER;CN="Melanie Hetrick":MAILTO:mhetrick@co.tillamook.or.us
END:VEVENT
BEGIN:VEVENT
DTSTART;TZID=America/Los_Angeles:20261021T100000
DTEND;TZID=America/Los_Angeles:20261021T110000
DTSTAMP:20260421T213512
CREATED:20230113T205344Z
LAST-MODIFIED:20230113T205344Z
UID:10019485-1792576800-1792580400@tillamookchamber.org
SUMMARY:Tillamook Main Library Storytime: Preschool
DESCRIPTION:Preschool storytime (PS) on Wed @ 10; developmentally appropriate for 3-5 yos; music\, stories\, interactive play and lots of laughs! In this class little begin to learn about a leader at the front of the room\, how to hold their wiggles\, listening and sitting still. When a child is transitioning from TT to PS my expectation is that they will sit for 5-10 minutes and then they might go play. I do not force them to sit still if they are not ready to. \nA couple of things about the children’s room that might set you at ease: \n\nThere is no expectation that it will be a quiet zone; kids are kids and they are allowed to act like themselves in the children’s room.\nOnly 2 hard and fast rules: No Running & No Screaming.\nIf your child needs a snack\, feed them!
URL:https://tillamookchamber.org/event/tillamook-main-library-storytime-preschool/2026-10-21/
LOCATION:Tillamook Main Library\, Tillamook\, 1716 3rd St\, Tillamook\, OR\, 97141\, United States
CATEGORIES:Education,Family Fun
ATTACH;FMTTYPE=image/png:https://tillamookchamber.org/wp-content/uploads/2023/01/TCL-transparent-logo.png
ORGANIZER;CN="Melanie Hetrick":MAILTO:mhetrick@co.tillamook.or.us
END:VEVENT
BEGIN:VEVENT
DTSTART;TZID=America/Los_Angeles:20261022T090000
DTEND;TZID=America/Los_Angeles:20261022T100000
DTSTAMP:20260421T213512
CREATED:20260211T171226Z
LAST-MODIFIED:20260211T171226Z
UID:10029422-1792659600-1792663200@tillamookchamber.org
SUMMARY:Virtual Grief Support Groups
DESCRIPTION:Grief touches every part of life\, often in ways we never expected. Whether you are navigating the loss of a loved one\, a major life\nchange\, or the overwhelming emotions that follow loss of any kind\, you don’t have to face it alone. \nThese groups offer gentle guidance\, practical tools\, and heartfelt support to help you move through your grief at your own pace. \nVirtual groups co-led by:\nCami Aufdermauer\, Bereavement Coordinator and Chaplain\nDr. Pam Strachan\, Board-Certified Chaplain and Bereavement Specialist \nVirtual Grief Support Groups\nOccurs the first and last Thursday of every month for one hour starting at 9 a.m.\nRegistration required visiting ahlink.org/tillamookgg
URL:https://tillamookchamber.org/event/virtual-grief-support-groups-2/2026-10-22/
CATEGORIES:Community,Education
ATTACH;FMTTYPE=image/jpeg:https://tillamookchamber.org/wp-content/uploads/2026/02/2026-Grief-Groups-2-Flyer-Single-Page.jpg
END:VEVENT
BEGIN:VEVENT
DTSTART;TZID=America/Los_Angeles:20261022T160000
DTEND;TZID=America/Los_Angeles:20261022T173000
DTSTAMP:20260421T213512
CREATED:20240822T191911Z
LAST-MODIFIED:20240822T191911Z
UID:10015675-1792684800-1792690200@tillamookchamber.org
SUMMARY:Knitting Group
DESCRIPTION:Join a fun group of knitters at North Tillamook Library in Manzanita on Thursdays from 4pm to 5:30pm.
URL:https://tillamookchamber.org/event/knitting-group/2026-10-22/
LOCATION:North Tillamook Library\, 571 Laneda Ave\, Manzanita\, OR 97130
CATEGORIES:Community,Education
ATTACH;FMTTYPE=image/png:https://tillamookchamber.org/wp-content/uploads/2024/08/logo.png
END:VEVENT
BEGIN:VEVENT
DTSTART;TZID=America/Los_Angeles:20261023T100000
DTEND;TZID=America/Los_Angeles:20261023T110000
DTSTAMP:20260421T213512
CREATED:20230113T205450Z
LAST-MODIFIED:20230113T205556Z
UID:10019806-1792749600-1792753200@tillamookchamber.org
SUMMARY:Tillamook Main Library Storytime: Mother Goose on the Loose
DESCRIPTION:Mother Goose on the Loose (MGOL) on Fri @ 10am; developmentally appropriate for birth to 24mos; rhythm\, rhymes\, instruments\, scarves and puppets! There is no expectation that your children will sit still or be quiet. It’s not developmentally appropriate to ask them to.
URL:https://tillamookchamber.org/event/tillamook-main-library-storytime-mother-goose-on-the-loose/2026-10-23/
LOCATION:Tillamook Main Library\, Tillamook\, 1716 3rd St\, Tillamook\, OR\, 97141\, United States
CATEGORIES:Education,Family Fun
ATTACH;FMTTYPE=image/png:https://tillamookchamber.org/wp-content/uploads/2023/01/TCL-transparent-logo-1.png
ORGANIZER;CN="Melanie Hetrick":MAILTO:mhetrick@co.tillamook.or.us
END:VEVENT
BEGIN:VEVENT
DTSTART;TZID=America/Los_Angeles:20261027T100000
DTEND;TZID=America/Los_Angeles:20261027T110000
DTSTAMP:20260421T213512
CREATED:20230113T201225Z
LAST-MODIFIED:20230124T214552Z
UID:10020127-1793095200-1793098800@tillamookchamber.org
SUMMARY:Tillamook Main Library Storytime: Terrific Twos
DESCRIPTION:Terrific Twos (TT) on Tues @ 10am; developmentally appropriate for 24-36mos; bubbles\, balls\, parachute & instruments! There is no expectation that your children will sit still or be quiet. It’s not developmentally appropriate to ask them to. \nA couple of things about the children’s room that might set you at ease: \n\nThere is no expectation that it will be a quiet zone; kids are kids and they are allowed to act themselves in the children’s room.\nOnly 2 hard and fast rules: No Running & No Screaming.\nIf your child needs a snack\, feed them!
URL:https://tillamookchamber.org/event/tillamook-main-library-storytime-terrific-twos/2026-10-27/
LOCATION:Tillamook Main Library\, Tillamook\, 1716 3rd St\, Tillamook\, OR\, 97141\, United States
CATEGORIES:Education,Family Fun
ATTACH;FMTTYPE=image/jpeg:https://tillamookchamber.org/wp-content/uploads/2023/01/TCL-white.jpg
ORGANIZER;CN="Melanie Hetrick":MAILTO:mhetrick@co.tillamook.or.us
END:VEVENT
BEGIN:VEVENT
DTSTART;TZID=America/Los_Angeles:20261028T100000
DTEND;TZID=America/Los_Angeles:20261028T110000
DTSTAMP:20260421T213512
CREATED:20230113T205344Z
LAST-MODIFIED:20230113T205344Z
UID:10019486-1793181600-1793185200@tillamookchamber.org
SUMMARY:Tillamook Main Library Storytime: Preschool
DESCRIPTION:Preschool storytime (PS) on Wed @ 10; developmentally appropriate for 3-5 yos; music\, stories\, interactive play and lots of laughs! In this class little begin to learn about a leader at the front of the room\, how to hold their wiggles\, listening and sitting still. When a child is transitioning from TT to PS my expectation is that they will sit for 5-10 minutes and then they might go play. I do not force them to sit still if they are not ready to. \nA couple of things about the children’s room that might set you at ease: \n\nThere is no expectation that it will be a quiet zone; kids are kids and they are allowed to act like themselves in the children’s room.\nOnly 2 hard and fast rules: No Running & No Screaming.\nIf your child needs a snack\, feed them!
URL:https://tillamookchamber.org/event/tillamook-main-library-storytime-preschool/2026-10-28/
LOCATION:Tillamook Main Library\, Tillamook\, 1716 3rd St\, Tillamook\, OR\, 97141\, United States
CATEGORIES:Education,Family Fun
ATTACH;FMTTYPE=image/png:https://tillamookchamber.org/wp-content/uploads/2023/01/TCL-transparent-logo.png
ORGANIZER;CN="Melanie Hetrick":MAILTO:mhetrick@co.tillamook.or.us
END:VEVENT
BEGIN:VEVENT
DTSTART;TZID=America/Los_Angeles:20261029T160000
DTEND;TZID=America/Los_Angeles:20261029T173000
DTSTAMP:20260421T213512
CREATED:20240822T191911Z
LAST-MODIFIED:20240822T191911Z
UID:10015676-1793289600-1793295000@tillamookchamber.org
SUMMARY:Knitting Group
DESCRIPTION:Join a fun group of knitters at North Tillamook Library in Manzanita on Thursdays from 4pm to 5:30pm.
URL:https://tillamookchamber.org/event/knitting-group/2026-10-29/
LOCATION:North Tillamook Library\, 571 Laneda Ave\, Manzanita\, OR 97130
CATEGORIES:Community,Education
ATTACH;FMTTYPE=image/png:https://tillamookchamber.org/wp-content/uploads/2024/08/logo.png
END:VEVENT
BEGIN:VEVENT
DTSTART;TZID=America/Los_Angeles:20261030T100000
DTEND;TZID=America/Los_Angeles:20261030T110000
DTSTAMP:20260421T213512
CREATED:20230113T205450Z
LAST-MODIFIED:20230113T205556Z
UID:10019807-1793354400-1793358000@tillamookchamber.org
SUMMARY:Tillamook Main Library Storytime: Mother Goose on the Loose
DESCRIPTION:Mother Goose on the Loose (MGOL) on Fri @ 10am; developmentally appropriate for birth to 24mos; rhythm\, rhymes\, instruments\, scarves and puppets! There is no expectation that your children will sit still or be quiet. It’s not developmentally appropriate to ask them to.
URL:https://tillamookchamber.org/event/tillamook-main-library-storytime-mother-goose-on-the-loose/2026-10-30/
LOCATION:Tillamook Main Library\, Tillamook\, 1716 3rd St\, Tillamook\, OR\, 97141\, United States
CATEGORIES:Education,Family Fun
ATTACH;FMTTYPE=image/png:https://tillamookchamber.org/wp-content/uploads/2023/01/TCL-transparent-logo-1.png
ORGANIZER;CN="Melanie Hetrick":MAILTO:mhetrick@co.tillamook.or.us
END:VEVENT
END:VCALENDAR