BEGIN:VCALENDAR
VERSION:2.0
PRODID:-//Tillamook Area Chamber of Commerce - ECPv6.15.20//NONSGML v1.0//EN
CALSCALE:GREGORIAN
METHOD:PUBLISH
X-WR-CALNAME:Tillamook Area Chamber of Commerce
X-ORIGINAL-URL:https://tillamookchamber.org
X-WR-CALDESC:Events for Tillamook Area Chamber of Commerce
REFRESH-INTERVAL;VALUE=DURATION:PT1H
X-Robots-Tag:noindex
X-PUBLISHED-TTL:PT1H
BEGIN:VTIMEZONE
TZID:America/Los_Angeles
BEGIN:DAYLIGHT
TZOFFSETFROM:-0800
TZOFFSETTO:-0700
TZNAME:PDT
DTSTART:20240310T100000
END:DAYLIGHT
BEGIN:STANDARD
TZOFFSETFROM:-0700
TZOFFSETTO:-0800
TZNAME:PST
DTSTART:20241103T090000
END:STANDARD
BEGIN:DAYLIGHT
TZOFFSETFROM:-0800
TZOFFSETTO:-0700
TZNAME:PDT
DTSTART:20250309T100000
END:DAYLIGHT
BEGIN:STANDARD
TZOFFSETFROM:-0700
TZOFFSETTO:-0800
TZNAME:PST
DTSTART:20251102T090000
END:STANDARD
BEGIN:DAYLIGHT
TZOFFSETFROM:-0800
TZOFFSETTO:-0700
TZNAME:PDT
DTSTART:20260308T100000
END:DAYLIGHT
BEGIN:STANDARD
TZOFFSETFROM:-0700
TZOFFSETTO:-0800
TZNAME:PST
DTSTART:20261101T090000
END:STANDARD
END:VTIMEZONE
BEGIN:VEVENT
DTSTART;TZID=America/Los_Angeles:20250701T100000
DTEND;TZID=America/Los_Angeles:20250701T150000
DTSTAMP:20260422T135330
CREATED:20241023T224303Z
LAST-MODIFIED:20241023T224303Z
UID:10016567-1751364000-1751382000@tillamookchamber.org
SUMMARY:Tuesday Stitchers
DESCRIPTION:Come and be a part of a community of people who love to make things for others\, and in turn make friends within the group. All levels are welcome. \nJoin us at the Kiawanda Community Center on Tuesdays from 10 AM to 3 PM in the Great Hall. \nFirst Monday every month from 4 to 9 PM. \nCall (503) 965-7900 for more details | $6 admission
URL:https://tillamookchamber.org/event/tuesday-stitchers/2025-07-01/
LOCATION:Kiawanda Community Center\, 34600 Cape Kiwanda Dr\, Pacific City\, OR 97135\, OR\, United States
CATEGORIES:Classes and Workshops,Community
ATTACH;FMTTYPE=image/png:https://tillamookchamber.org/wp-content/uploads/2024/10/Tuesday-Stitchers-Group-Flyer.png
END:VEVENT
BEGIN:VEVENT
DTSTART;TZID=America/Los_Angeles:20250708T100000
DTEND;TZID=America/Los_Angeles:20250708T150000
DTSTAMP:20260422T135330
CREATED:20241023T224303Z
LAST-MODIFIED:20241023T224303Z
UID:10016568-1751968800-1751986800@tillamookchamber.org
SUMMARY:Tuesday Stitchers
DESCRIPTION:Come and be a part of a community of people who love to make things for others\, and in turn make friends within the group. All levels are welcome. \nJoin us at the Kiawanda Community Center on Tuesdays from 10 AM to 3 PM in the Great Hall. \nFirst Monday every month from 4 to 9 PM. \nCall (503) 965-7900 for more details | $6 admission
URL:https://tillamookchamber.org/event/tuesday-stitchers/2025-07-08/
LOCATION:Kiawanda Community Center\, 34600 Cape Kiwanda Dr\, Pacific City\, OR 97135\, OR\, United States
CATEGORIES:Classes and Workshops,Community
ATTACH;FMTTYPE=image/png:https://tillamookchamber.org/wp-content/uploads/2024/10/Tuesday-Stitchers-Group-Flyer.png
END:VEVENT
BEGIN:VEVENT
DTSTART;TZID=America/Los_Angeles:20250712T130000
DTEND;TZID=America/Los_Angeles:20250712T140000
DTSTAMP:20260422T135330
CREATED:20250626T233929Z
LAST-MODIFIED:20250626T233929Z
UID:10022676-1752325200-1752328800@tillamookchamber.org
SUMMARY:July Crafternoon at Tillamook Library
DESCRIPTION:Make pressed flower creations at the library on Saturday July 12th at 1 pm! \n 
URL:https://tillamookchamber.org/event/july-crafternoon-at-tillamook-library/
LOCATION:Tillamook County Library\, 1716 3rd Street Tillamook Oregon 97141
CATEGORIES:Classes and Workshops,Community
ATTACH;FMTTYPE=image/png:https://tillamookchamber.org/wp-content/uploads/2025/06/Crafternoon-071225-TM.png
END:VEVENT
BEGIN:VEVENT
DTSTART;TZID=America/Los_Angeles:20250715T100000
DTEND;TZID=America/Los_Angeles:20250715T150000
DTSTAMP:20260422T135330
CREATED:20241023T224303Z
LAST-MODIFIED:20241023T224303Z
UID:10016569-1752573600-1752591600@tillamookchamber.org
SUMMARY:Tuesday Stitchers
DESCRIPTION:Come and be a part of a community of people who love to make things for others\, and in turn make friends within the group. All levels are welcome. \nJoin us at the Kiawanda Community Center on Tuesdays from 10 AM to 3 PM in the Great Hall. \nFirst Monday every month from 4 to 9 PM. \nCall (503) 965-7900 for more details | $6 admission
URL:https://tillamookchamber.org/event/tuesday-stitchers/2025-07-15/
LOCATION:Kiawanda Community Center\, 34600 Cape Kiwanda Dr\, Pacific City\, OR 97135\, OR\, United States
CATEGORIES:Classes and Workshops,Community
ATTACH;FMTTYPE=image/png:https://tillamookchamber.org/wp-content/uploads/2024/10/Tuesday-Stitchers-Group-Flyer.png
END:VEVENT
BEGIN:VEVENT
DTSTART;TZID=America/Los_Angeles:20250715T110000
DTEND;TZID=America/Los_Angeles:20250715T120000
DTSTAMP:20260422T135330
CREATED:20250623T165225Z
LAST-MODIFIED:20250623T165225Z
UID:10022281-1752577200-1752580800@tillamookchamber.org
SUMMARY:Summer Reading Program at Garibaldi Library
DESCRIPTION:
URL:https://tillamookchamber.org/event/summer-reading-program-at-garibaldi-library/2025-07-15/
CATEGORIES:Classes and Workshops,Community,Family Fun
ATTACH;FMTTYPE=image/png:https://tillamookchamber.org/wp-content/uploads/2025/06/Garibaldi-SRP-Schedule.png
END:VEVENT
BEGIN:VEVENT
DTSTART;TZID=America/Los_Angeles:20250715T140000
DTEND;TZID=America/Los_Angeles:20250715T150000
DTSTAMP:20260422T135330
CREATED:20250623T162410Z
LAST-MODIFIED:20250623T162410Z
UID:10022130-1752588000-1752591600@tillamookchamber.org
SUMMARY:Book Club at Garibaldi Library
DESCRIPTION:Join us at the Garibaldi Branch Library on the third Tuesday of each month for a book club meeting at 2 pm. Pick up the book anytime before the meeting at the Garibaldi library.
URL:https://tillamookchamber.org/event/book-club-at-garibaldi-library/2025-07-15/
LOCATION:Garibaldi Library\, 107 6th St\, Garibaldi OR
CATEGORIES:Classes and Workshops,Community
ATTACH;FMTTYPE=image/png:https://tillamookchamber.org/wp-content/uploads/2025/06/Garibaldi-Branch-Book-Club.png
END:VEVENT
BEGIN:VEVENT
DTSTART;TZID=America/Los_Angeles:20250718T113000
DTEND;TZID=America/Los_Angeles:20250718T123000
DTSTAMP:20260422T135330
CREATED:20250623T164034Z
LAST-MODIFIED:20250623T164135Z
UID:10022278-1752838200-1752841800@tillamookchamber.org
SUMMARY:Anime Your Way Workshop at Garibaldi Library
DESCRIPTION:
URL:https://tillamookchamber.org/event/anime-your-way-workshop-at-garibaldi-library/
LOCATION:Garibaldi Library\, 107 6th St\, Garibaldi OR
CATEGORIES:Classes and Workshops,Family Fun
ATTACH;FMTTYPE=image/png:https://tillamookchamber.org/wp-content/uploads/2025/06/Anime-Your-Way-071825-TG.png
END:VEVENT
BEGIN:VEVENT
DTSTART;TZID=America/Los_Angeles:20250718T113000
DTEND;TZID=America/Los_Angeles:20250718T123000
DTSTAMP:20260422T135330
CREATED:20250623T165225Z
LAST-MODIFIED:20250623T165225Z
UID:10022282-1752838200-1752841800@tillamookchamber.org
SUMMARY:Summer Reading Program at Garibaldi Library
DESCRIPTION:
URL:https://tillamookchamber.org/event/summer-reading-program-at-garibaldi-library/2025-07-18/
CATEGORIES:Classes and Workshops,Community,Family Fun
ATTACH;FMTTYPE=image/png:https://tillamookchamber.org/wp-content/uploads/2025/06/Garibaldi-SRP-Schedule.png
END:VEVENT
BEGIN:VEVENT
DTSTART;TZID=America/Los_Angeles:20250722T100000
DTEND;TZID=America/Los_Angeles:20250722T150000
DTSTAMP:20260422T135330
CREATED:20241023T224303Z
LAST-MODIFIED:20241023T224303Z
UID:10016570-1753178400-1753196400@tillamookchamber.org
SUMMARY:Tuesday Stitchers
DESCRIPTION:Come and be a part of a community of people who love to make things for others\, and in turn make friends within the group. All levels are welcome. \nJoin us at the Kiawanda Community Center on Tuesdays from 10 AM to 3 PM in the Great Hall. \nFirst Monday every month from 4 to 9 PM. \nCall (503) 965-7900 for more details | $6 admission
URL:https://tillamookchamber.org/event/tuesday-stitchers/2025-07-22/
LOCATION:Kiawanda Community Center\, 34600 Cape Kiwanda Dr\, Pacific City\, OR 97135\, OR\, United States
CATEGORIES:Classes and Workshops,Community
ATTACH;FMTTYPE=image/png:https://tillamookchamber.org/wp-content/uploads/2024/10/Tuesday-Stitchers-Group-Flyer.png
END:VEVENT
BEGIN:VEVENT
DTSTART;TZID=America/Los_Angeles:20250723T140000
DTEND;TZID=America/Los_Angeles:20250723T150000
DTSTAMP:20260422T135330
CREATED:20250623T165225Z
LAST-MODIFIED:20250623T165225Z
UID:10022283-1753279200-1753282800@tillamookchamber.org
SUMMARY:Summer Reading Program at Garibaldi Library
DESCRIPTION:
URL:https://tillamookchamber.org/event/summer-reading-program-at-garibaldi-library/2025-07-23/
CATEGORIES:Classes and Workshops,Community,Family Fun
ATTACH;FMTTYPE=image/png:https://tillamookchamber.org/wp-content/uploads/2025/06/Garibaldi-SRP-Schedule.png
END:VEVENT
BEGIN:VEVENT
DTSTART;TZID=America/Los_Angeles:20250726T090000
DTEND;TZID=America/Los_Angeles:20250726T100000
DTSTAMP:20260422T135330
CREATED:20250728T163640Z
LAST-MODIFIED:20250728T163640Z
UID:10023522-1753520400-1753524000@tillamookchamber.org
SUMMARY:Yoga With Dawn
DESCRIPTION:🧘‍♀️ Yoga with Dawn – Find Your Flow! 🧘‍♂️ \nStart your day with peace\, strength\, and positive energy 🌞Join Dawn for a refreshing yoga class every: \n🗓️ Monday\, Wednesday\, Friday & Saturday🕘 9:00 AM – 10:00 AM📍 Kiawanda Community Center \nAll levels are welcome—whether you’re new to yoga or a seasoned pro\, Dawn’s calm guidance and supportive atmosphere will leave you feeling refreshed and centered. \n✨ Bring a mat\, some water\, and a smile.No registration needed—just drop in and breathe it out with us! \n#YogaWithDawn #KiawandaCommunityCenter #MorningYoga #WellnessInPacificCity #MindBodySoul
URL:https://tillamookchamber.org/event/yoga-with-dawn/2025-07-26/
LOCATION:Kiawanda Community Center\, 34600 Cape Kiwanda Dr\, Pacific City\, OR 97135\, OR\, United States
CATEGORIES:Classes and Workshops,Community
ATTACH;FMTTYPE=image/jpeg:https://tillamookchamber.org/wp-content/uploads/2025/07/yoga.jpg
END:VEVENT
BEGIN:VEVENT
DTSTART;TZID=America/Los_Angeles:20250726T140000
DTEND;TZID=America/Los_Angeles:20250726T150000
DTSTAMP:20260422T135330
CREATED:20250623T165225Z
LAST-MODIFIED:20250623T165225Z
UID:10022284-1753538400-1753542000@tillamookchamber.org
SUMMARY:Summer Reading Program at Garibaldi Library
DESCRIPTION:
URL:https://tillamookchamber.org/event/summer-reading-program-at-garibaldi-library/2025-07-26/
CATEGORIES:Classes and Workshops,Community,Family Fun
ATTACH;FMTTYPE=image/png:https://tillamookchamber.org/wp-content/uploads/2025/06/Garibaldi-SRP-Schedule.png
END:VEVENT
BEGIN:VEVENT
DTSTART;TZID=America/Los_Angeles:20250728T090000
DTEND;TZID=America/Los_Angeles:20250728T100000
DTSTAMP:20260422T135330
CREATED:20250728T163640Z
LAST-MODIFIED:20250728T163640Z
UID:10023523-1753693200-1753696800@tillamookchamber.org
SUMMARY:Yoga With Dawn
DESCRIPTION:🧘‍♀️ Yoga with Dawn – Find Your Flow! 🧘‍♂️ \nStart your day with peace\, strength\, and positive energy 🌞Join Dawn for a refreshing yoga class every: \n🗓️ Monday\, Wednesday\, Friday & Saturday🕘 9:00 AM – 10:00 AM📍 Kiawanda Community Center \nAll levels are welcome—whether you’re new to yoga or a seasoned pro\, Dawn’s calm guidance and supportive atmosphere will leave you feeling refreshed and centered. \n✨ Bring a mat\, some water\, and a smile.No registration needed—just drop in and breathe it out with us! \n#YogaWithDawn #KiawandaCommunityCenter #MorningYoga #WellnessInPacificCity #MindBodySoul
URL:https://tillamookchamber.org/event/yoga-with-dawn/2025-07-28/
LOCATION:Kiawanda Community Center\, 34600 Cape Kiwanda Dr\, Pacific City\, OR 97135\, OR\, United States
CATEGORIES:Classes and Workshops,Community
ATTACH;FMTTYPE=image/jpeg:https://tillamookchamber.org/wp-content/uploads/2025/07/yoga.jpg
END:VEVENT
BEGIN:VEVENT
DTSTART;TZID=America/Los_Angeles:20250728T173000
DTEND;TZID=America/Los_Angeles:20250728T193000
DTSTAMP:20260422T135330
CREATED:20250728T163956Z
LAST-MODIFIED:20250728T163956Z
UID:10023261-1753723800-1753731000@tillamookchamber.org
SUMMARY:Popup Art Class
DESCRIPTION:Enjoy two hours of fun and laughter at the KCC! \nThese painting workshops are about expanding your creative side and connecting with friends and family\, as well as walking away with a memento of this memorable experience!
URL:https://tillamookchamber.org/event/popup-art-class/
LOCATION:Kiawanda Community Center\, 34600 Cape Kiwanda Dr\, Pacific City\, OR 97135\, OR\, United States
CATEGORIES:Classes and Workshops,Community
END:VEVENT
BEGIN:VEVENT
DTSTART;TZID=America/Los_Angeles:20250729T100000
DTEND;TZID=America/Los_Angeles:20250729T150000
DTSTAMP:20260422T135330
CREATED:20241023T224303Z
LAST-MODIFIED:20241023T224303Z
UID:10016571-1753783200-1753801200@tillamookchamber.org
SUMMARY:Tuesday Stitchers
DESCRIPTION:Come and be a part of a community of people who love to make things for others\, and in turn make friends within the group. All levels are welcome. \nJoin us at the Kiawanda Community Center on Tuesdays from 10 AM to 3 PM in the Great Hall. \nFirst Monday every month from 4 to 9 PM. \nCall (503) 965-7900 for more details | $6 admission
URL:https://tillamookchamber.org/event/tuesday-stitchers/2025-07-29/
LOCATION:Kiawanda Community Center\, 34600 Cape Kiwanda Dr\, Pacific City\, OR 97135\, OR\, United States
CATEGORIES:Classes and Workshops,Community
ATTACH;FMTTYPE=image/png:https://tillamookchamber.org/wp-content/uploads/2024/10/Tuesday-Stitchers-Group-Flyer.png
END:VEVENT
BEGIN:VEVENT
DTSTART;TZID=America/Los_Angeles:20250731T090000
DTEND;TZID=America/Los_Angeles:20250731T100000
DTSTAMP:20260422T135330
CREATED:20250728T163640Z
LAST-MODIFIED:20250728T163640Z
UID:10023524-1753952400-1753956000@tillamookchamber.org
SUMMARY:Yoga With Dawn
DESCRIPTION:🧘‍♀️ Yoga with Dawn – Find Your Flow! 🧘‍♂️ \nStart your day with peace\, strength\, and positive energy 🌞Join Dawn for a refreshing yoga class every: \n🗓️ Monday\, Wednesday\, Friday & Saturday🕘 9:00 AM – 10:00 AM📍 Kiawanda Community Center \nAll levels are welcome—whether you’re new to yoga or a seasoned pro\, Dawn’s calm guidance and supportive atmosphere will leave you feeling refreshed and centered. \n✨ Bring a mat\, some water\, and a smile.No registration needed—just drop in and breathe it out with us! \n#YogaWithDawn #KiawandaCommunityCenter #MorningYoga #WellnessInPacificCity #MindBodySoul
URL:https://tillamookchamber.org/event/yoga-with-dawn/2025-07-31/
LOCATION:Kiawanda Community Center\, 34600 Cape Kiwanda Dr\, Pacific City\, OR 97135\, OR\, United States
CATEGORIES:Classes and Workshops,Community
ATTACH;FMTTYPE=image/jpeg:https://tillamookchamber.org/wp-content/uploads/2025/07/yoga.jpg
END:VEVENT
END:VCALENDAR