BEGIN:VCALENDAR
VERSION:2.0
PRODID:-//Tillamook Area Chamber of Commerce - ECPv6.15.20//NONSGML v1.0//EN
CALSCALE:GREGORIAN
METHOD:PUBLISH
X-WR-CALNAME:Tillamook Area Chamber of Commerce
X-ORIGINAL-URL:https://tillamookchamber.org
X-WR-CALDESC:Events for Tillamook Area Chamber of Commerce
REFRESH-INTERVAL;VALUE=DURATION:PT1H
X-Robots-Tag:noindex
X-PUBLISHED-TTL:PT1H
BEGIN:VTIMEZONE
TZID:America/Los_Angeles
BEGIN:DAYLIGHT
TZOFFSETFROM:-0800
TZOFFSETTO:-0700
TZNAME:PDT
DTSTART:20240310T100000
END:DAYLIGHT
BEGIN:STANDARD
TZOFFSETFROM:-0700
TZOFFSETTO:-0800
TZNAME:PST
DTSTART:20241103T090000
END:STANDARD
BEGIN:DAYLIGHT
TZOFFSETFROM:-0800
TZOFFSETTO:-0700
TZNAME:PDT
DTSTART:20250309T100000
END:DAYLIGHT
BEGIN:STANDARD
TZOFFSETFROM:-0700
TZOFFSETTO:-0800
TZNAME:PST
DTSTART:20251102T090000
END:STANDARD
BEGIN:DAYLIGHT
TZOFFSETFROM:-0800
TZOFFSETTO:-0700
TZNAME:PDT
DTSTART:20260308T100000
END:DAYLIGHT
BEGIN:STANDARD
TZOFFSETFROM:-0700
TZOFFSETTO:-0800
TZNAME:PST
DTSTART:20261101T090000
END:STANDARD
END:VTIMEZONE
BEGIN:VEVENT
DTSTART;TZID=America/Los_Angeles:20250603T100000
DTEND;TZID=America/Los_Angeles:20250603T150000
DTSTAMP:20260422T203111
CREATED:20241023T224303Z
LAST-MODIFIED:20241023T224303Z
UID:10016563-1748944800-1748962800@tillamookchamber.org
SUMMARY:Tuesday Stitchers
DESCRIPTION:Come and be a part of a community of people who love to make things for others\, and in turn make friends within the group. All levels are welcome. \nJoin us at the Kiawanda Community Center on Tuesdays from 10 AM to 3 PM in the Great Hall. \nFirst Monday every month from 4 to 9 PM. \nCall (503) 965-7900 for more details | $6 admission
URL:https://tillamookchamber.org/event/tuesday-stitchers/2025-06-03/
LOCATION:Kiawanda Community Center\, 34600 Cape Kiwanda Dr\, Pacific City\, OR 97135\, OR\, United States
CATEGORIES:Classes and Workshops,Community
ATTACH;FMTTYPE=image/png:https://tillamookchamber.org/wp-content/uploads/2024/10/Tuesday-Stitchers-Group-Flyer.png
END:VEVENT
BEGIN:VEVENT
DTSTART;TZID=America/Los_Angeles:20250604T120000
DTEND;TZID=America/Los_Angeles:20250604T130000
DTSTAMP:20260422T203111
CREATED:20250529T181803Z
LAST-MODIFIED:20250529T181803Z
UID:10021938-1749038400-1749042000@tillamookchamber.org
SUMMARY:New laws and workplace protections: What employers need to know
DESCRIPTION:What should employers know when a leave event qualifies for protection under Oregon Paid Leave\, OFLA and FMLA? When can an employer require – or not require – a valid driver’s license on a job application? What obligations do employers have to inform employees when a federal audit is imminent? \nJoin BOLI learning and development specialist Charlie Burr for a discussion based on recent employment law updates\, including emerging enforcement trends and new laws affecting Oregon workplaces. This interactive session will help your organization manage risk and avoid potential BOLI complaints. \nCharlie Burr works as a learning and development specialist for the agency’s Employer Assistance Program\, where he helps businesses large and small navigate frequently complex workplace requirements. Previously\, Burr served as BOLI’s public information officer for five years\, providing communications support for the agency’s legislative agenda and enforcement initiatives. Burr lives in northeast Portland with his wife Libby\, daughters Marigny and Shelby\, and dog Diamond. \nCost:  $25 for SHRM members; $30 for guests. Lunch provided. \nRegister Here: New laws and workplace protections: What employers need to know Tickets\, Wed\, Jun 4\, 2025 at 12:00 PM | Eventbrite
URL:https://tillamookchamber.org/event/new-laws-and-workplace-protections-what-employers-need-to-know/
LOCATION:Lovell Room\, Fort George Brewery\, 1483 Duane St\, Astoria\, OR 97103
CATEGORIES:Business,Classes and Workshops,Education
ATTACH;FMTTYPE=image/jpeg:https://tillamookchamber.org/wp-content/uploads/2025/05/Burr-headshot.jpg
END:VEVENT
BEGIN:VEVENT
DTSTART;TZID=America/Los_Angeles:20250610T100000
DTEND;TZID=America/Los_Angeles:20250610T150000
DTSTAMP:20260422T203111
CREATED:20241023T224303Z
LAST-MODIFIED:20241023T224303Z
UID:10016564-1749549600-1749567600@tillamookchamber.org
SUMMARY:Tuesday Stitchers
DESCRIPTION:Come and be a part of a community of people who love to make things for others\, and in turn make friends within the group. All levels are welcome. \nJoin us at the Kiawanda Community Center on Tuesdays from 10 AM to 3 PM in the Great Hall. \nFirst Monday every month from 4 to 9 PM. \nCall (503) 965-7900 for more details | $6 admission
URL:https://tillamookchamber.org/event/tuesday-stitchers/2025-06-10/
LOCATION:Kiawanda Community Center\, 34600 Cape Kiwanda Dr\, Pacific City\, OR 97135\, OR\, United States
CATEGORIES:Classes and Workshops,Community
ATTACH;FMTTYPE=image/png:https://tillamookchamber.org/wp-content/uploads/2024/10/Tuesday-Stitchers-Group-Flyer.png
END:VEVENT
BEGIN:VEVENT
DTSTART;TZID=America/Los_Angeles:20250617T100000
DTEND;TZID=America/Los_Angeles:20250617T150000
DTSTAMP:20260422T203111
CREATED:20241023T224303Z
LAST-MODIFIED:20241023T224303Z
UID:10016565-1750154400-1750172400@tillamookchamber.org
SUMMARY:Tuesday Stitchers
DESCRIPTION:Come and be a part of a community of people who love to make things for others\, and in turn make friends within the group. All levels are welcome. \nJoin us at the Kiawanda Community Center on Tuesdays from 10 AM to 3 PM in the Great Hall. \nFirst Monday every month from 4 to 9 PM. \nCall (503) 965-7900 for more details | $6 admission
URL:https://tillamookchamber.org/event/tuesday-stitchers/2025-06-17/
LOCATION:Kiawanda Community Center\, 34600 Cape Kiwanda Dr\, Pacific City\, OR 97135\, OR\, United States
CATEGORIES:Classes and Workshops,Community
ATTACH;FMTTYPE=image/png:https://tillamookchamber.org/wp-content/uploads/2024/10/Tuesday-Stitchers-Group-Flyer.png
END:VEVENT
BEGIN:VEVENT
DTSTART;TZID=America/Los_Angeles:20250618T140000
DTEND;TZID=America/Los_Angeles:20250618T150000
DTSTAMP:20260422T203111
CREATED:20250623T165225Z
LAST-MODIFIED:20250623T165225Z
UID:10022280-1750255200-1750258800@tillamookchamber.org
SUMMARY:Summer Reading Program at Garibaldi Library
DESCRIPTION:
URL:https://tillamookchamber.org/event/summer-reading-program-at-garibaldi-library/2025-06-18/
CATEGORIES:Classes and Workshops,Community,Family Fun
ATTACH;FMTTYPE=image/png:https://tillamookchamber.org/wp-content/uploads/2025/06/Garibaldi-SRP-Schedule.png
END:VEVENT
BEGIN:VEVENT
DTSTART;TZID=America/Los_Angeles:20250620T090000
DTEND;TZID=America/Los_Angeles:20250620T160000
DTSTAMP:20260422T203111
CREATED:20250520T180138Z
LAST-MODIFIED:20250520T180138Z
UID:10021492-1750410000-1750435200@tillamookchamber.org
SUMMARY:Youth Conflict Resolution Class - Train-the-Trainer Course - No-Cost
DESCRIPTION:Youth advocates\, you’re invited to a no-cost\, online Train-the-Trainer!\nConflict and tension does not begin at adulthood; the earlier children learn how to identify\, communicate about\, and resolve conflict\, the more opportunities they will have to thrive. Tillamook Office of Mediation (TOM) and Compass Resolutions LLC have developed a collaborative\, discussion-based curriculum designed to support self awareness and conflict resolution tools to set adolescents up for success. Now\, we would like to offer this no-cost course to people in the community who support and work with youth. \nWe hope you’ll join us for a dynamic\, hands-on Train-the-Trainer session with renowned conflict resolution educator Kat Fahrion! Whether you’re an educator\, counselor\, or youth leader\, this free training will equip you with the tools and curriculum you need to guide young people through a powerful 10-week conflict resolution course. \n Date: Friday\, June 20\, 2025\n Time: 9:00 AM – 4:00 PM (Virtual)\n Location: Online (link provided upon registration)\n Cost: Absolutely FREE! \n Why Attend? \n\n\nLearn directly from Kat Fahrion\, a leader in conflict resolution. \n\n\nGain full access to an engaging and informative 10-week curriculum tailored for middle and high school youth. \n\n\nBuild confidence in facilitating high-impact lessons on empathy\, communication\, and peaceful problem-solving. \n\n\nConnect with fellow youth advocates from across Oregon! \n\n\nReserve your spot today\, as space is limited!\n info@tillamookmediation.org \nLet’s empower the next generation with the skills they need to resolve conflict peacefully. We hope to see you there!
URL:https://tillamookchamber.org/event/youth-conflict-resolution-class-train-the-trainer-course-no-cost/
CATEGORIES:Classes and Workshops,Community,Education
ATTACH;FMTTYPE=image/png:https://tillamookchamber.org/wp-content/uploads/2025/05/Train-the-Trainer-Youth-Con.-Res.-Course-Flyer.png
END:VEVENT
BEGIN:VEVENT
DTSTART;TZID=America/Los_Angeles:20250621T100000
DTEND;TZID=America/Los_Angeles:20250621T150000
DTSTAMP:20260422T203111
CREATED:20250602T171446Z
LAST-MODIFIED:20250602T171446Z
UID:10022026-1750500000-1750518000@tillamookchamber.org
SUMMARY:Class: Bull's Eye Quilt
DESCRIPTION:Instructor: Marie-Lise Best\nDate: June 21\, 2025 (Saturday)\nTime: 10:00 AM – 3:00 PM\nClass Size: Max of 8\nLocation: 2105 Wilson River Loop Road\, Tillamook\, OR 97141\nPrice: $85.00 (Member of Latimer); $90.00 (Non-Member)\nMaterials: A requirement list can be accessed using the button below. \nWhat you’ll learn: Students will learn how to create the Bull’s Eye quilt pattern\, and make the top of the quilt. Students may create any size quilt they wish. The suggestion is to start with 9 blocks\, however students are welcome to add to that size at home. \nTo sign up call\, email or stop in Latimer Quilt & Textile Center to reserve your spot. (503-842-8622 | latimer2105@gmail.com)
URL:https://tillamookchamber.org/event/class-bulls-eye-quilt/
LOCATION:Latimer Quilt & Textile Center\, 2105 Wilson River Loop Road\, OR\, United States
CATEGORIES:Arts and Culture,Classes and Workshops
END:VEVENT
BEGIN:VEVENT
DTSTART;TZID=America/Los_Angeles:20250624T100000
DTEND;TZID=America/Los_Angeles:20250624T150000
DTSTAMP:20260422T203111
CREATED:20241023T224303Z
LAST-MODIFIED:20241023T224303Z
UID:10016566-1750759200-1750777200@tillamookchamber.org
SUMMARY:Tuesday Stitchers
DESCRIPTION:Come and be a part of a community of people who love to make things for others\, and in turn make friends within the group. All levels are welcome. \nJoin us at the Kiawanda Community Center on Tuesdays from 10 AM to 3 PM in the Great Hall. \nFirst Monday every month from 4 to 9 PM. \nCall (503) 965-7900 for more details | $6 admission
URL:https://tillamookchamber.org/event/tuesday-stitchers/2025-06-24/
LOCATION:Kiawanda Community Center\, 34600 Cape Kiwanda Dr\, Pacific City\, OR 97135\, OR\, United States
CATEGORIES:Classes and Workshops,Community
ATTACH;FMTTYPE=image/png:https://tillamookchamber.org/wp-content/uploads/2024/10/Tuesday-Stitchers-Group-Flyer.png
END:VEVENT
END:VCALENDAR